BEGIN:VCALENDAR
VERSION:2.0
PRODID:-//Unitarian Universalists of the Cumberland Valley - ECPv6.15.20//NONSGML v1.0//EN
CALSCALE:GREGORIAN
METHOD:PUBLISH
X-ORIGINAL-URL:https://uucv.org
X-WR-CALDESC:Events for Unitarian Universalists of the Cumberland Valley
REFRESH-INTERVAL;VALUE=DURATION:PT1H
X-Robots-Tag:noindex
X-PUBLISHED-TTL:PT1H
BEGIN:VTIMEZONE
TZID:America/New_York
BEGIN:DAYLIGHT
TZOFFSETFROM:-0500
TZOFFSETTO:-0400
TZNAME:EDT
DTSTART:20190310T070000
END:DAYLIGHT
BEGIN:STANDARD
TZOFFSETFROM:-0400
TZOFFSETTO:-0500
TZNAME:EST
DTSTART:20191103T060000
END:STANDARD
BEGIN:DAYLIGHT
TZOFFSETFROM:-0500
TZOFFSETTO:-0400
TZNAME:EDT
DTSTART:20200308T070000
END:DAYLIGHT
BEGIN:STANDARD
TZOFFSETFROM:-0400
TZOFFSETTO:-0500
TZNAME:EST
DTSTART:20201101T060000
END:STANDARD
BEGIN:DAYLIGHT
TZOFFSETFROM:-0500
TZOFFSETTO:-0400
TZNAME:EDT
DTSTART:20210314T070000
END:DAYLIGHT
BEGIN:STANDARD
TZOFFSETFROM:-0400
TZOFFSETTO:-0500
TZNAME:EST
DTSTART:20211107T060000
END:STANDARD
END:VTIMEZONE
BEGIN:VEVENT
DTSTART;TZID=America/New_York:20201101T140000
DTEND;TZID=America/New_York:20201101T140000
DTSTAMP:20260420T182250
CREATED:20200917T131634Z
LAST-MODIFIED:20200917T131634Z
UID:10012816-1604239200-1604239200@uucv.org
SUMMARY:New Member Class ZOOM
DESCRIPTION:
URL:https://uucv.org/event/new-member-class-zoom-3/
LOCATION:ZOOM
ORGANIZER;CN="Rev Aija Simpson":MAILTO: revaija@qmf.309.myftpupload.com
END:VEVENT
BEGIN:VEVENT
DTSTART;TZID=America/New_York:20200920T120000
DTEND;TZID=America/New_York:20200920T130000
DTSTAMP:20260420T182250
CREATED:20200915T153122Z
LAST-MODIFIED:20200915T153240Z
UID:10012813-1600603200-1600606800@uucv.org
SUMMARY:Town Hall
DESCRIPTION:
URL:https://uucv.org/event/town-hall-2/
LOCATION:ZOOM
CATEGORIES:Flag for Newsletter
END:VEVENT
END:VCALENDAR