BEGIN:VCALENDAR
VERSION:2.0
PRODID:-//Unitarian Universalists of the Cumberland Valley - ECPv6.15.20//NONSGML v1.0//EN
CALSCALE:GREGORIAN
METHOD:PUBLISH
X-ORIGINAL-URL:https://uucv.org
X-WR-CALDESC:Events for Unitarian Universalists of the Cumberland Valley
REFRESH-INTERVAL;VALUE=DURATION:PT1H
X-Robots-Tag:noindex
X-PUBLISHED-TTL:PT1H
BEGIN:VTIMEZONE
TZID:America/New_York
BEGIN:DAYLIGHT
TZOFFSETFROM:-0500
TZOFFSETTO:-0400
TZNAME:EDT
DTSTART:20150308T070000
END:DAYLIGHT
BEGIN:STANDARD
TZOFFSETFROM:-0400
TZOFFSETTO:-0500
TZNAME:EST
DTSTART:20151101T060000
END:STANDARD
BEGIN:DAYLIGHT
TZOFFSETFROM:-0500
TZOFFSETTO:-0400
TZNAME:EDT
DTSTART:20160313T070000
END:DAYLIGHT
BEGIN:STANDARD
TZOFFSETFROM:-0400
TZOFFSETTO:-0500
TZNAME:EST
DTSTART:20161106T060000
END:STANDARD
BEGIN:DAYLIGHT
TZOFFSETFROM:-0500
TZOFFSETTO:-0400
TZNAME:EDT
DTSTART:20170312T070000
END:DAYLIGHT
BEGIN:STANDARD
TZOFFSETFROM:-0400
TZOFFSETTO:-0500
TZNAME:EST
DTSTART:20171105T060000
END:STANDARD
END:VTIMEZONE
BEGIN:VEVENT
DTSTART;TZID=America/New_York:20160730T110000
DTEND;TZID=America/New_York:20160730T180000
DTSTAMP:20260420T002728
CREATED:20160606T161547Z
LAST-MODIFIED:20160712T170545Z
UID:10007098-1469876400-1469901600@uucv.org
SUMMARY:Pride Fest
DESCRIPTION:Show your support for the local LGBT community by volunteering an hour or two at the Harrisburg PRIDE Festival.  Volunteers are needed at the UUCV information table and to serve as Silent Witness Peacekeepers.  Note: training will be provided for anyone who wants to volunteer as a Peacekeeper.  Signup sheets will be available at the Social Justice table beginning June 12th.
URL:https://uucv.org/event/pride-fest/
LOCATION:Pride Fest\, Riverfront Park\, Harrisburg\, PA\, United States
CATEGORIES:Community,Flag for Newsletter,Social Justice Activities,Social Justice Committee
ORGANIZER;CN="Rev Aija Simpson":MAILTO: revaija@qmf.309.myftpupload.com
END:VEVENT
END:VCALENDAR