BEGIN:VCALENDAR
VERSION:2.0
PRODID:-//Unitarian Universalists of the Cumberland Valley - ECPv6.15.20//NONSGML v1.0//EN
CALSCALE:GREGORIAN
METHOD:PUBLISH
X-ORIGINAL-URL:https://uucv.org
X-WR-CALDESC:Events for Unitarian Universalists of the Cumberland Valley
REFRESH-INTERVAL;VALUE=DURATION:PT1H
X-Robots-Tag:noindex
X-PUBLISHED-TTL:PT1H
BEGIN:VTIMEZONE
TZID:America/New_York
BEGIN:DAYLIGHT
TZOFFSETFROM:-0500
TZOFFSETTO:-0400
TZNAME:EDT
DTSTART:20150308T070000
END:DAYLIGHT
BEGIN:STANDARD
TZOFFSETFROM:-0400
TZOFFSETTO:-0500
TZNAME:EST
DTSTART:20151101T060000
END:STANDARD
BEGIN:DAYLIGHT
TZOFFSETFROM:-0500
TZOFFSETTO:-0400
TZNAME:EDT
DTSTART:20160313T070000
END:DAYLIGHT
BEGIN:STANDARD
TZOFFSETFROM:-0400
TZOFFSETTO:-0500
TZNAME:EST
DTSTART:20161106T060000
END:STANDARD
BEGIN:DAYLIGHT
TZOFFSETFROM:-0500
TZOFFSETTO:-0400
TZNAME:EDT
DTSTART:20170312T070000
END:DAYLIGHT
BEGIN:STANDARD
TZOFFSETFROM:-0400
TZOFFSETTO:-0500
TZNAME:EST
DTSTART:20171105T060000
END:STANDARD
BEGIN:DAYLIGHT
TZOFFSETFROM:-0500
TZOFFSETTO:-0400
TZNAME:EDT
DTSTART:20180311T070000
END:DAYLIGHT
BEGIN:STANDARD
TZOFFSETFROM:-0400
TZOFFSETTO:-0500
TZNAME:EST
DTSTART:20181104T060000
END:STANDARD
END:VTIMEZONE
BEGIN:VEVENT
DTSTART;TZID=America/New_York:20170930T084500
DTEND;TZID=America/New_York:20170930T130000
DTSTAMP:20260420T035414
CREATED:20170823T182953Z
LAST-MODIFIED:20170823T182953Z
UID:10008222-1506761100-1506776400@uucv.org
SUMMARY:National Public Lands Day
DESCRIPTION:
URL:https://uucv.org/event/national-public-lands-day/
LOCATION:Pine Grove Furnace State Park\, 1100 Pine Grove Rd\, Gardners\, PA\, 17324\, United States
CATEGORIES:Community,Flag for Newsletter,Social Justice Activities
ORGANIZER;CN="Cindy Good":MAILTO:cyagood4@gmail.com
END:VEVENT
BEGIN:VEVENT
DTSTART;TZID=America/New_York:20160924T084500
DTEND;TZID=America/New_York:20160924T130000
DTSTAMP:20260420T035414
CREATED:20160809T163311Z
LAST-MODIFIED:20160809T163608Z
UID:10007836-1474706700-1474722000@uucv.org
SUMMARY:National Public Lands Day
DESCRIPTION:
URL:https://uucv.org/event/national-public-lands-day-2/
LOCATION:Pine Grove Furnace State Park\, 1100 Pine Grove Rd\, Gardners\, PA\, 17324\, United States
CATEGORIES:Community,Flag for Newsletter,Social Justice Activities,Social Justice Committee
END:VEVENT
END:VCALENDAR