BEGIN:VCALENDAR
VERSION:2.0
PRODID:-//Unitarian Universalists of the Cumberland Valley - ECPv6.15.20//NONSGML v1.0//EN
CALSCALE:GREGORIAN
METHOD:PUBLISH
X-ORIGINAL-URL:https://uucv.org
X-WR-CALDESC:Events for Unitarian Universalists of the Cumberland Valley
REFRESH-INTERVAL;VALUE=DURATION:PT1H
X-Robots-Tag:noindex
X-PUBLISHED-TTL:PT1H
BEGIN:VTIMEZONE
TZID:America/New_York
BEGIN:DAYLIGHT
TZOFFSETFROM:-0500
TZOFFSETTO:-0400
TZNAME:EDT
DTSTART:20160313T070000
END:DAYLIGHT
BEGIN:STANDARD
TZOFFSETFROM:-0400
TZOFFSETTO:-0500
TZNAME:EST
DTSTART:20161106T060000
END:STANDARD
BEGIN:DAYLIGHT
TZOFFSETFROM:-0500
TZOFFSETTO:-0400
TZNAME:EDT
DTSTART:20170312T070000
END:DAYLIGHT
BEGIN:STANDARD
TZOFFSETFROM:-0400
TZOFFSETTO:-0500
TZNAME:EST
DTSTART:20171105T060000
END:STANDARD
BEGIN:DAYLIGHT
TZOFFSETFROM:-0500
TZOFFSETTO:-0400
TZNAME:EDT
DTSTART:20180311T070000
END:DAYLIGHT
BEGIN:STANDARD
TZOFFSETFROM:-0400
TZOFFSETTO:-0500
TZNAME:EST
DTSTART:20181104T060000
END:STANDARD
END:VTIMEZONE
BEGIN:VEVENT
DTSTART;TZID=America/New_York:20170729T080000
DTEND;TZID=America/New_York:20170729T170000
DTSTAMP:20260420T055733
CREATED:20170428T131730Z
LAST-MODIFIED:20170428T153439Z
UID:10011275-1501315200-1501347600@uucv.org
SUMMARY:Central PA Pride Festival
DESCRIPTION:Central PA Pride Festival in Harrisburg celebrates its 25th year.  We will need volunteers to staff our booth and to serve as Peacekeepers.  More details to follow….
URL:https://uucv.org/event/central-pa-pride-festival/
LOCATION:Harrisburg City Island\, 10 N 2nd St\, Harrisburg\, PA\, 17101\, United States
CATEGORIES:Community,Flag for Newsletter,Social Justice Activities,Social Justice Committee
END:VEVENT
END:VCALENDAR