BEGIN:VCALENDAR
VERSION:2.0
PRODID:-//Unitarian Universalists of the Cumberland Valley - ECPv6.15.20//NONSGML v1.0//EN
CALSCALE:GREGORIAN
METHOD:PUBLISH
X-ORIGINAL-URL:https://uucv.org
X-WR-CALDESC:Events for Unitarian Universalists of the Cumberland Valley
REFRESH-INTERVAL;VALUE=DURATION:PT1H
X-Robots-Tag:noindex
X-PUBLISHED-TTL:PT1H
BEGIN:VTIMEZONE
TZID:America/New_York
BEGIN:DAYLIGHT
TZOFFSETFROM:-0500
TZOFFSETTO:-0400
TZNAME:EDT
DTSTART:20150308T070000
END:DAYLIGHT
BEGIN:STANDARD
TZOFFSETFROM:-0400
TZOFFSETTO:-0500
TZNAME:EST
DTSTART:20151101T060000
END:STANDARD
BEGIN:DAYLIGHT
TZOFFSETFROM:-0500
TZOFFSETTO:-0400
TZNAME:EDT
DTSTART:20160313T070000
END:DAYLIGHT
BEGIN:STANDARD
TZOFFSETFROM:-0400
TZOFFSETTO:-0500
TZNAME:EST
DTSTART:20161106T060000
END:STANDARD
BEGIN:DAYLIGHT
TZOFFSETFROM:-0500
TZOFFSETTO:-0400
TZNAME:EDT
DTSTART:20170312T070000
END:DAYLIGHT
BEGIN:STANDARD
TZOFFSETFROM:-0400
TZOFFSETTO:-0500
TZNAME:EST
DTSTART:20171105T060000
END:STANDARD
END:VTIMEZONE
BEGIN:VEVENT
DTSTART;TZID=America/New_York:20160503T190000
DTEND;TZID=America/New_York:20160503T210000
DTSTAMP:20260419T231230
CREATED:20160318T154037Z
LAST-MODIFIED:20160318T154037Z
UID:10007047-1462302000-1462309200@uucv.org
SUMMARY:Holocaust Remembrance Service (Yom Hashoah)
DESCRIPTION:This event is jointly sponsored by Congregation Beth Tikvah and the Carlisle Area Religious Council on Tuesday\, May 3\, 2016\, 7 P.M at the First Lutheran Church\, Corner of East High and South Bedford Streets (One Block East of the Square)\, Carlisle\, Pa.  David W. Wildermuth\, Shippensburg University Assistant Professor of German and Secretary/Treasurer\, American Friends of the Documentation Center of Austrian Resistance will be the guest speaker.  Anatomy of an Atrocity: German Soldiers and the “Pacification” of Lida in the Holocaust’s “First Hour” with Musical Interludes by Lori Elliott on Flute.
URL:https://uucv.org/event/holocaust-remembrance-service-yom-hashoah/
LOCATION:First Lutheran Church\, East High and South Bedford St\, Carlisle\, 17013
CATEGORIES:Community,Flag for Newsletter
END:VEVENT
END:VCALENDAR