BEGIN:VCALENDAR
VERSION:2.0
PRODID:-//Unitarian Universalists of the Cumberland Valley - ECPv6.15.20//NONSGML v1.0//EN
CALSCALE:GREGORIAN
METHOD:PUBLISH
X-WR-CALNAME:Unitarian Universalists of the Cumberland Valley
X-ORIGINAL-URL:https://uucv.org
X-WR-CALDESC:Events for Unitarian Universalists of the Cumberland Valley
REFRESH-INTERVAL;VALUE=DURATION:PT1H
X-Robots-Tag:noindex
X-PUBLISHED-TTL:PT1H
BEGIN:VTIMEZONE
TZID:America/New_York
BEGIN:DAYLIGHT
TZOFFSETFROM:-0500
TZOFFSETTO:-0400
TZNAME:EDT
DTSTART:20150308T070000
END:DAYLIGHT
BEGIN:STANDARD
TZOFFSETFROM:-0400
TZOFFSETTO:-0500
TZNAME:EST
DTSTART:20151101T060000
END:STANDARD
BEGIN:DAYLIGHT
TZOFFSETFROM:-0500
TZOFFSETTO:-0400
TZNAME:EDT
DTSTART:20160313T070000
END:DAYLIGHT
BEGIN:STANDARD
TZOFFSETFROM:-0400
TZOFFSETTO:-0500
TZNAME:EST
DTSTART:20161106T060000
END:STANDARD
BEGIN:DAYLIGHT
TZOFFSETFROM:-0500
TZOFFSETTO:-0400
TZNAME:EDT
DTSTART:20170312T070000
END:DAYLIGHT
BEGIN:STANDARD
TZOFFSETFROM:-0400
TZOFFSETTO:-0500
TZNAME:EST
DTSTART:20171105T060000
END:STANDARD
END:VTIMEZONE
BEGIN:VEVENT
DTSTART;TZID=America/New_York:20160613T180000
DTEND;TZID=America/New_York:20160613T200000
DTSTAMP:20260419T172353
CREATED:20160504T160105Z
LAST-MODIFIED:20160504T160913Z
UID:10008154-1465840800-1465848000@uucv.org
SUMMARY:Drum Circle - Rescheduled from June 6
DESCRIPTION:Join your community in rhythm! Monday\, June 13 we’re hosting a free\, all levels\, community Drum Circle facilitated by Dani Fiore. A limited number of drums and percussion will be provided but please bring you own if you are able. Didgeridoo? Flute? Bring those\, too! All acoustic instruments welcome! \nParticipation is FREE but a love offering will be gratefully accepted; A portion of which will be donated to UUCV.
URL:https://uucv.org/event/drum-circle-date-change/
LOCATION:Elementary/Middle School Classroom\, 2 Forge Road\, Boiling Springs\, PA\, 17007\, United States
CATEGORIES:Adult Education,Community,Education,Flag for Newsletter
ORGANIZER;CN="Dani Fiore":MAILTO:fiore.dn@gmail.com
END:VEVENT
END:VCALENDAR