BEGIN:VCALENDAR
VERSION:2.0
PRODID:-//Unitarian Universalists of the Cumberland Valley - ECPv6.15.20//NONSGML v1.0//EN
CALSCALE:GREGORIAN
METHOD:PUBLISH
X-WR-CALNAME:Unitarian Universalists of the Cumberland Valley
X-ORIGINAL-URL:https://uucv.org
X-WR-CALDESC:Events for Unitarian Universalists of the Cumberland Valley
REFRESH-INTERVAL;VALUE=DURATION:PT1H
X-Robots-Tag:noindex
X-PUBLISHED-TTL:PT1H
BEGIN:VTIMEZONE
TZID:America/New_York
BEGIN:DAYLIGHT
TZOFFSETFROM:-0500
TZOFFSETTO:-0400
TZNAME:EDT
DTSTART:20150308T070000
END:DAYLIGHT
BEGIN:STANDARD
TZOFFSETFROM:-0400
TZOFFSETTO:-0500
TZNAME:EST
DTSTART:20151101T060000
END:STANDARD
BEGIN:DAYLIGHT
TZOFFSETFROM:-0500
TZOFFSETTO:-0400
TZNAME:EDT
DTSTART:20160313T070000
END:DAYLIGHT
BEGIN:STANDARD
TZOFFSETFROM:-0400
TZOFFSETTO:-0500
TZNAME:EST
DTSTART:20161106T060000
END:STANDARD
BEGIN:DAYLIGHT
TZOFFSETFROM:-0500
TZOFFSETTO:-0400
TZNAME:EDT
DTSTART:20170312T070000
END:DAYLIGHT
BEGIN:STANDARD
TZOFFSETFROM:-0400
TZOFFSETTO:-0500
TZNAME:EST
DTSTART:20171105T060000
END:STANDARD
END:VTIMEZONE
BEGIN:VEVENT
DTSTART;TZID=America/New_York:20160522T090000
DTEND;TZID=America/New_York:20160522T100000
DTSTAMP:20260420T065855
CREATED:20160115T181713Z
LAST-MODIFIED:20160129T165646Z
UID:10007005-1463907600-1463911200@uucv.org
SUMMARY:Hot Topics
DESCRIPTION:Book Discussion: Just Mercy: A Story of Justice and Redemption by Brian Stevenson\nStevenson\, founder of the Equal Justice Initiative\, has dedicated his legal career to defending those who are trapped by an often capricious\, political\, and willfully unjust criminal justice system – poor people\, people of color\, children\, and others over whom the system has run roughshod. Discussion leader Travis Ferrell. \n 
URL:https://uucv.org/event/hot-topics-book-discussion-just-mercy-a-story-of-justice-and-redemption-2016-05-22/
LOCATION:Board Room
CATEGORIES:Adult Education,Education
ATTACH;FMTTYPE=image/jpeg:https://uucv.org/wp-content/uploads/2016/01/Just-Mercy.jpg
ORGANIZER;CN="Brian McPherson":MAILTO:wbmcp@hotmail.com
END:VEVENT
BEGIN:VEVENT
DTSTART;TZID=America/New_York:20160508T090000
DTEND;TZID=America/New_York:20160508T100000
DTSTAMP:20260420T065855
CREATED:20160115T181713Z
LAST-MODIFIED:20160129T165336Z
UID:10007004-1462698000-1462701600@uucv.org
SUMMARY:Hot Topics
DESCRIPTION:Book Discussion: Just Mercy: A Story of Justice and Redemption by Bryan Stevenson\nStevenson\, founder of the Equal Justice Initiative\, has dedicated his legal career to defending those who are trapped by an often capricious\, political\, and willfully unjust criminal justice system – poor people\, people of color\, children\, and others over whom the system has run roughshod. Discussion leader Travis Ferrell.
URL:https://uucv.org/event/hot-topics-book-discussion-just-mercy-a-story-of-justice-and-redemption/
LOCATION:Board Room
CATEGORIES:Adult Education,Education
ATTACH;FMTTYPE=image/jpeg:https://uucv.org/wp-content/uploads/2016/01/Just-Mercy.jpg
ORGANIZER;CN="Brian McPherson":MAILTO:wbmcp@hotmail.com
END:VEVENT
BEGIN:VEVENT
DTSTART;TZID=America/New_York:20160424T090000
DTEND;TZID=America/New_York:20160424T100000
DTSTAMP:20260420T065855
CREATED:20160115T181406Z
LAST-MODIFIED:20160129T165125Z
UID:10007003-1461488400-1461492000@uucv.org
SUMMARY:Hot Topics
DESCRIPTION:Book Discussion: Twelve Steps to Compassion by Karen Armstrong\nKaren Armstrong is a British author and commentator known for her books on comparative religion. In addition to the book we will draw from other resources in the news and will discuss issues that we all bring for consideration. Anne Gero will lead the discussion.
URL:https://uucv.org/event/hot-topics-book-discussion-twelve-steps-to-compassion-2016-04-24/
LOCATION:Board Room
CATEGORIES:Adult Education,Education
ATTACH;FMTTYPE=image/jpeg:https://uucv.org/wp-content/uploads/2016/01/twelve-steps_.jpg
ORGANIZER;CN="Brian McPherson":MAILTO:wbmcp@hotmail.com
END:VEVENT
BEGIN:VEVENT
DTSTART;TZID=America/New_York:20160417T090000
DTEND;TZID=America/New_York:20160417T221500
DTSTAMP:20260420T065855
CREATED:20160411T133321Z
LAST-MODIFIED:20160411T133810Z
UID:10008023-1460883600-1460931300@uucv.org
SUMMARY:Groundswell Rising
DESCRIPTION:
URL:https://uucv.org/event/groundswell-rising-3/
LOCATION:Board Room
CATEGORIES:Adult Education,Community,Education,Flag for Newsletter,Social Justice Activities,Social Justice Committee
ORGANIZER;CN="Cindy Good":MAILTO:cyagood4@gmail.com
END:VEVENT
BEGIN:VEVENT
DTSTART;TZID=America/New_York:20160410T090000
DTEND;TZID=America/New_York:20160410T100000
DTSTAMP:20260420T065855
CREATED:20160115T181406Z
LAST-MODIFIED:20160129T165151Z
UID:10007002-1460278800-1460282400@uucv.org
SUMMARY:Hot Topics
DESCRIPTION:Book Discussion: Twelve Steps to Compassion by Karen Armstrong\nKaren Armstrong is a British author and commentator known for her books on comparative religion. In addition to the book we will draw from other resources in the news and will discuss issues that we all bring for consideration. Anne Gero will lead the discussion.
URL:https://uucv.org/event/hot-topics-book-discussion-twelve-steps-to-compassion/
LOCATION:Board Room
CATEGORIES:Adult Education,Education
ATTACH;FMTTYPE=image/jpeg:https://uucv.org/wp-content/uploads/2016/01/twelve-steps_.jpg
ORGANIZER;CN="Brian McPherson":MAILTO:wbmcp@hotmail.com
END:VEVENT
BEGIN:VEVENT
DTSTART;TZID=America/New_York:20160410T090000
DTEND;TZID=America/New_York:20160410T100000
DTSTAMP:20260420T065855
CREATED:20160115T180956Z
LAST-MODIFIED:20160129T165900Z
UID:10007821-1460278800-1460282400@uucv.org
SUMMARY:Hot Topics
DESCRIPTION:Panel Discussion: Muslims on the Inside\nCome participate in getting to better know some of our neighbors from the Muslim community. Help find out how UUCV can play a part in generating better relations with followers of Islam. Katie MacFarland will moderate.
URL:https://uucv.org/event/hot-topics-panel-discussion-muslims-on-the-inside-2016-03-27/2016-04-10/
LOCATION:Board Room
CATEGORIES:Adult Education,Education
ORGANIZER;CN="Brian McPherson":MAILTO:wbmcp@hotmail.com
END:VEVENT
BEGIN:VEVENT
DTSTART;TZID=America/New_York:20160313T090000
DTEND;TZID=America/New_York:20160313T100000
DTSTAMP:20260420T065856
CREATED:20160115T180956Z
LAST-MODIFIED:20160129T165907Z
UID:10007819-1457859600-1457863200@uucv.org
SUMMARY:Hot Topics
DESCRIPTION:Panel Discussion: Muslims: On the Inside\nCome participate in getting to better know some of our neighbors from the Muslim community. Help find out how UUCV can play a part in generating better relations with followers of Islam. Katie MacFarland will moderate.
URL:https://uucv.org/event/hot-topics-panel-discussion-muslims-on-the-inside/
LOCATION:Board Room
CATEGORIES:Adult Education,Education
ORGANIZER;CN="Brian McPherson":MAILTO:wbmcp@hotmail.com
END:VEVENT
BEGIN:VEVENT
DTSTART;TZID=America/New_York:20160228T090000
DTEND;TZID=America/New_York:20160228T100000
DTSTAMP:20260420T065856
CREATED:20160115T180804Z
LAST-MODIFIED:20160129T170559Z
UID:10007818-1456650000-1456653600@uucv.org
SUMMARY:Hot Topics
DESCRIPTION:Book discussion: Enabling Acts: The Hidden Story of How the Americans with Disabilities Act Gave the Largest US Minority Its Rights by Lennard Davis\nDavis\, an expert in disability rights will be speaking at Dickinson College on Wednesday evening\, Feb 10. Listen to Davis speak on Wednesday and join the conversation on Sunday. Amy Farrell\, Executive Director\, Clarke Forum for Contemporary Issues at Dickinson will lead the discussion.
URL:https://uucv.org/event/hot-topics-book-discussion-enabling-acts-the-hidden-story-of-how-the-americans-with-disabilities-act-gave-the-largest-us-minority-its-rights-2016-02-28/
LOCATION:Board Room
CATEGORIES:Adult Education
ATTACH;FMTTYPE=image/jpeg:https://uucv.org/wp-content/uploads/2016/01/book.jpg
ORGANIZER;CN="Brian McPherson":MAILTO:wbmcp@hotmail.com
END:VEVENT
BEGIN:VEVENT
DTSTART;TZID=America/New_York:20160214T090000
DTEND;TZID=America/New_York:20160214T100000
DTSTAMP:20260420T065856
CREATED:20160115T180804Z
LAST-MODIFIED:20160129T170500Z
UID:10007817-1455440400-1455444000@uucv.org
SUMMARY:Hot Topics
DESCRIPTION:Book discussion: Enabling Acts: The Hidden Story of How the Americans with Disabilities Act Gave the Largest US Minority Its Rights by Lennard Davis\nDavis\, an expert in disability rights will be speaking at Dickinson College on Wednesday evening\, Feb 10. Listen to Davis speak on Wednesday and join the conversation on Sunday. Amy Farrell\, Executive Director\, Clarke Forum for Contemporary Issues at Dickinson will lead the discussion.
URL:https://uucv.org/event/hot-topics-book-discussion-enabling-acts-the-hidden-story-of-how-the-americans-with-disabilities-act-gave-the-largest-us-minority-its-rights/
LOCATION:Board Room
CATEGORIES:Adult Education
ATTACH;FMTTYPE=image/jpeg:https://uucv.org/wp-content/uploads/2016/01/book.jpg
ORGANIZER;CN="Brian McPherson":MAILTO:wbmcp@hotmail.com
END:VEVENT
END:VCALENDAR