BEGIN:VCALENDAR
VERSION:2.0
PRODID:-//Unitarian Universalists of the Cumberland Valley - ECPv6.15.20//NONSGML v1.0//EN
CALSCALE:GREGORIAN
METHOD:PUBLISH
X-ORIGINAL-URL:https://uucv.org
X-WR-CALDESC:Events for Unitarian Universalists of the Cumberland Valley
REFRESH-INTERVAL;VALUE=DURATION:PT1H
X-Robots-Tag:noindex
X-PUBLISHED-TTL:PT1H
BEGIN:VTIMEZONE
TZID:America/New_York
BEGIN:DAYLIGHT
TZOFFSETFROM:-0500
TZOFFSETTO:-0400
TZNAME:EDT
DTSTART:20150308T070000
END:DAYLIGHT
BEGIN:STANDARD
TZOFFSETFROM:-0400
TZOFFSETTO:-0500
TZNAME:EST
DTSTART:20151101T060000
END:STANDARD
BEGIN:DAYLIGHT
TZOFFSETFROM:-0500
TZOFFSETTO:-0400
TZNAME:EDT
DTSTART:20160313T070000
END:DAYLIGHT
BEGIN:STANDARD
TZOFFSETFROM:-0400
TZOFFSETTO:-0500
TZNAME:EST
DTSTART:20161106T060000
END:STANDARD
BEGIN:DAYLIGHT
TZOFFSETFROM:-0500
TZOFFSETTO:-0400
TZNAME:EDT
DTSTART:20170312T070000
END:DAYLIGHT
BEGIN:STANDARD
TZOFFSETFROM:-0400
TZOFFSETTO:-0500
TZNAME:EST
DTSTART:20171105T060000
END:STANDARD
END:VTIMEZONE
BEGIN:VEVENT
DTSTART;TZID=America/New_York:20160228T183000
DTEND;TZID=America/New_York:20160228T200000
DTSTAMP:20260419T205006
CREATED:20160127T155307Z
LAST-MODIFIED:20160129T162657Z
UID:10007008-1456684200-1456689600@uucv.org
SUMMARY:UUCV Book Group
DESCRIPTION:Book Group:  Perelandra by C. S. Lewis  This is the second book in Lewis’ Cosmic Trilogy. The story\, also published as Voyage to Venus depicts the character\, Dr. Ransom\, against the most destructive of human weaknesses\, temptation.  Whether you agree or disagree with Lewis\, his style and the eloquence of his story telling demand attention and a response. This will be a very lively and fun discussion.  Questions: Please contact Richard Bronakoski at richbro@ix.netcom.com.
URL:https://uucv.org/event/uucv-book-group-2/
LOCATION:YUUth Room
CATEGORIES:Adult Education,SGM
ATTACH;FMTTYPE=image/jpeg:https://uucv.org/wp-content/uploads/2016/01/Perelandra_.jpg
ORGANIZER;CN="Rich Bronakoski":MAILTO:richardbronakoski@gmail.com
END:VEVENT
END:VCALENDAR