BEGIN:VCALENDAR
VERSION:2.0
PRODID:-//Unitarian Universalists of the Cumberland Valley - ECPv6.15.20//NONSGML v1.0//EN
CALSCALE:GREGORIAN
METHOD:PUBLISH
X-ORIGINAL-URL:https://uucv.org
X-WR-CALDESC:Events for Unitarian Universalists of the Cumberland Valley
REFRESH-INTERVAL;VALUE=DURATION:PT1H
X-Robots-Tag:noindex
X-PUBLISHED-TTL:PT1H
BEGIN:VTIMEZONE
TZID:America/New_York
BEGIN:DAYLIGHT
TZOFFSETFROM:-0500
TZOFFSETTO:-0400
TZNAME:EDT
DTSTART:20160313T070000
END:DAYLIGHT
BEGIN:STANDARD
TZOFFSETFROM:-0400
TZOFFSETTO:-0500
TZNAME:EST
DTSTART:20161106T060000
END:STANDARD
BEGIN:DAYLIGHT
TZOFFSETFROM:-0500
TZOFFSETTO:-0400
TZNAME:EDT
DTSTART:20170312T070000
END:DAYLIGHT
BEGIN:STANDARD
TZOFFSETFROM:-0400
TZOFFSETTO:-0500
TZNAME:EST
DTSTART:20171105T060000
END:STANDARD
BEGIN:DAYLIGHT
TZOFFSETFROM:-0500
TZOFFSETTO:-0400
TZNAME:EDT
DTSTART:20180311T070000
END:DAYLIGHT
BEGIN:STANDARD
TZOFFSETFROM:-0400
TZOFFSETTO:-0500
TZNAME:EST
DTSTART:20181104T060000
END:STANDARD
END:VTIMEZONE
BEGIN:VEVENT
DTSTART;TZID=America/New_York:20171217T103000
DTEND;TZID=America/New_York:20171217T113000
DTSTAMP:20260420T022314
CREATED:20171002T131248Z
LAST-MODIFIED:20171005T155041Z
UID:10011498-1513506600-1513510200@uucv.org
SUMMARY:Yuuth Group Meeting
DESCRIPTION:
URL:https://uucv.org/event/yuuth-group-meeting/2017-12-17/
LOCATION:YUUth Room
CATEGORIES:Flag for Newsletter,K-12 Religious Education
ORGANIZER;CN="Mary Lynn Lynch":MAILTO:marylynn_lynch@yahoo.com
END:VEVENT
BEGIN:VEVENT
DTSTART;TZID=America/New_York:20171028T073000
DTEND;TZID=America/New_York:20171028T130000
DTSTAMP:20260420T022314
CREATED:20171012T153403Z
LAST-MODIFIED:20171012T153403Z
UID:10011527-1509175800-1509195600@uucv.org
SUMMARY:Yuuth Breakfast at Common Ground Cafe
DESCRIPTION:
URL:https://uucv.org/event/yuuth-breakfast-at-common-ground-cafe/
LOCATION:Common Ground Cafe\, Harrisburg\, PA\, United States
CATEGORIES:Flag for Newsletter
ORGANIZER;CN="Mary Lynn Lynch":MAILTO:marylynn_lynch@yahoo.com
END:VEVENT
BEGIN:VEVENT
DTSTART;TZID=America/New_York:20171021T180000
DTEND;TZID=America/New_York:20171022T233000
DTSTAMP:20260420T022314
CREATED:20171012T153154Z
LAST-MODIFIED:20171012T153154Z
UID:10011526-1508608800-1508715000@uucv.org
SUMMARY:Yuuth Sleepover
DESCRIPTION:
URL:https://uucv.org/event/yuuth-sleepover/
LOCATION:YUUth Room
CATEGORIES:Flag for Newsletter,K-12 Religious Education
ORGANIZER;CN="Mary Lynn Lynch":MAILTO:marylynn_lynch@yahoo.com
END:VEVENT
BEGIN:VEVENT
DTSTART;TZID=America/New_York:20171021T170000
DTEND;TZID=America/New_York:20171022T113000
DTSTAMP:20260420T022314
CREATED:20171005T154949Z
LAST-MODIFIED:20171005T154949Z
UID:10011524-1508605200-1508671800@uucv.org
SUMMARY:Yuuth Group Sleepover
DESCRIPTION:
URL:https://uucv.org/event/yuuth-group-sleepover/
LOCATION:YUUth Room
CATEGORIES:Flag for Newsletter,K-12 Religious Education
ORGANIZER;CN="Mary Lynn Lynch":MAILTO:marylynn_lynch@yahoo.com
END:VEVENT
END:VCALENDAR