BEGIN:VCALENDAR
VERSION:2.0
PRODID:-//Unitarian Universalists of the Cumberland Valley - ECPv6.15.20//NONSGML v1.0//EN
CALSCALE:GREGORIAN
METHOD:PUBLISH
X-WR-CALNAME:Unitarian Universalists of the Cumberland Valley
X-ORIGINAL-URL:https://uucv.org
X-WR-CALDESC:Events for Unitarian Universalists of the Cumberland Valley
REFRESH-INTERVAL;VALUE=DURATION:PT1H
X-Robots-Tag:noindex
X-PUBLISHED-TTL:PT1H
BEGIN:VTIMEZONE
TZID:America/New_York
BEGIN:DAYLIGHT
TZOFFSETFROM:-0500
TZOFFSETTO:-0400
TZNAME:EDT
DTSTART:20150308T070000
END:DAYLIGHT
BEGIN:STANDARD
TZOFFSETFROM:-0400
TZOFFSETTO:-0500
TZNAME:EST
DTSTART:20151101T060000
END:STANDARD
BEGIN:DAYLIGHT
TZOFFSETFROM:-0500
TZOFFSETTO:-0400
TZNAME:EDT
DTSTART:20160313T070000
END:DAYLIGHT
BEGIN:STANDARD
TZOFFSETFROM:-0400
TZOFFSETTO:-0500
TZNAME:EST
DTSTART:20161106T060000
END:STANDARD
BEGIN:DAYLIGHT
TZOFFSETFROM:-0500
TZOFFSETTO:-0400
TZNAME:EDT
DTSTART:20170312T070000
END:DAYLIGHT
BEGIN:STANDARD
TZOFFSETFROM:-0400
TZOFFSETTO:-0500
TZNAME:EST
DTSTART:20171105T060000
END:STANDARD
END:VTIMEZONE
BEGIN:VEVENT
DTSTART;TZID=America/New_York:20160507T183000
DTEND;TZID=America/New_York:20160507T210000
DTSTAMP:20260419T123222
CREATED:20160212T154136Z
LAST-MODIFIED:20160428T134119Z
UID:10007825-1462645800-1462654800@uucv.org
SUMMARY:Country/Blues Line Dance
DESCRIPTION:Join us for dessert\, snacks\, drinks and some basic line dance lessons.  Learn the stroll\, electric slide\, 16-step\, waltz\, two step cruisin’ and others.  We will meet in the social hall at the church.  Have some fun and dance a little!!  Hosted by Rich  and Muriel Bronakoski
URL:https://uucv.org/event/auction-countryblues-line-dance/
LOCATION:UUCV Meeting House\, 2 Forge Road\, Boiling Springs\, 17007\, United States
CATEGORIES:Flag for Newsletter,Open Auction Events
ORGANIZER;CN="Rich Bronakoski":MAILTO:richardbronakoski@gmail.com
END:VEVENT
END:VCALENDAR