BEGIN:VCALENDAR
VERSION:2.0
PRODID:-//Unitarian Universalists of the Cumberland Valley - ECPv6.15.20//NONSGML v1.0//EN
CALSCALE:GREGORIAN
METHOD:PUBLISH
X-ORIGINAL-URL:https://uucv.org
X-WR-CALDESC:Events for Unitarian Universalists of the Cumberland Valley
REFRESH-INTERVAL;VALUE=DURATION:PT1H
X-Robots-Tag:noindex
X-PUBLISHED-TTL:PT1H
BEGIN:VTIMEZONE
TZID:America/New_York
BEGIN:DAYLIGHT
TZOFFSETFROM:-0500
TZOFFSETTO:-0400
TZNAME:EDT
DTSTART:20150308T070000
END:DAYLIGHT
BEGIN:STANDARD
TZOFFSETFROM:-0400
TZOFFSETTO:-0500
TZNAME:EST
DTSTART:20151101T060000
END:STANDARD
BEGIN:DAYLIGHT
TZOFFSETFROM:-0500
TZOFFSETTO:-0400
TZNAME:EDT
DTSTART:20160313T070000
END:DAYLIGHT
BEGIN:STANDARD
TZOFFSETFROM:-0400
TZOFFSETTO:-0500
TZNAME:EST
DTSTART:20161106T060000
END:STANDARD
BEGIN:DAYLIGHT
TZOFFSETFROM:-0500
TZOFFSETTO:-0400
TZNAME:EDT
DTSTART:20170312T070000
END:DAYLIGHT
BEGIN:STANDARD
TZOFFSETFROM:-0400
TZOFFSETTO:-0500
TZNAME:EST
DTSTART:20171105T060000
END:STANDARD
END:VTIMEZONE
BEGIN:VEVENT
DTSTART;TZID=America/New_York:20160306T103000
DTEND;TZID=America/New_York:20160306T113000
DTSTAMP:20260421T082236
CREATED:20160222T181746Z
LAST-MODIFIED:20160223T133616Z
UID:10008010-1457260200-1457263800@uucv.org
SUMMARY:Worship: "Love and Justice: Universalist Heritage"
DESCRIPTION: Rev. Kathy Ellis serves the remaining Universalist heritage congregation in Philadelphia. She will share some Pennsylvania Universalist history and discuss why it still matters today.
URL:https://uucv.org/event/love-and-justice-universalist-heritage/
LOCATION:Social Hall\, PA\, United States
CATEGORIES:Flag for Newsletter,Worship
ORGANIZER;CN="Kathy Ellis":MAILTO:elliskl@comcast.net
END:VEVENT
END:VCALENDAR