BEGIN:VCALENDAR
VERSION:2.0
PRODID:-//Unitarian Universalists of the Cumberland Valley - ECPv6.15.20//NONSGML v1.0//EN
CALSCALE:GREGORIAN
METHOD:PUBLISH
X-ORIGINAL-URL:https://uucv.org
X-WR-CALDESC:Events for Unitarian Universalists of the Cumberland Valley
REFRESH-INTERVAL;VALUE=DURATION:PT1H
X-Robots-Tag:noindex
X-PUBLISHED-TTL:PT1H
BEGIN:VTIMEZONE
TZID:America/New_York
BEGIN:DAYLIGHT
TZOFFSETFROM:-0500
TZOFFSETTO:-0400
TZNAME:EDT
DTSTART:20150308T070000
END:DAYLIGHT
BEGIN:STANDARD
TZOFFSETFROM:-0400
TZOFFSETTO:-0500
TZNAME:EST
DTSTART:20151101T060000
END:STANDARD
BEGIN:DAYLIGHT
TZOFFSETFROM:-0500
TZOFFSETTO:-0400
TZNAME:EDT
DTSTART:20160313T070000
END:DAYLIGHT
BEGIN:STANDARD
TZOFFSETFROM:-0400
TZOFFSETTO:-0500
TZNAME:EST
DTSTART:20161106T060000
END:STANDARD
BEGIN:DAYLIGHT
TZOFFSETFROM:-0500
TZOFFSETTO:-0400
TZNAME:EDT
DTSTART:20170312T070000
END:DAYLIGHT
BEGIN:STANDARD
TZOFFSETFROM:-0400
TZOFFSETTO:-0500
TZNAME:EST
DTSTART:20171105T060000
END:STANDARD
END:VTIMEZONE
BEGIN:VEVENT
DTSTART;TZID=America/New_York:20161211T103000
DTEND;TZID=America/New_York:20161211T113000
DTSTAMP:20260419T192226
CREATED:20161129T163934Z
LAST-MODIFIED:20161129T163934Z
UID:10008309-1481452200-1481455800@uucv.org
SUMMARY:Worship: “Faith’s Power”
DESCRIPTION:As we prepare for the season of festivals of light\, we explore the Hanukkah story and the quest for religious freedom.  Julie Ham is service leader.
URL:https://uucv.org/event/worship-faiths-power/
LOCATION:Social Hall\, PA\, United States
CATEGORIES:Flag for Newsletter,Worship
ORGANIZER;CN="Julie Ham":MAILTO:jlham1959@gmail.com
END:VEVENT
BEGIN:VEVENT
DTSTART;TZID=America/New_York:20160709T190000
DTEND;TZID=America/New_York:20160709T220000
DTSTAMP:20260419T192226
CREATED:20160212T150241Z
LAST-MODIFIED:20160524T165534Z
UID:10007010-1468090800-1468101600@uucv.org
SUMMARY:Cranium Party
DESCRIPTION:Gather to play Cranium at the home of Julie Ham.  It’s a creative team game of trivia\, charades\, pictogram and other activities.  Contact Julie jlham1959@gmail.com
URL:https://uucv.org/event/cranium-party/
LOCATION:Member’s Home\,  \,  \, PA
CATEGORIES:Community,Flag for Newsletter,Open Auction Events
ORGANIZER;CN="Julie Ham":MAILTO:jlham1959@gmail.com
END:VEVENT
BEGIN:VEVENT
DTSTART;TZID=America/New_York:20160626T103000
DTEND;TZID=America/New_York:20160626T113000
DTSTAMP:20260419T192226
CREATED:20160613T154109Z
LAST-MODIFIED:20160613T154447Z
UID:10007102-1466937000-1466940600@uucv.org
SUMMARY:Worship: "Religion and Science: Partners in Faith"
DESCRIPTION:
URL:https://uucv.org/event/worship-religion-and-science-partners-in-faith/
LOCATION:Social Hall\, PA\, United States
CATEGORIES:Flag for Newsletter,Worship
ORGANIZER;CN="Julie Ham":MAILTO:jlham1959@gmail.com
END:VEVENT
BEGIN:VEVENT
DTSTART;TZID=America/New_York:20160529T103000
DTEND;TZID=America/New_York:20160529T113000
DTSTAMP:20260419T192226
CREATED:20160426T170942Z
LAST-MODIFIED:20160427T131707Z
UID:10008036-1464517800-1464521400@uucv.org
SUMMARY:Worship: "Where I Stand and Learn to Fly"
DESCRIPTION:A personal look by service leader\, Julie Ham\, at UUCV and her faith journey on the 20th anniversary of her first visit with worship associate Dot Everhart.
URL:https://uucv.org/event/worship-where-i-stand-and-learn-to-fly/
LOCATION:Social Hall\, PA\, United States
CATEGORIES:Flag for Newsletter,Worship
ORGANIZER;CN="Julie Ham":MAILTO:jlham1959@gmail.com
END:VEVENT
END:VCALENDAR