BEGIN:VCALENDAR
VERSION:2.0
PRODID:-//Unitarian Universalists of the Cumberland Valley - ECPv6.15.20//NONSGML v1.0//EN
CALSCALE:GREGORIAN
METHOD:PUBLISH
X-ORIGINAL-URL:https://uucv.org
X-WR-CALDESC:Events for Unitarian Universalists of the Cumberland Valley
REFRESH-INTERVAL;VALUE=DURATION:PT1H
X-Robots-Tag:noindex
X-PUBLISHED-TTL:PT1H
BEGIN:VTIMEZONE
TZID:America/New_York
BEGIN:DAYLIGHT
TZOFFSETFROM:-0500
TZOFFSETTO:-0400
TZNAME:EDT
DTSTART:20150308T070000
END:DAYLIGHT
BEGIN:STANDARD
TZOFFSETFROM:-0400
TZOFFSETTO:-0500
TZNAME:EST
DTSTART:20151101T060000
END:STANDARD
BEGIN:DAYLIGHT
TZOFFSETFROM:-0500
TZOFFSETTO:-0400
TZNAME:EDT
DTSTART:20160313T070000
END:DAYLIGHT
BEGIN:STANDARD
TZOFFSETFROM:-0400
TZOFFSETTO:-0500
TZNAME:EST
DTSTART:20161106T060000
END:STANDARD
BEGIN:DAYLIGHT
TZOFFSETFROM:-0500
TZOFFSETTO:-0400
TZNAME:EDT
DTSTART:20170312T070000
END:DAYLIGHT
BEGIN:STANDARD
TZOFFSETFROM:-0400
TZOFFSETTO:-0500
TZNAME:EST
DTSTART:20171105T060000
END:STANDARD
END:VTIMEZONE
BEGIN:VEVENT
DTSTART;TZID=America/New_York:20160221T140000
DTEND;TZID=America/New_York:20160221T180000
DTSTAMP:20260420T062049
CREATED:20160217T150207Z
LAST-MODIFIED:20160224T173202Z
UID:10007880-1456063200-1456077600@uucv.org
SUMMARY:There's a Gypsy in Our Midst
DESCRIPTION:Have a unique party experience with Gypsy Ginny.  Ginny Ivanoff  has read palms\, done astrology and worked with tarot cards for over 40 years.  Ginny will discuss concepts with the group and then meet with each person individually.  This event will be hosted by Rita van Alkemade at her home.  Chat with Ginny if you’d like more information.  This event is full but check with the host(s) for a wait list in case of cancellations.
URL:https://uucv.org/event/theres-a-gypsy-in-our-midst/
LOCATION:Member’s Home\,  \,  \, PA
CATEGORIES:Flag for Newsletter,Open Auction Events
ORGANIZER;CN="Ginny Ivanoff":MAILTO:physicscaro@yahoo.com
END:VEVENT
END:VCALENDAR