BEGIN:VCALENDAR
VERSION:2.0
PRODID:-//Unitarian Universalists of the Cumberland Valley - ECPv6.15.20//NONSGML v1.0//EN
CALSCALE:GREGORIAN
METHOD:PUBLISH
X-WR-CALNAME:Unitarian Universalists of the Cumberland Valley
X-ORIGINAL-URL:https://uucv.org
X-WR-CALDESC:Events for Unitarian Universalists of the Cumberland Valley
REFRESH-INTERVAL;VALUE=DURATION:PT1H
X-Robots-Tag:noindex
X-PUBLISHED-TTL:PT1H
BEGIN:VTIMEZONE
TZID:America/New_York
BEGIN:DAYLIGHT
TZOFFSETFROM:-0500
TZOFFSETTO:-0400
TZNAME:EDT
DTSTART:20190310T070000
END:DAYLIGHT
BEGIN:STANDARD
TZOFFSETFROM:-0400
TZOFFSETTO:-0500
TZNAME:EST
DTSTART:20191103T060000
END:STANDARD
BEGIN:DAYLIGHT
TZOFFSETFROM:-0500
TZOFFSETTO:-0400
TZNAME:EDT
DTSTART:20200308T070000
END:DAYLIGHT
BEGIN:STANDARD
TZOFFSETFROM:-0400
TZOFFSETTO:-0500
TZNAME:EST
DTSTART:20201101T060000
END:STANDARD
BEGIN:DAYLIGHT
TZOFFSETFROM:-0500
TZOFFSETTO:-0400
TZNAME:EDT
DTSTART:20210314T070000
END:DAYLIGHT
BEGIN:STANDARD
TZOFFSETFROM:-0400
TZOFFSETTO:-0500
TZNAME:EST
DTSTART:20211107T060000
END:STANDARD
END:VTIMEZONE
BEGIN:VEVENT
DTSTART;TZID=America/New_York:20201105T160000
DTEND;TZID=America/New_York:20201105T170000
DTSTAMP:20260420T030041
CREATED:20201021T151856Z
LAST-MODIFIED:20201021T151856Z
UID:10012831-1604592000-1604595600@uucv.org
SUMMARY:Yappy Hour with Emily and Rev. Aija
DESCRIPTION:
URL:https://uucv.org/event/yappy-hour-with-emily-and-rev-aija/
LOCATION:ZOOM\, PA\, United States
CATEGORIES:Flag for Newsletter
END:VEVENT
BEGIN:VEVENT
DTSTART;TZID=America/New_York:20201103T180000
DTEND;TZID=America/New_York:20201103T183000
DTSTAMP:20260420T030041
CREATED:20201021T151511Z
LAST-MODIFIED:20201021T151511Z
UID:10012828-1604426400-1604428200@uucv.org
SUMMARY:Storytime with Emily "My Vote"
DESCRIPTION:
URL:https://uucv.org/event/storytime-with-emily-my-vote/
LOCATION:ZOOM\, PA\, United States
CATEGORIES:Flag for Newsletter
END:VEVENT
BEGIN:VEVENT
DTSTART;TZID=America/New_York:20201102T173000
DTEND;TZID=America/New_York:20201102T183000
DTSTAMP:20260420T030041
CREATED:20201021T151406Z
LAST-MODIFIED:20201021T151406Z
UID:10012827-1604338200-1604341800@uucv.org
SUMMARY:Happy Hour with Emily and Pam (Movie Trivia Night)
DESCRIPTION:
URL:https://uucv.org/event/happy-hour-with-emily-and-pam-movie-trivia-night/
LOCATION:ZOOM\, PA\, United States
CATEGORIES:Flag for Newsletter
END:VEVENT
END:VCALENDAR