BEGIN:VCALENDAR
VERSION:2.0
PRODID:-//Unitarian Universalists of the Cumberland Valley - ECPv6.15.20//NONSGML v1.0//EN
CALSCALE:GREGORIAN
METHOD:PUBLISH
X-WR-CALNAME:Unitarian Universalists of the Cumberland Valley
X-ORIGINAL-URL:https://uucv.org
X-WR-CALDESC:Events for Unitarian Universalists of the Cumberland Valley
REFRESH-INTERVAL;VALUE=DURATION:PT1H
X-Robots-Tag:noindex
X-PUBLISHED-TTL:PT1H
BEGIN:VTIMEZONE
TZID:America/New_York
BEGIN:DAYLIGHT
TZOFFSETFROM:-0500
TZOFFSETTO:-0400
TZNAME:EDT
DTSTART:20150308T070000
END:DAYLIGHT
BEGIN:STANDARD
TZOFFSETFROM:-0400
TZOFFSETTO:-0500
TZNAME:EST
DTSTART:20151101T060000
END:STANDARD
BEGIN:DAYLIGHT
TZOFFSETFROM:-0500
TZOFFSETTO:-0400
TZNAME:EDT
DTSTART:20160313T070000
END:DAYLIGHT
BEGIN:STANDARD
TZOFFSETFROM:-0400
TZOFFSETTO:-0500
TZNAME:EST
DTSTART:20161106T060000
END:STANDARD
BEGIN:DAYLIGHT
TZOFFSETFROM:-0500
TZOFFSETTO:-0400
TZNAME:EDT
DTSTART:20170312T070000
END:DAYLIGHT
BEGIN:STANDARD
TZOFFSETFROM:-0400
TZOFFSETTO:-0500
TZNAME:EST
DTSTART:20171105T060000
END:STANDARD
BEGIN:DAYLIGHT
TZOFFSETFROM:-0500
TZOFFSETTO:-0400
TZNAME:EDT
DTSTART:20180311T070000
END:DAYLIGHT
BEGIN:STANDARD
TZOFFSETFROM:-0400
TZOFFSETTO:-0500
TZNAME:EST
DTSTART:20181104T060000
END:STANDARD
END:VTIMEZONE
BEGIN:VEVENT
DTSTART;TZID=America/New_York:20170603T080000
DTEND;TZID=America/New_York:20170603T160000
DTSTAMP:20260419T142607
CREATED:20170310T150045Z
LAST-MODIFIED:20170310T150045Z
UID:10011265-1496476800-1496505600@uucv.org
SUMMARY:UUCV Yard Sale
DESCRIPTION:
URL:https://uucv.org/event/uucv-yard-sale-2/
LOCATION:UUCV Meeting House\, 2 Forge Road\, Boiling Springs\, 17007\, United States
CATEGORIES:Community,Flag for Newsletter
ORGANIZER;CN="Ellen Buller":MAILTO:gebuller@verizon.net
END:VEVENT
BEGIN:VEVENT
DTSTART;TZID=America/New_York:20160604T090000
DTEND;TZID=America/New_York:20160604T160000
DTSTAMP:20260419T142607
CREATED:20160503T162339Z
LAST-MODIFIED:20160503T162339Z
UID:10008147-1465030800-1465056000@uucv.org
SUMMARY:UUCV Yard Sale
DESCRIPTION:Spring is in the air – and that means it’s time to get rid of the clutter. But rather than throwing out those unused items\, why not donate it to UUCV? \nBesides making our presence known at the annual Foundry Day Strawberry Booth in Boiling Springs\, we would like to have a garage sale in contrast to the juried Arts and Crafts show held along the Children’s Lake.  It will be a great opportunity for UUCV to reach out to the community. \nGood sellers are most household items\, dishes\, art work\, knock knacks\, gently used toys\, books\, tools\, etc.  If you have items to donate\, please drop them off Sunday May 29th – Friday June 3rd between             8:30 AM and 1:00 PM in the UUCV basement kitchen/dining area.  There is no need to pre price the items.  However\, if you have a “big ticket” or unusual item\, pre pricing would be appreciated. \nNOT  ACCEPTED: No Clothing; No Shoes; No Outdated Electronics; No pets or farm animals! \n  \nNEED: Volunteers needed for . . . \nSet-Up on Friday\, June 3rd (1:00 -5:00 p.m.) \nSet-Up on Saturday\, June 4th (6:00 -8 a.m.) \nYard Sale Workers (8 – 1 p.m. / 1 – 5 p.m.) \nTake down tables & clean-up (4:30 – 6:00 p.m.) \nTruck drivers to haul goods (6:00 p.m.) \n  \nSign-up sheets (for these coveted positions) will be available in the Social Hall on the Volunteer table.  Donation receipts are available upon request. Further questions can be directed to Pam Martin pam@qmf.309.myftpupload.com or 717-249-8944 or to Ellen Bullergebuller@verizon.net or 717-732-7097
URL:https://uucv.org/event/uucv-yard-sale/
LOCATION:UUCV Meeting House\, 2 Forge Road\, Boiling Springs\, 17007\, United States
CATEGORIES:Community,Flag for Newsletter
ORGANIZER;CN="Ellen Buller":MAILTO:gebuller@verizon.net
END:VEVENT
BEGIN:VEVENT
DTSTART;TZID=America/New_York:20160603T083000
DTEND;TZID=America/New_York:20160603T130000
DTSTAMP:20260419T142607
CREATED:20160503T162620Z
LAST-MODIFIED:20160503T163023Z
UID:10008153-1464942600-1464958800@uucv.org
SUMMARY:Yard Sale Drop Off
DESCRIPTION:  \nDrop off your items for the UUCV Yard Sale to be held on June 4. \nGood sellers are most household items\, dishes\, art work\, knock knacks\, gently used toys\, books\, tools\, etc.  If you have items to donate\, drop them off Sunday May 29th – Friday June 3rd between 8:30 AM and 1:00 PM in the UUCV basement kitchen/dining area.  There is no need to pre price the items.  However\, if you have a “big ticket” or unusual item\, pre pricing would be appreciated. \nNOT  ACCEPTED: No Clothing; No Shoes; No Outdated Electronics; No pets or farm animals! \n 
URL:https://uucv.org/event/yard-sale-drop-off/2016-06-03/
LOCATION:UUCV Meeting House\, 2 Forge Road\, Boiling Springs\, 17007\, United States
CATEGORIES:Community,Flag for Newsletter,Service
ORGANIZER;CN="Ellen Buller":MAILTO:gebuller@verizon.net
END:VEVENT
END:VCALENDAR