BEGIN:VCALENDAR
VERSION:2.0
PRODID:-//Unitarian Universalists of the Cumberland Valley - ECPv6.15.20//NONSGML v1.0//EN
CALSCALE:GREGORIAN
METHOD:PUBLISH
X-ORIGINAL-URL:https://uucv.org
X-WR-CALDESC:Events for Unitarian Universalists of the Cumberland Valley
REFRESH-INTERVAL;VALUE=DURATION:PT1H
X-Robots-Tag:noindex
X-PUBLISHED-TTL:PT1H
BEGIN:VTIMEZONE
TZID:America/New_York
BEGIN:DAYLIGHT
TZOFFSETFROM:-0500
TZOFFSETTO:-0400
TZNAME:EDT
DTSTART:20150308T070000
END:DAYLIGHT
BEGIN:STANDARD
TZOFFSETFROM:-0400
TZOFFSETTO:-0500
TZNAME:EST
DTSTART:20151101T060000
END:STANDARD
BEGIN:DAYLIGHT
TZOFFSETFROM:-0500
TZOFFSETTO:-0400
TZNAME:EDT
DTSTART:20160313T070000
END:DAYLIGHT
BEGIN:STANDARD
TZOFFSETFROM:-0400
TZOFFSETTO:-0500
TZNAME:EST
DTSTART:20161106T060000
END:STANDARD
BEGIN:DAYLIGHT
TZOFFSETFROM:-0500
TZOFFSETTO:-0400
TZNAME:EDT
DTSTART:20170312T070000
END:DAYLIGHT
BEGIN:STANDARD
TZOFFSETFROM:-0400
TZOFFSETTO:-0500
TZNAME:EST
DTSTART:20171105T060000
END:STANDARD
BEGIN:DAYLIGHT
TZOFFSETFROM:-0500
TZOFFSETTO:-0400
TZNAME:EDT
DTSTART:20180311T070000
END:DAYLIGHT
BEGIN:STANDARD
TZOFFSETFROM:-0400
TZOFFSETTO:-0500
TZNAME:EST
DTSTART:20181104T060000
END:STANDARD
BEGIN:DAYLIGHT
TZOFFSETFROM:-0500
TZOFFSETTO:-0400
TZNAME:EDT
DTSTART:20190310T070000
END:DAYLIGHT
BEGIN:STANDARD
TZOFFSETFROM:-0400
TZOFFSETTO:-0500
TZNAME:EST
DTSTART:20191103T060000
END:STANDARD
END:VTIMEZONE
BEGIN:VEVENT
DTSTART;TZID=America/New_York:20180225T103000
DTEND;TZID=America/New_York:20180225T113000
DTSTAMP:20260420T042647
CREATED:20180129T163141Z
LAST-MODIFIED:20180130T152639Z
UID:10011619-1519554600-1519558200@uucv.org
SUMMARY:Worship: "17 Generations"
DESCRIPTION:The Worship Theme for February is “Humanism”\nFebruary 25 – “17 Generations” From the first slave delivery in 1609 to the present\, we will look at 17 generations of slavery\, perseverance\, performance and ingenuity – in celebrating Black History Month.  Dick Poland is service leader.
URL:https://uucv.org/event/worship-black-history-month/
LOCATION:Social Hall\, PA\, United States
CATEGORIES:Worship
END:VEVENT
BEGIN:VEVENT
DTSTART;TZID=America/New_York:20170702T103000
DTEND;TZID=America/New_York:20170702T113000
DTSTAMP:20260420T042647
CREATED:20170619T171037Z
LAST-MODIFIED:20170620T132619Z
UID:10011397-1498991400-1498995000@uucv.org
SUMMARY:Worship: "A Passion for the Search for Truth"
DESCRIPTION:Exploring the parallels of Freedom of the Press and the UU Search for Truth.  Dick Poland is service leader with worship associate Dot Everhart
URL:https://uucv.org/event/worship-a-passion-for-the-search-for-truth/
LOCATION:Social Hall\, PA\, United States
CATEGORIES:Flag for Newsletter,Worship
END:VEVENT
BEGIN:VEVENT
DTSTART;TZID=America/New_York:20161113T103000
DTEND;TZID=America/New_York:20161113T113000
DTSTAMP:20260420T042647
CREATED:20161101T153354Z
LAST-MODIFIED:20161101T153354Z
UID:10008288-1479033000-1479036600@uucv.org
SUMMARY:Worship: "Compassion? Equity? Justice? In this Election?"
DESCRIPTION:Dick Poland will lead the service with worship associate Dot Everhart.  Service music by music director\, David M. Glasgow.
URL:https://uucv.org/event/worship-compassion-equity-justice-in-this-election/
LOCATION:Social Hall\, PA\, United States
CATEGORIES:Flag for Newsletter,Worship
END:VEVENT
END:VCALENDAR