BEGIN:VCALENDAR
VERSION:2.0
PRODID:-//Unitarian Universalists of the Cumberland Valley - ECPv6.15.20//NONSGML v1.0//EN
CALSCALE:GREGORIAN
METHOD:PUBLISH
X-ORIGINAL-URL:https://uucv.org
X-WR-CALDESC:Events for Unitarian Universalists of the Cumberland Valley
REFRESH-INTERVAL;VALUE=DURATION:PT1H
X-Robots-Tag:noindex
X-PUBLISHED-TTL:PT1H
BEGIN:VTIMEZONE
TZID:America/New_York
BEGIN:DAYLIGHT
TZOFFSETFROM:-0500
TZOFFSETTO:-0400
TZNAME:EDT
DTSTART:20150308T070000
END:DAYLIGHT
BEGIN:STANDARD
TZOFFSETFROM:-0400
TZOFFSETTO:-0500
TZNAME:EST
DTSTART:20151101T060000
END:STANDARD
BEGIN:DAYLIGHT
TZOFFSETFROM:-0500
TZOFFSETTO:-0400
TZNAME:EDT
DTSTART:20160313T070000
END:DAYLIGHT
BEGIN:STANDARD
TZOFFSETFROM:-0400
TZOFFSETTO:-0500
TZNAME:EST
DTSTART:20161106T060000
END:STANDARD
BEGIN:DAYLIGHT
TZOFFSETFROM:-0500
TZOFFSETTO:-0400
TZNAME:EDT
DTSTART:20170312T070000
END:DAYLIGHT
BEGIN:STANDARD
TZOFFSETFROM:-0400
TZOFFSETTO:-0500
TZNAME:EST
DTSTART:20171105T060000
END:STANDARD
END:VTIMEZONE
BEGIN:VEVENT
DTSTART;TZID=America/New_York:20160319T083000
DTEND;TZID=America/New_York:20160319T120000
DTSTAMP:20260420T022050
CREATED:20160212T152214Z
LAST-MODIFIED:20160224T173128Z
UID:10007822-1458376200-1458388800@uucv.org
SUMMARY:BB's and B
DESCRIPTION:Ever been to the famous BB’s (a.k.a. Bents and Dents) in Newburg?  If not\, here’s your chance to visit this iconic store known for its incredible bargains guided by veteran shoppers Ann Sheehan cannsheehan@gmail.com Denise Davis caledonia88@embarqmail.com or Carole DeWall carolesdw@gmail.com  Begin your adventure well-fortified by an organic\, non-GMO breakfast at the DeWalls.  Your guides will then transport you to BB’s for a memorable outing to this iconic store known for its incredible bargains. \n 
URL:https://uucv.org/event/auction-bbs-and-b/
LOCATION:Member’s Home\,  \,  \, PA
CATEGORIES:Flag for Newsletter,Open Auction Events
ORGANIZER;CN="Denise Davis":MAILTO:caledonia88@embarqmail.com
END:VEVENT
END:VCALENDAR