BEGIN:VCALENDAR
VERSION:2.0
PRODID:-//Unitarian Universalists of the Cumberland Valley - ECPv6.15.20//NONSGML v1.0//EN
CALSCALE:GREGORIAN
METHOD:PUBLISH
X-WR-CALNAME:Unitarian Universalists of the Cumberland Valley
X-ORIGINAL-URL:https://uucv.org
X-WR-CALDESC:Events for Unitarian Universalists of the Cumberland Valley
REFRESH-INTERVAL;VALUE=DURATION:PT1H
X-Robots-Tag:noindex
X-PUBLISHED-TTL:PT1H
BEGIN:VTIMEZONE
TZID:America/New_York
BEGIN:DAYLIGHT
TZOFFSETFROM:-0500
TZOFFSETTO:-0400
TZNAME:EDT
DTSTART:20210314T070000
END:DAYLIGHT
BEGIN:STANDARD
TZOFFSETFROM:-0400
TZOFFSETTO:-0500
TZNAME:EST
DTSTART:20211107T060000
END:STANDARD
BEGIN:DAYLIGHT
TZOFFSETFROM:-0500
TZOFFSETTO:-0400
TZNAME:EDT
DTSTART:20220313T070000
END:DAYLIGHT
BEGIN:STANDARD
TZOFFSETFROM:-0400
TZOFFSETTO:-0500
TZNAME:EST
DTSTART:20221106T060000
END:STANDARD
BEGIN:DAYLIGHT
TZOFFSETFROM:-0500
TZOFFSETTO:-0400
TZNAME:EDT
DTSTART:20230312T070000
END:DAYLIGHT
BEGIN:STANDARD
TZOFFSETFROM:-0400
TZOFFSETTO:-0500
TZNAME:EST
DTSTART:20231105T060000
END:STANDARD
END:VTIMEZONE
BEGIN:VEVENT
DTSTART;TZID=America/New_York:20221023T090000
DTEND;TZID=America/New_York:20221023T100000
DTSTAMP:20260421T171658
CREATED:20220923T170726Z
LAST-MODIFIED:20220923T170726Z
UID:10013266-1666515600-1666519200@uucv.org
SUMMARY:Adult RE - Common Read - Justice on Earth
DESCRIPTION:
URL:https://uucv.org/event/adult-re-common-read-justice-on-earth-2/
LOCATION:Board Room\, PA\, United States
END:VEVENT
BEGIN:VEVENT
DTSTART;TZID=America/New_York:20221009T090000
DTEND;TZID=America/New_York:20221009T100000
DTSTAMP:20260421T171658
CREATED:20220923T165135Z
LAST-MODIFIED:20220923T170334Z
UID:10013259-1665306000-1665309600@uucv.org
SUMMARY:Adult RE - Common Read - Justice on Earth
DESCRIPTION:
URL:https://uucv.org/event/adult-re-common-read-justice-on-earth/
LOCATION:Board Room\, PA\, United States
END:VEVENT
END:VCALENDAR