BEGIN:VCALENDAR
VERSION:2.0
PRODID:-//Unitarian Universalists of the Cumberland Valley - ECPv6.15.20//NONSGML v1.0//EN
CALSCALE:GREGORIAN
METHOD:PUBLISH
X-ORIGINAL-URL:https://uucv.org
X-WR-CALDESC:Events for Unitarian Universalists of the Cumberland Valley
REFRESH-INTERVAL;VALUE=DURATION:PT1H
X-Robots-Tag:noindex
X-PUBLISHED-TTL:PT1H
BEGIN:VTIMEZONE
TZID:America/New_York
BEGIN:DAYLIGHT
TZOFFSETFROM:-0500
TZOFFSETTO:-0400
TZNAME:EDT
DTSTART:20150308T070000
END:DAYLIGHT
BEGIN:STANDARD
TZOFFSETFROM:-0400
TZOFFSETTO:-0500
TZNAME:EST
DTSTART:20151101T060000
END:STANDARD
BEGIN:DAYLIGHT
TZOFFSETFROM:-0500
TZOFFSETTO:-0400
TZNAME:EDT
DTSTART:20160313T070000
END:DAYLIGHT
BEGIN:STANDARD
TZOFFSETFROM:-0400
TZOFFSETTO:-0500
TZNAME:EST
DTSTART:20161106T060000
END:STANDARD
BEGIN:DAYLIGHT
TZOFFSETFROM:-0500
TZOFFSETTO:-0400
TZNAME:EDT
DTSTART:20170312T070000
END:DAYLIGHT
BEGIN:STANDARD
TZOFFSETFROM:-0400
TZOFFSETTO:-0500
TZNAME:EST
DTSTART:20171105T060000
END:STANDARD
BEGIN:DAYLIGHT
TZOFFSETFROM:-0500
TZOFFSETTO:-0400
TZNAME:EDT
DTSTART:20180311T070000
END:DAYLIGHT
BEGIN:STANDARD
TZOFFSETFROM:-0400
TZOFFSETTO:-0500
TZNAME:EST
DTSTART:20181104T060000
END:STANDARD
BEGIN:DAYLIGHT
TZOFFSETFROM:-0500
TZOFFSETTO:-0400
TZNAME:EDT
DTSTART:20190310T070000
END:DAYLIGHT
BEGIN:STANDARD
TZOFFSETFROM:-0400
TZOFFSETTO:-0500
TZNAME:EST
DTSTART:20191103T060000
END:STANDARD
END:VTIMEZONE
BEGIN:VEVENT
DTSTART;TZID=America/New_York:20180814T100000
DTEND;TZID=America/New_York:20180814T120000
DTSTAMP:20260419T192301
CREATED:20180725T180727Z
LAST-MODIFIED:20180725T180727Z
UID:10011792-1534240800-1534248000@uucv.org
SUMMARY:Auction Artists
DESCRIPTION:
URL:https://uucv.org/event/auction-artists/
LOCATION:Klein Emporium\, PA\, United States
CATEGORIES:Auction,Flag for Newsletter
ORGANIZER;CN="Char Klein":MAILTO:charklein@kuhncom.net
GEO:41.2033216;-77.1945247
END:VEVENT
BEGIN:VEVENT
DTSTART;TZID=America/New_York:20160521T130000
DTEND;TZID=America/New_York:20160521T170000
DTSTAMP:20260419T192301
CREATED:20160212T161458Z
LAST-MODIFIED:20160224T172938Z
UID:10007831-1463835600-1463850000@uucv.org
SUMMARY:UUCV Art Tour with Hors d'oeuvres
DESCRIPTION:Enjoy the creations of six UUCV artists on a tour of three homes and studios where the artists will display their art and that of their fellow artists.  Begin on the farm of Char Klein charklein@kuhncom.net where you will enjoy her fanciful art and wonderful watercolors of Carolyn Hocker carolynahocker@gmail.com  Next stop will be the Stone House Studio of Rita van Alkemade tim.rita.zoe@gmail.com with a tour of her sculptures along with the paintings of Susan Vernon snvernon@comcast.net and Deb Stille debuucv@gmail.com  Your last studio stop is at the home of Leeann Rhoades\, L30rhs@gmail.com along the beautiful Susquehanna River\, where she will display her own work and the beautiful watercolors of Pam Wenger pwenger32@comcast.net.  The tour will end with an optional dinner on your own at The Millworks restaurant where you can tour the studio of many artists.
URL:https://uucv.org/event/auction-uucv-art-tour-with-hors-doeuvres/
LOCATION:Member’s Home\,  \,  \, PA
CATEGORIES:Flag for Newsletter,Open Auction Events
ORGANIZER;CN="Char Klein":MAILTO:charklein@kuhncom.net
END:VEVENT
BEGIN:VEVENT
DTSTART;TZID=America/New_York:20160514T150000
DTEND;TZID=America/New_York:20160514T170000
DTSTAMP:20260419T192301
CREATED:20160212T155736Z
LAST-MODIFIED:20160224T172959Z
UID:10007827-1463238000-1463245200@uucv.org
SUMMARY:Alice in Wonderland Tea Party
DESCRIPTION:This event will be held at Char’s magical house (hopefully outside).  Delicate tea sandwiches and small pastries will be served.  Suggested age is 8+ and there are multiple pets on the premises.  Hosted by Char Klein and Pam Fagan  $30.00 per adult and $15.00 per child.
URL:https://uucv.org/event/auction-alice-in-wonderland-tea-party/
LOCATION:Member’s Home\,  \,  \, PA
CATEGORIES:Flag for Newsletter,Open Auction Events
ORGANIZER;CN="Pam Fagan":MAILTO:pdf717@comcast.net
END:VEVENT
END:VCALENDAR