BEGIN:VCALENDAR
VERSION:2.0
PRODID:-//Unitarian Universalists of the Cumberland Valley - ECPv6.15.20//NONSGML v1.0//EN
CALSCALE:GREGORIAN
METHOD:PUBLISH
X-WR-CALNAME:Unitarian Universalists of the Cumberland Valley
X-ORIGINAL-URL:https://uucv.org
X-WR-CALDESC:Events for Unitarian Universalists of the Cumberland Valley
REFRESH-INTERVAL;VALUE=DURATION:PT1H
X-Robots-Tag:noindex
X-PUBLISHED-TTL:PT1H
BEGIN:VTIMEZONE
TZID:America/New_York
BEGIN:DAYLIGHT
TZOFFSETFROM:-0500
TZOFFSETTO:-0400
TZNAME:EDT
DTSTART:20170312T070000
END:DAYLIGHT
BEGIN:STANDARD
TZOFFSETFROM:-0400
TZOFFSETTO:-0500
TZNAME:EST
DTSTART:20171105T060000
END:STANDARD
BEGIN:DAYLIGHT
TZOFFSETFROM:-0500
TZOFFSETTO:-0400
TZNAME:EDT
DTSTART:20180311T070000
END:DAYLIGHT
BEGIN:STANDARD
TZOFFSETFROM:-0400
TZOFFSETTO:-0500
TZNAME:EST
DTSTART:20181104T060000
END:STANDARD
BEGIN:DAYLIGHT
TZOFFSETFROM:-0500
TZOFFSETTO:-0400
TZNAME:EDT
DTSTART:20190310T070000
END:DAYLIGHT
BEGIN:STANDARD
TZOFFSETFROM:-0400
TZOFFSETTO:-0500
TZNAME:EST
DTSTART:20191103T060000
END:STANDARD
END:VTIMEZONE
BEGIN:VEVENT
DTSTART;TZID=America/New_York:20180325T103000
DTEND;TZID=America/New_York:20180325T113000
DTSTAMP:20260420T052322
CREATED:20180223T164647Z
LAST-MODIFIED:20180223T164647Z
UID:10011751-1521973800-1521977400@uucv.org
SUMMARY:Worship: "How to Empower Your Mind"
DESCRIPTION:Rumi says “what you seek is seeking you”… perhaps it’s true. The evidence of the power of our minds is undeniable.. The ancient texts of the Buddha tell us that no external condition can be the cause of our happiness\, only the mind has that ability. When people understand how they are influenced\, the root causes of struggle and what we can do with our minds to make things better\, sustainable happiness and radiant joy are the result.  Bhante Sujata is our guest speaker with Dan Cozort as worship associate. \nAbout our Guest Speaker… \n“My life as a Buddhist monk has given me a front row seat to incredible transformation within so many people as I teach them how to empower the mind and cultivate the qualities that will help you find strength and happiness\, as well as give you a burning desire to add more love to the world.  When we understand our mind\, we begin to re-shape our behavior and feelings about so many things… it’s the most loving act of service one can do for themselves and the world.” \nBhante Sujata \nBhante Sujatha\, a 30+ year Buddhist Monk\, is singularly focuses on adding more love in the world.  Bhante teaches loving-kindness meditation to people around the globe for all those seeking the art of happiness and contentment.  His approach to meditation is deep and simple\, bringing core Buddhist teachings to everyone in a way that is practical and easy to understand.  A joyful\, radiant\, funny and wildly energetic monk\, Bhante will help you obtain peace that can only be found in deep silence.   He is originally from Sri Lanka and is the head monk / abbot of the Blue Lotus Buddhist Temple and Meditation Center in Woodstock\, IL. \nBhante believes his purpose is not only to teach meditation\, but also\, “teaching people how to be happy.” \nBhante does his book signing after worship and his CD’s are also available to purchase.  Proceeds go to Bhante’s Incubator Project  \n 
URL:https://uucv.org/event/worship-how-to-empower-your-mind/
LOCATION:Social Hall\, PA\, United States
CATEGORIES:Flag for Newsletter,Worship
END:VEVENT
END:VCALENDAR