BEGIN:VCALENDAR
VERSION:2.0
PRODID:-//Unitarian Universalists of the Cumberland Valley - ECPv6.15.20//NONSGML v1.0//EN
CALSCALE:GREGORIAN
METHOD:PUBLISH
X-ORIGINAL-URL:https://uucv.org
X-WR-CALDESC:Events for Unitarian Universalists of the Cumberland Valley
REFRESH-INTERVAL;VALUE=DURATION:PT1H
X-Robots-Tag:noindex
X-PUBLISHED-TTL:PT1H
BEGIN:VTIMEZONE
TZID:America/New_York
BEGIN:DAYLIGHT
TZOFFSETFROM:-0500
TZOFFSETTO:-0400
TZNAME:EDT
DTSTART:20160313T070000
END:DAYLIGHT
BEGIN:STANDARD
TZOFFSETFROM:-0400
TZOFFSETTO:-0500
TZNAME:EST
DTSTART:20161106T060000
END:STANDARD
BEGIN:DAYLIGHT
TZOFFSETFROM:-0500
TZOFFSETTO:-0400
TZNAME:EDT
DTSTART:20170312T070000
END:DAYLIGHT
BEGIN:STANDARD
TZOFFSETFROM:-0400
TZOFFSETTO:-0500
TZNAME:EST
DTSTART:20171105T060000
END:STANDARD
BEGIN:DAYLIGHT
TZOFFSETFROM:-0500
TZOFFSETTO:-0400
TZNAME:EDT
DTSTART:20180311T070000
END:DAYLIGHT
BEGIN:STANDARD
TZOFFSETFROM:-0400
TZOFFSETTO:-0500
TZNAME:EST
DTSTART:20181104T060000
END:STANDARD
END:VTIMEZONE
BEGIN:VEVENT
DTSTART;TZID=America/New_York:20170923T190000
DTEND;TZID=America/New_York:20170923T210000
DTSTAMP:20260419T170414
CREATED:20170628T161837Z
LAST-MODIFIED:20170906T162209Z
UID:10011403-1506193200-1506200400@uucv.org
SUMMARY:UUCV Talent Show
DESCRIPTION:Dust off your instruments\, vocal chords\, magic tricks\, poetry and other talents and plan to come together with the UUCV Community! Registration forms for performers will be available shortly. Any questions may be directed to Becky MacDicken at time4jam@yahoo.com or 717-460-3750 (call or text). Open to most ages and talents (no fire eaters due to fire code).
URL:https://uucv.org/event/uucv-talent-show/
LOCATION:Social Hall
CATEGORIES:Community,Flag for Newsletter
END:VEVENT
BEGIN:VEVENT
DTSTART;TZID=America/New_York:20170225T190000
DTEND;TZID=America/New_York:20170225T210000
DTSTAMP:20260419T170414
CREATED:20161206T181054Z
LAST-MODIFIED:20161206T181054Z
UID:10008325-1488049200-1488056400@uucv.org
SUMMARY:AUCTION EVENT: Cards Against Humanity Party
DESCRIPTION:
URL:https://uucv.org/event/auction-event-cards-against-humanity-party/
LOCATION:Member’s Home\,  \,  \, PA
CATEGORIES:Community,Flag for Newsletter
END:VEVENT
END:VCALENDAR