BEGIN:VCALENDAR
VERSION:2.0
PRODID:-//Unitarian Universalists of the Cumberland Valley - ECPv6.15.20//NONSGML v1.0//EN
CALSCALE:GREGORIAN
METHOD:PUBLISH
X-ORIGINAL-URL:https://uucv.org
X-WR-CALDESC:Events for Unitarian Universalists of the Cumberland Valley
REFRESH-INTERVAL;VALUE=DURATION:PT1H
X-Robots-Tag:noindex
X-PUBLISHED-TTL:PT1H
BEGIN:VTIMEZONE
TZID:America/New_York
BEGIN:DAYLIGHT
TZOFFSETFROM:-0500
TZOFFSETTO:-0400
TZNAME:EDT
DTSTART:20230312T070000
END:DAYLIGHT
BEGIN:STANDARD
TZOFFSETFROM:-0400
TZOFFSETTO:-0500
TZNAME:EST
DTSTART:20231105T060000
END:STANDARD
BEGIN:DAYLIGHT
TZOFFSETFROM:-0500
TZOFFSETTO:-0400
TZNAME:EDT
DTSTART:20240310T070000
END:DAYLIGHT
BEGIN:STANDARD
TZOFFSETFROM:-0400
TZOFFSETTO:-0500
TZNAME:EST
DTSTART:20241103T060000
END:STANDARD
BEGIN:DAYLIGHT
TZOFFSETFROM:-0500
TZOFFSETTO:-0400
TZNAME:EDT
DTSTART:20250309T070000
END:DAYLIGHT
BEGIN:STANDARD
TZOFFSETFROM:-0400
TZOFFSETTO:-0500
TZNAME:EST
DTSTART:20251102T060000
END:STANDARD
END:VTIMEZONE
BEGIN:VEVENT
DTSTART;TZID=America/New_York:20241104T190000
DTEND;TZID=America/New_York:20241104T190000
DTSTAMP:20260421T173048
CREATED:20241030T182225Z
LAST-MODIFIED:20241030T182225Z
UID:10018491-1730746800-1730746800@uucv.org
SUMMARY:Pre-Election Service of Reassurance and Unity
DESCRIPTION:In this time of extreme division and tension\, it is natural to feel overwhelmed\, anxious\, and unsettled.\nJoin us at 7 pm the night before the Election for a time of meditation and singing\, focused around comfort and unity. Studies have shown that when folks sing together\, their heartbeats literally sync up and beat in time with one another\, so let’s join our heartbeats and our spirits in a time of peace and togetherness.\nBring a friend or neighbor if you’d like.
URL:https://uucv.org/event/pre-election-service-of-reassurance-and-unity/
LOCATION:Sanctuary and ZOOM https://zoom.us/my/uucvpa\, PA\, United States
ATTACH;FMTTYPE=image/jpeg:https://uucv.org/wp-content/uploads/2024/10/meditation.jpg
END:VEVENT
END:VCALENDAR