BEGIN:VCALENDAR
VERSION:2.0
PRODID:-//Unitarian Universalists of the Cumberland Valley - ECPv6.15.20//NONSGML v1.0//EN
CALSCALE:GREGORIAN
METHOD:PUBLISH
X-WR-CALNAME:Unitarian Universalists of the Cumberland Valley
X-ORIGINAL-URL:https://uucv.org
X-WR-CALDESC:Events for Unitarian Universalists of the Cumberland Valley
REFRESH-INTERVAL;VALUE=DURATION:PT1H
X-Robots-Tag:noindex
X-PUBLISHED-TTL:PT1H
BEGIN:VTIMEZONE
TZID:America/New_York
BEGIN:DAYLIGHT
TZOFFSETFROM:-0500
TZOFFSETTO:-0400
TZNAME:EDT
DTSTART:20250309T070000
END:DAYLIGHT
BEGIN:STANDARD
TZOFFSETFROM:-0400
TZOFFSETTO:-0500
TZNAME:EST
DTSTART:20251102T060000
END:STANDARD
BEGIN:DAYLIGHT
TZOFFSETFROM:-0500
TZOFFSETTO:-0400
TZNAME:EDT
DTSTART:20260308T070000
END:DAYLIGHT
BEGIN:STANDARD
TZOFFSETFROM:-0400
TZOFFSETTO:-0500
TZNAME:EST
DTSTART:20261101T060000
END:STANDARD
BEGIN:DAYLIGHT
TZOFFSETFROM:-0500
TZOFFSETTO:-0400
TZNAME:EDT
DTSTART:20270314T070000
END:DAYLIGHT
BEGIN:STANDARD
TZOFFSETFROM:-0400
TZOFFSETTO:-0500
TZNAME:EST
DTSTART:20271107T060000
END:STANDARD
BEGIN:DAYLIGHT
TZOFFSETFROM:-0500
TZOFFSETTO:-0400
TZNAME:EDT
DTSTART:20280312T070000
END:DAYLIGHT
BEGIN:STANDARD
TZOFFSETFROM:-0400
TZOFFSETTO:-0500
TZNAME:EST
DTSTART:20281105T060000
END:STANDARD
BEGIN:DAYLIGHT
TZOFFSETFROM:-0500
TZOFFSETTO:-0400
TZNAME:EDT
DTSTART:20290311T070000
END:DAYLIGHT
BEGIN:STANDARD
TZOFFSETFROM:-0400
TZOFFSETTO:-0500
TZNAME:EST
DTSTART:20291104T060000
END:STANDARD
END:VTIMEZONE
BEGIN:VEVENT
DTSTART;TZID=America/New_York:20260509T090000
DTEND;TZID=America/New_York:20260509T110000
DTSTAMP:20260422T182236
CREATED:20250910T142406Z
LAST-MODIFIED:20250910T172931Z
UID:10021277-1778317200-1778324400@uucv.org
SUMMARY:Caregivers Circle
DESCRIPTION:
URL:https://uucv.org/event/caregivers-circle-8/2026-05-09/
LOCATION:Youuth Room
END:VEVENT
BEGIN:VEVENT
DTSTART;TZID=America/New_York:20260613T090000
DTEND;TZID=America/New_York:20260613T110000
DTSTAMP:20260422T182236
CREATED:20250910T142406Z
LAST-MODIFIED:20250910T172931Z
UID:10021278-1781341200-1781348400@uucv.org
SUMMARY:Caregivers Circle
DESCRIPTION:
URL:https://uucv.org/event/caregivers-circle-8/2026-06-13/
LOCATION:Youuth Room
END:VEVENT
BEGIN:VEVENT
DTSTART;TZID=America/New_York:20260711T090000
DTEND;TZID=America/New_York:20260711T110000
DTSTAMP:20260422T182236
CREATED:20250910T142406Z
LAST-MODIFIED:20250910T172931Z
UID:10021279-1783760400-1783767600@uucv.org
SUMMARY:Caregivers Circle
DESCRIPTION:
URL:https://uucv.org/event/caregivers-circle-8/2026-07-11/
LOCATION:Youuth Room
END:VEVENT
BEGIN:VEVENT
DTSTART;TZID=America/New_York:20260808T090000
DTEND;TZID=America/New_York:20260808T110000
DTSTAMP:20260422T182236
CREATED:20250910T142406Z
LAST-MODIFIED:20250910T172931Z
UID:10021280-1786179600-1786186800@uucv.org
SUMMARY:Caregivers Circle
DESCRIPTION:
URL:https://uucv.org/event/caregivers-circle-8/2026-08-08/
LOCATION:Youuth Room
END:VEVENT
BEGIN:VEVENT
DTSTART;TZID=America/New_York:20260912T090000
DTEND;TZID=America/New_York:20260912T110000
DTSTAMP:20260422T182236
CREATED:20250910T142406Z
LAST-MODIFIED:20250910T172931Z
UID:10021281-1789203600-1789210800@uucv.org
SUMMARY:Caregivers Circle
DESCRIPTION:
URL:https://uucv.org/event/caregivers-circle-8/2026-09-12/
LOCATION:Youuth Room
END:VEVENT
BEGIN:VEVENT
DTSTART;TZID=America/New_York:20261010T090000
DTEND;TZID=America/New_York:20261010T110000
DTSTAMP:20260422T182236
CREATED:20250910T142406Z
LAST-MODIFIED:20250910T172931Z
UID:10021282-1791622800-1791630000@uucv.org
SUMMARY:Caregivers Circle
DESCRIPTION:
URL:https://uucv.org/event/caregivers-circle-8/2026-10-10/
LOCATION:Youuth Room
END:VEVENT
BEGIN:VEVENT
DTSTART;TZID=America/New_York:20261114T090000
DTEND;TZID=America/New_York:20261114T110000
DTSTAMP:20260422T182236
CREATED:20250910T142406Z
LAST-MODIFIED:20250910T172931Z
UID:10021283-1794646800-1794654000@uucv.org
SUMMARY:Caregivers Circle
DESCRIPTION:
URL:https://uucv.org/event/caregivers-circle-8/2026-11-14/
LOCATION:Youuth Room
END:VEVENT
BEGIN:VEVENT
DTSTART;TZID=America/New_York:20261212T090000
DTEND;TZID=America/New_York:20261212T110000
DTSTAMP:20260422T182236
CREATED:20250910T142406Z
LAST-MODIFIED:20250910T172931Z
UID:10021284-1797066000-1797073200@uucv.org
SUMMARY:Caregivers Circle
DESCRIPTION:
URL:https://uucv.org/event/caregivers-circle-8/2026-12-12/
LOCATION:Youuth Room
END:VEVENT
BEGIN:VEVENT
DTSTART;TZID=America/New_York:20270109T090000
DTEND;TZID=America/New_York:20270109T110000
DTSTAMP:20260422T182236
CREATED:20250910T142406Z
LAST-MODIFIED:20250910T172931Z
UID:10021285-1799485200-1799492400@uucv.org
SUMMARY:Caregivers Circle
DESCRIPTION:
URL:https://uucv.org/event/caregivers-circle-8/2027-01-09/
LOCATION:Youuth Room
END:VEVENT
BEGIN:VEVENT
DTSTART;TZID=America/New_York:20270213T090000
DTEND;TZID=America/New_York:20270213T110000
DTSTAMP:20260422T182236
CREATED:20250910T142406Z
LAST-MODIFIED:20250910T172931Z
UID:10021286-1802509200-1802516400@uucv.org
SUMMARY:Caregivers Circle
DESCRIPTION:
URL:https://uucv.org/event/caregivers-circle-8/2027-02-13/
LOCATION:Youuth Room
END:VEVENT
BEGIN:VEVENT
DTSTART;TZID=America/New_York:20270313T090000
DTEND;TZID=America/New_York:20270313T110000
DTSTAMP:20260422T182236
CREATED:20250910T142406Z
LAST-MODIFIED:20250910T172931Z
UID:10021287-1804928400-1804935600@uucv.org
SUMMARY:Caregivers Circle
DESCRIPTION:
URL:https://uucv.org/event/caregivers-circle-8/2027-03-13/
LOCATION:Youuth Room
END:VEVENT
BEGIN:VEVENT
DTSTART;TZID=America/New_York:20270410T090000
DTEND;TZID=America/New_York:20270410T110000
DTSTAMP:20260422T182236
CREATED:20250910T142406Z
LAST-MODIFIED:20250910T172931Z
UID:10021288-1807347600-1807354800@uucv.org
SUMMARY:Caregivers Circle
DESCRIPTION:
URL:https://uucv.org/event/caregivers-circle-8/2027-04-10/
LOCATION:Youuth Room
END:VEVENT
BEGIN:VEVENT
DTSTART;TZID=America/New_York:20270508T090000
DTEND;TZID=America/New_York:20270508T110000
DTSTAMP:20260422T182236
CREATED:20250910T142406Z
LAST-MODIFIED:20250910T172931Z
UID:10021289-1809766800-1809774000@uucv.org
SUMMARY:Caregivers Circle
DESCRIPTION:
URL:https://uucv.org/event/caregivers-circle-8/2027-05-08/
LOCATION:Youuth Room
END:VEVENT
BEGIN:VEVENT
DTSTART;TZID=America/New_York:20270612T090000
DTEND;TZID=America/New_York:20270612T110000
DTSTAMP:20260422T182236
CREATED:20250910T142406Z
LAST-MODIFIED:20250910T172931Z
UID:10021290-1812790800-1812798000@uucv.org
SUMMARY:Caregivers Circle
DESCRIPTION:
URL:https://uucv.org/event/caregivers-circle-8/2027-06-12/
LOCATION:Youuth Room
END:VEVENT
BEGIN:VEVENT
DTSTART;TZID=America/New_York:20270710T090000
DTEND;TZID=America/New_York:20270710T110000
DTSTAMP:20260422T182236
CREATED:20250910T142406Z
LAST-MODIFIED:20250910T172931Z
UID:10021291-1815210000-1815217200@uucv.org
SUMMARY:Caregivers Circle
DESCRIPTION:
URL:https://uucv.org/event/caregivers-circle-8/2027-07-10/
LOCATION:Youuth Room
END:VEVENT
BEGIN:VEVENT
DTSTART;TZID=America/New_York:20270814T090000
DTEND;TZID=America/New_York:20270814T110000
DTSTAMP:20260422T182236
CREATED:20250910T142406Z
LAST-MODIFIED:20250910T172931Z
UID:10021292-1818234000-1818241200@uucv.org
SUMMARY:Caregivers Circle
DESCRIPTION:
URL:https://uucv.org/event/caregivers-circle-8/2027-08-14/
LOCATION:Youuth Room
END:VEVENT
BEGIN:VEVENT
DTSTART;TZID=America/New_York:20270911T090000
DTEND;TZID=America/New_York:20270911T110000
DTSTAMP:20260422T182236
CREATED:20250910T142406Z
LAST-MODIFIED:20250910T172931Z
UID:10021293-1820653200-1820660400@uucv.org
SUMMARY:Caregivers Circle
DESCRIPTION:
URL:https://uucv.org/event/caregivers-circle-8/2027-09-11/
LOCATION:Youuth Room
END:VEVENT
BEGIN:VEVENT
DTSTART;TZID=America/New_York:20271009T090000
DTEND;TZID=America/New_York:20271009T110000
DTSTAMP:20260422T182236
CREATED:20250910T142406Z
LAST-MODIFIED:20250910T172931Z
UID:10021294-1823072400-1823079600@uucv.org
SUMMARY:Caregivers Circle
DESCRIPTION:
URL:https://uucv.org/event/caregivers-circle-8/2027-10-09/
LOCATION:Youuth Room
END:VEVENT
BEGIN:VEVENT
DTSTART;TZID=America/New_York:20271113T090000
DTEND;TZID=America/New_York:20271113T110000
DTSTAMP:20260422T182236
CREATED:20250910T142406Z
LAST-MODIFIED:20250910T172931Z
UID:10021295-1826096400-1826103600@uucv.org
SUMMARY:Caregivers Circle
DESCRIPTION:
URL:https://uucv.org/event/caregivers-circle-8/2027-11-13/
LOCATION:Youuth Room
END:VEVENT
BEGIN:VEVENT
DTSTART;TZID=America/New_York:20271211T090000
DTEND;TZID=America/New_York:20271211T110000
DTSTAMP:20260422T182236
CREATED:20250910T142406Z
LAST-MODIFIED:20250910T172931Z
UID:10021296-1828515600-1828522800@uucv.org
SUMMARY:Caregivers Circle
DESCRIPTION:
URL:https://uucv.org/event/caregivers-circle-8/2027-12-11/
LOCATION:Youuth Room
END:VEVENT
BEGIN:VEVENT
DTSTART;TZID=America/New_York:20280108T090000
DTEND;TZID=America/New_York:20280108T110000
DTSTAMP:20260422T182236
CREATED:20250910T142406Z
LAST-MODIFIED:20250910T172931Z
UID:10021297-1830934800-1830942000@uucv.org
SUMMARY:Caregivers Circle
DESCRIPTION:
URL:https://uucv.org/event/caregivers-circle-8/2028-01-08/
LOCATION:Youuth Room
END:VEVENT
BEGIN:VEVENT
DTSTART;TZID=America/New_York:20280212T090000
DTEND;TZID=America/New_York:20280212T110000
DTSTAMP:20260422T182236
CREATED:20250910T142406Z
LAST-MODIFIED:20250910T172931Z
UID:10021298-1833958800-1833966000@uucv.org
SUMMARY:Caregivers Circle
DESCRIPTION:
URL:https://uucv.org/event/caregivers-circle-8/2028-02-12/
LOCATION:Youuth Room
END:VEVENT
BEGIN:VEVENT
DTSTART;TZID=America/New_York:20280311T090000
DTEND;TZID=America/New_York:20280311T110000
DTSTAMP:20260422T182236
CREATED:20250910T142406Z
LAST-MODIFIED:20250910T172931Z
UID:10021299-1836378000-1836385200@uucv.org
SUMMARY:Caregivers Circle
DESCRIPTION:
URL:https://uucv.org/event/caregivers-circle-8/2028-03-11/
LOCATION:Youuth Room
END:VEVENT
BEGIN:VEVENT
DTSTART;TZID=America/New_York:20280408T090000
DTEND;TZID=America/New_York:20280408T110000
DTSTAMP:20260422T182236
CREATED:20250910T142406Z
LAST-MODIFIED:20250910T172931Z
UID:10021300-1838797200-1838804400@uucv.org
SUMMARY:Caregivers Circle
DESCRIPTION:
URL:https://uucv.org/event/caregivers-circle-8/2028-04-08/
LOCATION:Youuth Room
END:VEVENT
BEGIN:VEVENT
DTSTART;TZID=America/New_York:20280513T090000
DTEND;TZID=America/New_York:20280513T110000
DTSTAMP:20260422T182236
CREATED:20250910T142406Z
LAST-MODIFIED:20250910T172931Z
UID:10021301-1841821200-1841828400@uucv.org
SUMMARY:Caregivers Circle
DESCRIPTION:
URL:https://uucv.org/event/caregivers-circle-8/2028-05-13/
LOCATION:Youuth Room
END:VEVENT
BEGIN:VEVENT
DTSTART;TZID=America/New_York:20280610T090000
DTEND;TZID=America/New_York:20280610T110000
DTSTAMP:20260422T182236
CREATED:20250910T142406Z
LAST-MODIFIED:20250910T172931Z
UID:10021302-1844240400-1844247600@uucv.org
SUMMARY:Caregivers Circle
DESCRIPTION:
URL:https://uucv.org/event/caregivers-circle-8/2028-06-10/
LOCATION:Youuth Room
END:VEVENT
BEGIN:VEVENT
DTSTART;TZID=America/New_York:20280708T090000
DTEND;TZID=America/New_York:20280708T110000
DTSTAMP:20260422T182236
CREATED:20250910T142406Z
LAST-MODIFIED:20250910T172931Z
UID:10021303-1846659600-1846666800@uucv.org
SUMMARY:Caregivers Circle
DESCRIPTION:
URL:https://uucv.org/event/caregivers-circle-8/2028-07-08/
LOCATION:Youuth Room
END:VEVENT
BEGIN:VEVENT
DTSTART;TZID=America/New_York:20280812T090000
DTEND;TZID=America/New_York:20280812T110000
DTSTAMP:20260422T182236
CREATED:20250910T142406Z
LAST-MODIFIED:20250910T172931Z
UID:10021304-1849683600-1849690800@uucv.org
SUMMARY:Caregivers Circle
DESCRIPTION:
URL:https://uucv.org/event/caregivers-circle-8/2028-08-12/
LOCATION:Youuth Room
END:VEVENT
BEGIN:VEVENT
DTSTART;TZID=America/New_York:20280909T090000
DTEND;TZID=America/New_York:20280909T110000
DTSTAMP:20260422T182237
CREATED:20250910T142406Z
LAST-MODIFIED:20250910T172931Z
UID:10021305-1852102800-1852110000@uucv.org
SUMMARY:Caregivers Circle
DESCRIPTION:
URL:https://uucv.org/event/caregivers-circle-8/2028-09-09/
LOCATION:Youuth Room
END:VEVENT
BEGIN:VEVENT
DTSTART;TZID=America/New_York:20281014T090000
DTEND;TZID=America/New_York:20281014T110000
DTSTAMP:20260422T182237
CREATED:20250910T142406Z
LAST-MODIFIED:20250910T172931Z
UID:10021306-1855126800-1855134000@uucv.org
SUMMARY:Caregivers Circle
DESCRIPTION:
URL:https://uucv.org/event/caregivers-circle-8/2028-10-14/
LOCATION:Youuth Room
END:VEVENT
END:VCALENDAR