BEGIN:VCALENDAR
VERSION:2.0
PRODID:-//Unitarian Universalists of the Cumberland Valley - ECPv6.15.20//NONSGML v1.0//EN
CALSCALE:GREGORIAN
METHOD:PUBLISH
X-WR-CALNAME:Unitarian Universalists of the Cumberland Valley
X-ORIGINAL-URL:https://uucv.org
X-WR-CALDESC:Events for Unitarian Universalists of the Cumberland Valley
REFRESH-INTERVAL;VALUE=DURATION:PT1H
X-Robots-Tag:noindex
X-PUBLISHED-TTL:PT1H
BEGIN:VTIMEZONE
TZID:America/New_York
BEGIN:DAYLIGHT
TZOFFSETFROM:-0500
TZOFFSETTO:-0400
TZNAME:EDT
DTSTART:20170312T070000
END:DAYLIGHT
BEGIN:STANDARD
TZOFFSETFROM:-0400
TZOFFSETTO:-0500
TZNAME:EST
DTSTART:20171105T060000
END:STANDARD
BEGIN:DAYLIGHT
TZOFFSETFROM:-0500
TZOFFSETTO:-0400
TZNAME:EDT
DTSTART:20180311T070000
END:DAYLIGHT
BEGIN:STANDARD
TZOFFSETFROM:-0400
TZOFFSETTO:-0500
TZNAME:EST
DTSTART:20181104T060000
END:STANDARD
BEGIN:DAYLIGHT
TZOFFSETFROM:-0500
TZOFFSETTO:-0400
TZNAME:EDT
DTSTART:20190310T070000
END:DAYLIGHT
BEGIN:STANDARD
TZOFFSETFROM:-0400
TZOFFSETTO:-0500
TZNAME:EST
DTSTART:20191103T060000
END:STANDARD
END:VTIMEZONE
BEGIN:VEVENT
DTSTART;TZID=America/New_York:20181130T100000
DTEND;TZID=America/New_York:20181130T120000
DTSTAMP:20260422T235122
CREATED:20180831T143701Z
LAST-MODIFIED:20180831T150802Z
UID:10009604-1543572000-1543579200@uucv.org
SUMMARY:Auction Artists
DESCRIPTION:
URL:https://uucv.org/event/auction-artists-2-2018-11-23/
LOCATION:Dining Room
CATEGORIES:Auction,Flag for Newsletter
ORGANIZER;CN="Rita van Alkemade":MAILTO:tim.rita.zoe@gmail.com
END:VEVENT
BEGIN:VEVENT
DTSTART;TZID=America/New_York:20181125T090000
DTEND;TZID=America/New_York:20181125T100000
DTSTAMP:20260422T235122
CREATED:20181004T164507Z
LAST-MODIFIED:20181004T164507Z
UID:10010887-1543136400-1543140000@uucv.org
SUMMARY:Adult RE: Christian Origins Revisited
DESCRIPTION:
URL:https://uucv.org/event/adult-re-christian-origins-revisited/
LOCATION:Board Room
CATEGORIES:Adult Education,Education,Flag for Newsletter
ORGANIZER;CN="Brian McPherson":MAILTO:wbmcp@hotmail.com
END:VEVENT
BEGIN:VEVENT
DTSTART;TZID=America/New_York:20181120T173000
DTEND;TZID=America/New_York:20181120T183000
DTSTAMP:20260422T235122
CREATED:20160825T141742Z
LAST-MODIFIED:20170118T154246Z
UID:10008223-1542735000-1542738600@uucv.org
SUMMARY:Executive Committee Meeting
DESCRIPTION:
URL:https://uucv.org/event/executive-committee-meeting-2018-11-20/
LOCATION:Social Hall\, PA\, United States
CATEGORIES:Meetings
END:VEVENT
BEGIN:VEVENT
DTSTART;TZID=America/New_York:20181113T100000
DTEND;TZID=America/New_York:20181113T120000
DTSTAMP:20260422T235122
CREATED:20180831T143701Z
LAST-MODIFIED:20180831T144020Z
UID:10012384-1542103200-1542110400@uucv.org
SUMMARY:Auction Artists
DESCRIPTION:
URL:https://uucv.org/event/auction-artists-2-2018-11-09/
LOCATION:Dining Room
CATEGORIES:Auction,Flag for Newsletter
ORGANIZER;CN="Rita van Alkemade":MAILTO:tim.rita.zoe@gmail.com
END:VEVENT
BEGIN:VEVENT
DTSTART;TZID=America/New_York:20181111T090000
DTEND;TZID=America/New_York:20181111T100000
DTSTAMP:20260422T235122
CREATED:20181004T164405Z
LAST-MODIFIED:20181004T164405Z
UID:10010886-1541926800-1541930400@uucv.org
SUMMARY:Adult RE: Reincarnation
DESCRIPTION:
URL:https://uucv.org/event/adult-re-reincarnation/
LOCATION:Board Room
CATEGORIES:Adult Education,Education,Flag for Newsletter
ORGANIZER;CN="Brian McPherson":MAILTO:wbmcp@hotmail.com
END:VEVENT
BEGIN:VEVENT
DTSTART;TZID=America/New_York:20181028T090000
DTEND;TZID=America/New_York:20181028T100000
DTSTAMP:20260422T235122
CREATED:20181004T164006Z
LAST-MODIFIED:20181004T164006Z
UID:10009657-1540717200-1540720800@uucv.org
SUMMARY:Adult RE - The Church of Reality and Michael Dowd
DESCRIPTION:
URL:https://uucv.org/event/adult-re-the-church-of-reality-and-michael-dowd/
LOCATION:Board Room
CATEGORIES:Adult Education,Community,Education
ORGANIZER;CN="Brian McPherson":MAILTO:wbmcp@hotmail.com
END:VEVENT
BEGIN:VEVENT
DTSTART;TZID=America/New_York:20181026T100000
DTEND;TZID=America/New_York:20181026T120000
DTSTAMP:20260422T235122
CREATED:20180831T143701Z
LAST-MODIFIED:20180831T143701Z
UID:10012383-1540548000-1540555200@uucv.org
SUMMARY:Auction Artists
DESCRIPTION:
URL:https://uucv.org/event/auction-artists-2/2018-10-26/
LOCATION:Dining Room
CATEGORIES:Auction,Flag for Newsletter
ORGANIZER;CN="Rita van Alkemade":MAILTO:tim.rita.zoe@gmail.com
END:VEVENT
BEGIN:VEVENT
DTSTART;TZID=America/New_York:20181014T090000
DTEND;TZID=America/New_York:20181014T100000
DTSTAMP:20260422T235122
CREATED:20181004T164020Z
LAST-MODIFIED:20181004T164020Z
UID:10010658-1539507600-1539511200@uucv.org
SUMMARY:Adult RE - Religion as Virus
DESCRIPTION:
URL:https://uucv.org/event/adult-re-religion-as-virus/
LOCATION:Board Room
CATEGORIES:Adult Education,Community,Education,Flag for Newsletter
ORGANIZER;CN="Brian McPherson":MAILTO:wbmcp@hotmail.com
END:VEVENT
BEGIN:VEVENT
DTSTART;TZID=America/New_York:20180930T090000
DTEND;TZID=America/New_York:20180930T100000
DTSTAMP:20260422T235122
CREATED:20180830T172434Z
LAST-MODIFIED:20180831T135012Z
UID:10011801-1538298000-1538301600@uucv.org
SUMMARY:Adult RE - Atheism and the Meaning of Life
DESCRIPTION:
URL:https://uucv.org/event/adult-re-2018-09-30/
LOCATION:Board Room
CATEGORIES:Adult Education,Community,Education,Flag for Newsletter
ORGANIZER;CN="Brian McPherson":MAILTO:wbmcp@hotmail.com
END:VEVENT
BEGIN:VEVENT
DTSTART;TZID=America/New_York:20180916T090000
DTEND;TZID=America/New_York:20180916T100000
DTSTAMP:20260422T235122
CREATED:20180830T172434Z
LAST-MODIFIED:20180831T133446Z
UID:10011800-1537088400-1537092000@uucv.org
SUMMARY:Adult RE - Reason and Happiness
DESCRIPTION:
URL:https://uucv.org/event/adult-re/
LOCATION:Board Room
CATEGORIES:Adult Education,Community,Education,Flag for Newsletter
ORGANIZER;CN="Brian McPherson":MAILTO:wbmcp@hotmail.com
END:VEVENT
BEGIN:VEVENT
DTSTART;TZID=America/New_York:20180826T120000
DTEND;TZID=America/New_York:20180826T140000
DTSTAMP:20260422T235122
CREATED:20180518T154211Z
LAST-MODIFIED:20180816T134030Z
UID:10011783-1535284800-1535292000@uucv.org
SUMMARY:Capital Campaign Kick-Off Picnic Festivities
DESCRIPTION:
URL:https://uucv.org/event/capital-campaign-kick-off-picnic-festivities/
LOCATION:UUCV Meeting House\, 2 Forge Road\, Boiling Springs\, 17007\, United States
CATEGORIES:Capital Campaign,Flag for Newsletter
END:VEVENT
BEGIN:VEVENT
DTSTART;TZID=America/New_York:20180826T103000
DTEND;TZID=America/New_York:20180826T113000
DTSTAMP:20260422T235122
CREATED:20180801T182127Z
LAST-MODIFIED:20180801T182127Z
UID:10011799-1535279400-1535283000@uucv.org
SUMMARY:Worship: "Come and Go with me"
DESCRIPTION:We build our future to honor our past. Come celebrate with us as we welcome Rev. Aija home and begin to imagine how that home will grow and change in the coming years.   Rev. Aija Simpson preaches.  Music director David M. Glasgow\, with familiar friends Marc Renault on bass and Dani Fiore on drums\, will join the choir in celebrating our community\, Rev. Aija’s return from sabbatical\, and the shared commitment represented by our capital campaign\, with two special pieces.
URL:https://uucv.org/event/worship-come-and-go-with-me/
LOCATION:Social Hall\, PA\, United States
CATEGORIES:Band,Capital Campaign,Choir,Flag for Newsletter,Special Music,Worship
ORGANIZER;CN="Rev Aija Simpson":MAILTO: revaija@qmf.309.myftpupload.com
END:VEVENT
BEGIN:VEVENT
DTSTART;VALUE=DATE:20180825
DTEND;VALUE=DATE:20180826
DTSTAMP:20260422T235122
CREATED:20180518T154350Z
LAST-MODIFIED:20180518T154350Z
UID:10011784-1535155200-1535241599@uucv.org
SUMMARY:Capital Campaign Picnic Set-Up
DESCRIPTION:
URL:https://uucv.org/event/capital-campaign-picnic-set-up/
LOCATION:UUCV Meeting House\, 2 Forge Road\, Boiling Springs\, 17007\, United States
CATEGORIES:Capital Campaign,Flag for Newsletter
END:VEVENT
BEGIN:VEVENT
DTSTART;TZID=America/New_York:20180819T103000
DTEND;TZID=America/New_York:20180819T113000
DTSTAMP:20260422T235122
CREATED:20180801T175056Z
LAST-MODIFIED:20180801T175056Z
UID:10011798-1534674600-1534678200@uucv.org
SUMMARY:Worship: "Sacrament and Sanctuary"
DESCRIPTION:What do we experience as an “outward sign of an inward experience of holiness”? For that matter\, what really does holiness mean to us?  Rev. Dr. Kathy Ellis preaches with worship associate Julie Ham.  Music Director David M. Glasgow provides service music.
URL:https://uucv.org/event/worship-sacrament-and-sanctuary/
LOCATION:Social Hall\, PA\, United States
CATEGORIES:Flag for Newsletter,Worship
END:VEVENT
BEGIN:VEVENT
DTSTART;TZID=America/New_York:20180819T090000
DTEND;TZID=America/New_York:20180819T100000
DTSTAMP:20260422T235122
CREATED:20180723T170220Z
LAST-MODIFIED:20180723T170220Z
UID:10008603-1534669200-1534672800@uucv.org
SUMMARY:Auction Team Meeting
DESCRIPTION:
URL:https://uucv.org/event/auction-team-meeting/
LOCATION:Board Room
CATEGORIES:Auction
ORGANIZER;CN="Wendy Gebb":MAILTO:wendywinter@comcast.net
END:VEVENT
BEGIN:VEVENT
DTSTART;TZID=America/New_York:20180818T090000
DTEND;TZID=America/New_York:20180818T120000
DTSTAMP:20260422T235122
CREATED:20180725T182756Z
LAST-MODIFIED:20180725T182756Z
UID:10011795-1534582800-1534593600@uucv.org
SUMMARY:Staff Retreat
DESCRIPTION:
URL:https://uucv.org/event/staff-retreat-2/
LOCATION:Off site Location
CATEGORIES:Education,Flag for Newsletter,Meetings
ORGANIZER;CN="Rev Aija Simpson":MAILTO: revaija@qmf.309.myftpupload.com
GEO:41.2033216;-77.1945247
END:VEVENT
BEGIN:VEVENT
DTSTART;TZID=America/New_York:20180817T090000
DTEND;TZID=America/New_York:20180817T150000
DTSTAMP:20260422T235122
CREATED:20180725T181229Z
LAST-MODIFIED:20180725T181229Z
UID:10011794-1534496400-1534518000@uucv.org
SUMMARY:Staff Retreat
DESCRIPTION:
URL:https://uucv.org/event/staff-retreat/
LOCATION:Off site Location
CATEGORIES:Education,Flag for Newsletter,Meetings,Office
ORGANIZER;CN="Rev Aija Simpson":MAILTO: revaija@qmf.309.myftpupload.com
GEO:41.2033216;-77.1945247
END:VEVENT
BEGIN:VEVENT
DTSTART;TZID=America/New_York:20180814T173000
DTEND;TZID=America/New_York:20180814T200000
DTSTAMP:20260422T235122
CREATED:20180725T180949Z
LAST-MODIFIED:20180725T180949Z
UID:10011793-1534267800-1534276800@uucv.org
SUMMARY:Executive Council Meeting
DESCRIPTION:
URL:https://uucv.org/event/executive-council-meeting/
LOCATION:Church Office\, PA\, United States
CATEGORIES:Flag for Newsletter,Meetings
GEO:41.2033216;-77.1945247
END:VEVENT
BEGIN:VEVENT
DTSTART;TZID=America/New_York:20180814T100000
DTEND;TZID=America/New_York:20180814T120000
DTSTAMP:20260422T235122
CREATED:20180725T180727Z
LAST-MODIFIED:20180725T180727Z
UID:10011792-1534240800-1534248000@uucv.org
SUMMARY:Auction Artists
DESCRIPTION:
URL:https://uucv.org/event/auction-artists/
LOCATION:Klein Emporium\, PA\, United States
CATEGORIES:Auction,Flag for Newsletter
ORGANIZER;CN="Char Klein":MAILTO:charklein@kuhncom.net
GEO:41.2033216;-77.1945247
END:VEVENT
BEGIN:VEVENT
DTSTART;TZID=America/New_York:20180812T103000
DTEND;TZID=America/New_York:20180812T113000
DTSTAMP:20260422T235122
CREATED:20180801T174534Z
LAST-MODIFIED:20180801T174534Z
UID:10011797-1534069800-1534073400@uucv.org
SUMMARY:Worship: "What is God?"
DESCRIPTION:God\, in the traditional concept\, is not something that we all believe in or agree with. How can we as UU’s interpret God to fit our beliefs?  Rachel Teates is service leader with worship associate Dick Poland.  Music Director David M. Glasgow provides service music\, and the choir sings.
URL:https://uucv.org/event/worship-what-is-god/
LOCATION:Social Hall\, PA\, United States
CATEGORIES:Choir,Flag for Newsletter,Worship
ORGANIZER;CN="Rachel Teates":MAILTO:teatesrl@gmail.com
END:VEVENT
BEGIN:VEVENT
DTSTART;TZID=America/New_York:20180811T090000
DTEND;TZID=America/New_York:20180811T140000
DTSTAMP:20260422T235122
CREATED:20180518T153912Z
LAST-MODIFIED:20180518T153912Z
UID:10011782-1533978000-1533996000@uucv.org
SUMMARY:Capital Campaign Steward Workshop
DESCRIPTION:
URL:https://uucv.org/event/capital-campaign-steward-workshop/
LOCATION:Board Room
CATEGORIES:Capital Campaign,Flag for Newsletter
END:VEVENT
BEGIN:VEVENT
DTSTART;VALUE=DATE:20180810
DTEND;VALUE=DATE:20180811
DTSTAMP:20260422T235122
CREATED:20180518T153757Z
LAST-MODIFIED:20180518T153757Z
UID:10011781-1533859200-1533945599@uucv.org
SUMMARY:Capital Campaign Steward Workshop Set Up
DESCRIPTION:
URL:https://uucv.org/event/capital-campaign-steward-workshop-set-up/
LOCATION:Dining Room
CATEGORIES:Capital Campaign,Flag for Newsletter
END:VEVENT
BEGIN:VEVENT
DTSTART;TZID=America/New_York:20180805T103000
DTEND;TZID=America/New_York:20180805T113000
DTSTAMP:20260422T235122
CREATED:20180801T174133Z
LAST-MODIFIED:20180801T174133Z
UID:10011796-1533465000-1533468600@uucv.org
SUMMARY:Worship: "Spirituality: What good is it?"
DESCRIPTION:Some talk of being “spiritual but not religious.” Others reject the very word spirit or spirituality. We’ll explore ways of understanding this quality.  Rev. Dr. Kathy Ellis preaches with worship associate Cheryl Parsons.  Marc Renault provides service music.
URL:https://uucv.org/event/worship-spirituality-what-good-is-it/
LOCATION:Social Hall\, PA\, United States
CATEGORIES:Community,Flag for Newsletter,Special Music,Worship
END:VEVENT
BEGIN:VEVENT
DTSTART;TZID=America/New_York:20180729T103000
DTEND;TZID=America/New_York:20180729T113000
DTSTAMP:20260422T235122
CREATED:20180627T183701Z
LAST-MODIFIED:20180627T183701Z
UID:10008596-1532860200-1532863800@uucv.org
SUMMARY:Worship: "God\, Goddess\, Gods?"
DESCRIPTION:How can we talk about God in a meaningful way? How well do we listen to others’ ideas and experiences of God?  Rev. Dr. Kathy Ellis leads worship with Cheryl Parsons as worship associate.  Music Director David M. Glasgow provides service music\, and the choir sings.
URL:https://uucv.org/event/worship-god-goddess-gods/
LOCATION:Social Hall\, PA\, United States
CATEGORIES:Choir,Flag for Newsletter,Special Music,Worship
END:VEVENT
BEGIN:VEVENT
DTSTART;TZID=America/New_York:20180727T130000
DTEND;TZID=America/New_York:20180727T150000
DTSTAMP:20260422T235122
CREATED:20180723T165808Z
LAST-MODIFIED:20180723T165808Z
UID:10008602-1532696400-1532703600@uucv.org
SUMMARY:Personnel Meeting
DESCRIPTION:
URL:https://uucv.org/event/personnel-meeting/
LOCATION:Board Room
ORGANIZER;CN="June Hoch":MAILTO:gjunehoch@gmail.com
END:VEVENT
BEGIN:VEVENT
DTSTART;TZID=America/New_York:20180727T093000
DTEND;TZID=America/New_York:20180727T120000
DTSTAMP:20260422T235122
CREATED:20180723T165728Z
LAST-MODIFIED:20180723T165728Z
UID:10008600-1532683800-1532692800@uucv.org
SUMMARY:CapCam Meeting
DESCRIPTION:
URL:https://uucv.org/event/capcam-meeting-3/
LOCATION:Board Room
CATEGORIES:Capital Campaign
END:VEVENT
BEGIN:VEVENT
DTSTART;TZID=America/New_York:20180722T103000
DTEND;TZID=America/New_York:20180722T113000
DTSTAMP:20260422T235122
CREATED:20180627T183410Z
LAST-MODIFIED:20180627T183410Z
UID:10008594-1532255400-1532259000@uucv.org
SUMMARY:Worship: "Resistance"
DESCRIPTION:About the “men of July 20th” (referring to July 20th\, 1944) a high level German resistance movement against the Nazis that tried to replace Hitler’s whole government to end the murderous regime\, the Holocaust and WWII. One of the men linked to the leaders of this coup was Dietrich Bonhoeffer.  Gisela Roethke is worship leader with Dick Poland as worship associate.  Pat Spader offers a prelude\, and Music Director David M. Glasgow provides service music.
URL:https://uucv.org/event/worship-resistance/
LOCATION:Social Hall\, PA\, United States
CATEGORIES:Flag for Newsletter,Special Music,Worship
ORGANIZER;CN="Gisela Roethe":MAILTO:roethke@dickinson.edu
END:VEVENT
BEGIN:VEVENT
DTSTART;TZID=America/New_York:20180715T113000
DTEND;TZID=America/New_York:20180715T123000
DTSTAMP:20260422T235122
CREATED:20180627T184207Z
LAST-MODIFIED:20180627T184207Z
UID:10008598-1531654200-1531657800@uucv.org
SUMMARY:Worship: "What is Faith?"
DESCRIPTION:We will begin our discussion of the book Fluent in Faith by considering the question of what is religion and what that can mean to us.  Rev. Dr. Kathy Ellis leads worship with Michele Burton as worship associate. Carole Knisely provides service music.
URL:https://uucv.org/event/worship-what-is-faith-2/
LOCATION:Social Hall\, PA\, United States
CATEGORIES:Flag for Newsletter,Worship
END:VEVENT
BEGIN:VEVENT
DTSTART;TZID=America/New_York:20180715T103000
DTEND;TZID=America/New_York:20180715T113000
DTSTAMP:20260422T235122
CREATED:20180627T183045Z
LAST-MODIFIED:20180627T183045Z
UID:10008592-1531650600-1531654200@uucv.org
SUMMARY:Worship: "What Is Faith?"
DESCRIPTION:What can the word “faith” mean to us as a community and as individuals?  Rev. Dr. Kathy Ellis leads worship with worship associate Dot Everhart.  Music Director David M. Glasgow provides service music\, and the choir sings music of Meg Barnhouse.
URL:https://uucv.org/event/worship-what-is-faith/
LOCATION:Social Hall\, PA\, United States
CATEGORIES:Choir,Flag for Newsletter,Special Music,Worship
END:VEVENT
BEGIN:VEVENT
DTSTART;TZID=America/New_York:20180706T093000
DTEND;TZID=America/New_York:20180706T120000
DTSTAMP:20260422T235122
CREATED:20180627T172058Z
LAST-MODIFIED:20180627T172058Z
UID:10008344-1530869400-1530878400@uucv.org
SUMMARY:Capital Campaign Meeting
DESCRIPTION:
URL:https://uucv.org/event/capital-campaign-meeting/
LOCATION:Dining Room
CATEGORIES:Capital Campaign
END:VEVENT
END:VCALENDAR