BEGIN:VCALENDAR
VERSION:2.0
PRODID:-//Unitarian Universalists of the Cumberland Valley - ECPv6.15.20//NONSGML v1.0//EN
CALSCALE:GREGORIAN
METHOD:PUBLISH
X-ORIGINAL-URL:https://uucv.org
X-WR-CALDESC:Events for Unitarian Universalists of the Cumberland Valley
REFRESH-INTERVAL;VALUE=DURATION:PT1H
X-Robots-Tag:noindex
X-PUBLISHED-TTL:PT1H
BEGIN:VTIMEZONE
TZID:America/New_York
BEGIN:DAYLIGHT
TZOFFSETFROM:-0500
TZOFFSETTO:-0400
TZNAME:EDT
DTSTART:20280312T070000
END:DAYLIGHT
BEGIN:STANDARD
TZOFFSETFROM:-0400
TZOFFSETTO:-0500
TZNAME:EST
DTSTART:20281105T060000
END:STANDARD
BEGIN:DAYLIGHT
TZOFFSETFROM:-0500
TZOFFSETTO:-0400
TZNAME:EDT
DTSTART:20290311T070000
END:DAYLIGHT
BEGIN:STANDARD
TZOFFSETFROM:-0400
TZOFFSETTO:-0500
TZNAME:EST
DTSTART:20291104T060000
END:STANDARD
BEGIN:DAYLIGHT
TZOFFSETFROM:-0500
TZOFFSETTO:-0400
TZNAME:EDT
DTSTART:20300310T070000
END:DAYLIGHT
BEGIN:STANDARD
TZOFFSETFROM:-0400
TZOFFSETTO:-0500
TZNAME:EST
DTSTART:20301103T060000
END:STANDARD
END:VTIMEZONE
BEGIN:VEVENT
DTSTART;TZID=America/New_York:20291023T180000
DTEND;TZID=America/New_York:20291023T200000
DTSTAMP:20260423T105640
CREATED:20251031T160914Z
LAST-MODIFIED:20251031T160914Z
UID:10021571-1887472800-1887480000@uucv.org
SUMMARY:COM
DESCRIPTION:
URL:https://uucv.org/event/com/2029-10-23/
LOCATION:Welcome Center
END:VEVENT
BEGIN:VEVENT
DTSTART;TZID=America/New_York:20291028T183000
DTEND;TZID=America/New_York:20291028T203000
DTSTAMP:20260423T105640
CREATED:20250115T181530Z
LAST-MODIFIED:20250115T181546Z
UID:10018816-1887906600-1887913800@uucv.org
SUMMARY:UUCV Book Group
DESCRIPTION:
URL:https://uucv.org/event/uucv-book-group-5/2029-10-28/
LOCATION:ZOOM https://zoom.us/my/uucvpa
END:VEVENT
BEGIN:VEVENT
DTSTART;TZID=America/New_York:20291106T194500
DTEND;TZID=America/New_York:20291106T210000
DTSTAMP:20260423T105640
CREATED:20250827T165850Z
LAST-MODIFIED:20250827T165850Z
UID:10021137-1888688700-1888693200@uucv.org
SUMMARY:Worship Leadership Team
DESCRIPTION:
URL:https://uucv.org/event/worship-leadership-team/2029-11-06/
LOCATION:Rev. Phoenix ZOOM
END:VEVENT
END:VCALENDAR