BEGIN:VCALENDAR
VERSION:2.0
PRODID:-//Unitarian Universalists of the Cumberland Valley - ECPv6.15.20//NONSGML v1.0//EN
CALSCALE:GREGORIAN
METHOD:PUBLISH
X-ORIGINAL-URL:https://uucv.org
X-WR-CALDESC:Events for Unitarian Universalists of the Cumberland Valley
REFRESH-INTERVAL;VALUE=DURATION:PT1H
X-Robots-Tag:noindex
X-PUBLISHED-TTL:PT1H
BEGIN:VTIMEZONE
TZID:America/New_York
BEGIN:DAYLIGHT
TZOFFSETFROM:-0500
TZOFFSETTO:-0400
TZNAME:EDT
DTSTART:20270314T070000
END:DAYLIGHT
BEGIN:STANDARD
TZOFFSETFROM:-0400
TZOFFSETTO:-0500
TZNAME:EST
DTSTART:20271107T060000
END:STANDARD
BEGIN:DAYLIGHT
TZOFFSETFROM:-0500
TZOFFSETTO:-0400
TZNAME:EDT
DTSTART:20280312T070000
END:DAYLIGHT
BEGIN:STANDARD
TZOFFSETFROM:-0400
TZOFFSETTO:-0500
TZNAME:EST
DTSTART:20281105T060000
END:STANDARD
BEGIN:DAYLIGHT
TZOFFSETFROM:-0500
TZOFFSETTO:-0400
TZNAME:EDT
DTSTART:20290311T070000
END:DAYLIGHT
BEGIN:STANDARD
TZOFFSETFROM:-0400
TZOFFSETTO:-0500
TZNAME:EST
DTSTART:20291104T060000
END:STANDARD
END:VTIMEZONE
BEGIN:VEVENT
DTSTART;TZID=America/New_York:20280721T163000
DTEND;TZID=America/New_York:20280721T180000
DTSTAMP:20260421T154240
CREATED:20250318T175806Z
LAST-MODIFIED:20250625T181544Z
UID:10020731-1847809800-1847815200@uucv.org
SUMMARY:Namely Women's Group - Area Homes
DESCRIPTION:
URL:https://uucv.org/event/namely-womens-group-backyards-2/2028-07-21/
LOCATION:Area Homes\, PA
CATEGORIES:SGM
END:VEVENT
BEGIN:VEVENT
DTSTART;TZID=America/New_York:20280723T183000
DTEND;TZID=America/New_York:20280723T203000
DTSTAMP:20260421T154240
CREATED:20250115T181530Z
LAST-MODIFIED:20250115T181546Z
UID:10018801-1847989800-1847997000@uucv.org
SUMMARY:UUCV Book Group
DESCRIPTION:
URL:https://uucv.org/event/uucv-book-group-5/2028-07-23/
LOCATION:ZOOM https://zoom.us/my/uucvpa
END:VEVENT
BEGIN:VEVENT
DTSTART;TZID=America/New_York:20280725T180000
DTEND;TZID=America/New_York:20280725T200000
DTSTAMP:20260421T154240
CREATED:20251031T160914Z
LAST-MODIFIED:20251031T160914Z
UID:10021556-1848160800-1848168000@uucv.org
SUMMARY:COM
DESCRIPTION:
URL:https://uucv.org/event/com/2028-07-25/
LOCATION:Welcome Center
END:VEVENT
BEGIN:VEVENT
DTSTART;TZID=America/New_York:20280801T194500
DTEND;TZID=America/New_York:20280801T210000
DTSTAMP:20260421T154240
CREATED:20250827T165850Z
LAST-MODIFIED:20250827T165850Z
UID:10021122-1848771900-1848776400@uucv.org
SUMMARY:Worship Leadership Team
DESCRIPTION:
URL:https://uucv.org/event/worship-leadership-team/2028-08-01/
LOCATION:Rev. Phoenix ZOOM
END:VEVENT
BEGIN:VEVENT
DTSTART;TZID=America/New_York:20280803T191500
DTEND;TZID=America/New_York:20280803T203000
DTSTAMP:20260421T154240
CREATED:20250829T170500Z
LAST-MODIFIED:20250829T170713Z
UID:10021182-1848942900-1848947400@uucv.org
SUMMARY:Soul Matters Small Group Open to ALL
DESCRIPTION:
URL:https://uucv.org/event/soul-matters-small-group/2028-08-03/
LOCATION:ZOOM https://zoom.us/my/uucvpa
END:VEVENT
END:VCALENDAR