BEGIN:VCALENDAR
VERSION:2.0
PRODID:-//Unitarian Universalists of the Cumberland Valley - ECPv6.15.20//NONSGML v1.0//EN
CALSCALE:GREGORIAN
METHOD:PUBLISH
X-ORIGINAL-URL:https://uucv.org
X-WR-CALDESC:Events for Unitarian Universalists of the Cumberland Valley
REFRESH-INTERVAL;VALUE=DURATION:PT1H
X-Robots-Tag:noindex
X-PUBLISHED-TTL:PT1H
BEGIN:VTIMEZONE
TZID:America/New_York
BEGIN:DAYLIGHT
TZOFFSETFROM:-0500
TZOFFSETTO:-0400
TZNAME:EDT
DTSTART:20260308T070000
END:DAYLIGHT
BEGIN:STANDARD
TZOFFSETFROM:-0400
TZOFFSETTO:-0500
TZNAME:EST
DTSTART:20261101T060000
END:STANDARD
BEGIN:DAYLIGHT
TZOFFSETFROM:-0500
TZOFFSETTO:-0400
TZNAME:EDT
DTSTART:20270314T070000
END:DAYLIGHT
BEGIN:STANDARD
TZOFFSETFROM:-0400
TZOFFSETTO:-0500
TZNAME:EST
DTSTART:20271107T060000
END:STANDARD
BEGIN:DAYLIGHT
TZOFFSETFROM:-0500
TZOFFSETTO:-0400
TZNAME:EDT
DTSTART:20280312T070000
END:DAYLIGHT
BEGIN:STANDARD
TZOFFSETFROM:-0400
TZOFFSETTO:-0500
TZNAME:EST
DTSTART:20281105T060000
END:STANDARD
END:VTIMEZONE
BEGIN:VEVENT
DTSTART;TZID=America/New_York:20270319T163000
DTEND;TZID=America/New_York:20270319T180000
DTSTAMP:20260419T200539
CREATED:20250318T175806Z
LAST-MODIFIED:20250625T181544Z
UID:10020715-1805473800-1805479200@uucv.org
SUMMARY:Namely Women's Group - Area Homes
DESCRIPTION:
URL:https://uucv.org/event/namely-womens-group-backyards-2/2027-03-19/
LOCATION:Area Homes\, PA
CATEGORIES:SGM
END:VEVENT
BEGIN:VEVENT
DTSTART;TZID=America/New_York:20270321T120000
DTEND;TZID=America/New_York:20270321T130000
DTSTAMP:20260419T200539
CREATED:20251031T161626Z
LAST-MODIFIED:20251031T161626Z
UID:10021601-1805630400-1805634000@uucv.org
SUMMARY:Outreach and Membership Meeting
DESCRIPTION:
URL:https://uucv.org/event/outreach-and-membership-meeting/2027-03-21/
LOCATION:Welcome Center
END:VEVENT
BEGIN:VEVENT
DTSTART;TZID=America/New_York:20270321T120000
DTEND;TZID=America/New_York:20270321T133000
DTSTAMP:20260419T200539
CREATED:20240328T143311Z
LAST-MODIFIED:20240328T143312Z
UID:10017381-1805630400-1805635800@uucv.org
SUMMARY:Worship Associates
DESCRIPTION:
URL:https://uucv.org/event/worship-associates-2/2027-03-21/
LOCATION:Social Hall\, PA\, United States
END:VEVENT
BEGIN:VEVENT
DTSTART;TZID=America/New_York:20270321T133000
DTEND;TZID=America/New_York:20270321T133000
DTSTAMP:20260419T200540
CREATED:20250318T175647Z
LAST-MODIFIED:20250318T175647Z
UID:10016336-1805635800-1805635800@uucv.org
SUMMARY:Kumquats - Joan's House
DESCRIPTION:
URL:https://uucv.org/event/kumquats-joans-house-2/2027-03-21/
LOCATION:Area Homes
END:VEVENT
BEGIN:VEVENT
DTSTART;TZID=America/New_York:20270323T180000
DTEND;TZID=America/New_York:20270323T200000
DTSTAMP:20260419T200540
CREATED:20251031T160914Z
LAST-MODIFIED:20251031T160914Z
UID:10021540-1805824800-1805832000@uucv.org
SUMMARY:COM
DESCRIPTION:
URL:https://uucv.org/event/com/2027-03-23/
LOCATION:Welcome Center
END:VEVENT
END:VCALENDAR