BEGIN:VCALENDAR
VERSION:2.0
PRODID:-//Unitarian Universalists of the Cumberland Valley - ECPv6.15.20//NONSGML v1.0//EN
CALSCALE:GREGORIAN
METHOD:PUBLISH
X-ORIGINAL-URL:https://uucv.org
X-WR-CALDESC:Events for Unitarian Universalists of the Cumberland Valley
REFRESH-INTERVAL;VALUE=DURATION:PT1H
X-Robots-Tag:noindex
X-PUBLISHED-TTL:PT1H
BEGIN:VTIMEZONE
TZID:America/New_York
BEGIN:DAYLIGHT
TZOFFSETFROM:-0500
TZOFFSETTO:-0400
TZNAME:EDT
DTSTART:20250309T070000
END:DAYLIGHT
BEGIN:STANDARD
TZOFFSETFROM:-0400
TZOFFSETTO:-0500
TZNAME:EST
DTSTART:20251102T060000
END:STANDARD
BEGIN:DAYLIGHT
TZOFFSETFROM:-0500
TZOFFSETTO:-0400
TZNAME:EDT
DTSTART:20260308T070000
END:DAYLIGHT
BEGIN:STANDARD
TZOFFSETFROM:-0400
TZOFFSETTO:-0500
TZNAME:EST
DTSTART:20261101T060000
END:STANDARD
BEGIN:DAYLIGHT
TZOFFSETFROM:-0500
TZOFFSETTO:-0400
TZNAME:EDT
DTSTART:20270314T070000
END:DAYLIGHT
BEGIN:STANDARD
TZOFFSETFROM:-0400
TZOFFSETTO:-0500
TZNAME:EST
DTSTART:20271107T060000
END:STANDARD
END:VTIMEZONE
BEGIN:VEVENT
DTSTART;TZID=America/New_York:20261119T140000
DTEND;TZID=America/New_York:20261119T160000
DTSTAMP:20260419T145358
CREATED:20250115T181345Z
LAST-MODIFIED:20250115T181345Z
UID:10018721-1795096800-1795104000@uucv.org
SUMMARY:The Divers Small Group
DESCRIPTION:
URL:https://uucv.org/event/gail-mike-small-group-2/2026-11-19/
LOCATION:Youuth Room
END:VEVENT
BEGIN:VEVENT
DTSTART;TZID=America/New_York:20261119T191500
DTEND;TZID=America/New_York:20261119T203000
DTSTAMP:20260419T145358
CREATED:20250829T170618Z
LAST-MODIFIED:20250829T170618Z
UID:10021221-1795115700-1795120200@uucv.org
SUMMARY:Soul Matters Small Group Open to ALL
DESCRIPTION:
URL:https://uucv.org/event/soul-matters-small-group-open-to-all/2026-11-19/
LOCATION:https://zoom.us/my/uucvpa
END:VEVENT
BEGIN:VEVENT
DTSTART;TZID=America/New_York:20261120T163000
DTEND;TZID=America/New_York:20261120T180000
DTSTAMP:20260419T145358
CREATED:20250318T175806Z
LAST-MODIFIED:20250625T181544Z
UID:10020711-1795192200-1795197600@uucv.org
SUMMARY:Namely Women's Group - Area Homes
DESCRIPTION:
URL:https://uucv.org/event/namely-womens-group-backyards-2/2026-11-20/
LOCATION:Area Homes\, PA
CATEGORIES:SGM
END:VEVENT
BEGIN:VEVENT
DTSTART;TZID=America/New_York:20261122T183000
DTEND;TZID=America/New_York:20261122T203000
DTSTAMP:20260419T145358
CREATED:20250115T181530Z
LAST-MODIFIED:20250115T181546Z
UID:10018781-1795372200-1795379400@uucv.org
SUMMARY:UUCV Book Group
DESCRIPTION:
URL:https://uucv.org/event/uucv-book-group-5/2026-11-22/
LOCATION:ZOOM https://zoom.us/my/uucvpa
END:VEVENT
BEGIN:VEVENT
DTSTART;TZID=America/New_York:20261124T180000
DTEND;TZID=America/New_York:20261124T200000
DTSTAMP:20260419T145358
CREATED:20251031T160914Z
LAST-MODIFIED:20251031T160914Z
UID:10021536-1795543200-1795550400@uucv.org
SUMMARY:COM
DESCRIPTION:
URL:https://uucv.org/event/com/2026-11-24/
LOCATION:Welcome Center
END:VEVENT
END:VCALENDAR