BEGIN:VCALENDAR
VERSION:2.0
PRODID:-//Unitarian Universalists of the Cumberland Valley - ECPv6.15.20//NONSGML v1.0//EN
CALSCALE:GREGORIAN
METHOD:PUBLISH
X-ORIGINAL-URL:https://uucv.org
X-WR-CALDESC:Events for Unitarian Universalists of the Cumberland Valley
REFRESH-INTERVAL;VALUE=DURATION:PT1H
X-Robots-Tag:noindex
X-PUBLISHED-TTL:PT1H
BEGIN:VTIMEZONE
TZID:America/New_York
BEGIN:DAYLIGHT
TZOFFSETFROM:-0500
TZOFFSETTO:-0400
TZNAME:EDT
DTSTART:20250309T070000
END:DAYLIGHT
BEGIN:STANDARD
TZOFFSETFROM:-0400
TZOFFSETTO:-0500
TZNAME:EST
DTSTART:20251102T060000
END:STANDARD
BEGIN:DAYLIGHT
TZOFFSETFROM:-0500
TZOFFSETTO:-0400
TZNAME:EDT
DTSTART:20260308T070000
END:DAYLIGHT
BEGIN:STANDARD
TZOFFSETFROM:-0400
TZOFFSETTO:-0500
TZNAME:EST
DTSTART:20261101T060000
END:STANDARD
BEGIN:DAYLIGHT
TZOFFSETFROM:-0500
TZOFFSETTO:-0400
TZNAME:EDT
DTSTART:20270314T070000
END:DAYLIGHT
BEGIN:STANDARD
TZOFFSETFROM:-0400
TZOFFSETTO:-0500
TZNAME:EST
DTSTART:20271107T060000
END:STANDARD
END:VTIMEZONE
BEGIN:VEVENT
DTSTART;TZID=America/New_York:20260730T180000
DTEND;TZID=America/New_York:20260730T200000
DTSTAMP:20260419T093932
CREATED:20250625T151035Z
LAST-MODIFIED:20250625T151035Z
UID:10020371-1785434400-1785441600@uucv.org
SUMMARY:B & G Committee Meeting
DESCRIPTION:
URL:https://uucv.org/event/b-g-committee-meeting-4/2026-07-30/
LOCATION:Sanctuary and ZOOM https://zoom.us/my/uucvpa\, PA\, United States
END:VEVENT
BEGIN:VEVENT
DTSTART;TZID=America/New_York:20260804T194500
DTEND;TZID=America/New_York:20260804T210000
DTSTAMP:20260419T093932
CREATED:20250827T165850Z
LAST-MODIFIED:20250827T165850Z
UID:10021098-1785872700-1785877200@uucv.org
SUMMARY:Worship Leadership Team
DESCRIPTION:
URL:https://uucv.org/event/worship-leadership-team/2026-08-04/
LOCATION:Rev. Phoenix ZOOM
END:VEVENT
BEGIN:VEVENT
DTSTART;TZID=America/New_York:20260806T191500
DTEND;TZID=America/New_York:20260806T203000
DTSTAMP:20260419T093932
CREATED:20250829T170500Z
LAST-MODIFIED:20250829T170713Z
UID:10021158-1786043700-1786048200@uucv.org
SUMMARY:Soul Matters Small Group Open to ALL
DESCRIPTION:
URL:https://uucv.org/event/soul-matters-small-group/2026-08-06/
LOCATION:ZOOM https://zoom.us/my/uucvpa
END:VEVENT
BEGIN:VEVENT
DTSTART;TZID=America/New_York:20260807T180000
DTEND;TZID=America/New_York:20260807T200000
DTSTAMP:20260419T093932
CREATED:20251031T160512Z
LAST-MODIFIED:20251031T160512Z
UID:10021412-1786125600-1786132800@uucv.org
SUMMARY:First Fridays Community Night
DESCRIPTION:
URL:https://uucv.org/event/first-fridays-community-night/2026-08-07/
LOCATION:Dining Room
END:VEVENT
BEGIN:VEVENT
DTSTART;TZID=America/New_York:20260808T090000
DTEND;TZID=America/New_York:20260808T110000
DTSTAMP:20260419T093932
CREATED:20250910T142406Z
LAST-MODIFIED:20250910T172931Z
UID:10021280-1786179600-1786186800@uucv.org
SUMMARY:Caregivers Circle
DESCRIPTION:
URL:https://uucv.org/event/caregivers-circle-8/2026-08-08/
LOCATION:Youuth Room
END:VEVENT
BEGIN:VEVENT
DTSTART;TZID=America/New_York:20260814T120000
DTEND;TZID=America/New_York:20260814T140000
DTSTAMP:20260419T093932
CREATED:20251125T191056Z
LAST-MODIFIED:20251125T191057Z
UID:10021786-1786708800-1786716000@uucv.org
SUMMARY:Soup Matters for All
DESCRIPTION:
URL:https://uucv.org/event/soup-matters-for-all-2/2026-08-14/
LOCATION:Dining Room
END:VEVENT
END:VCALENDAR