BEGIN:VCALENDAR
VERSION:2.0
PRODID:-//Unitarian Universalists of the Cumberland Valley - ECPv6.15.20//NONSGML v1.0//EN
CALSCALE:GREGORIAN
METHOD:PUBLISH
X-WR-CALNAME:Unitarian Universalists of the Cumberland Valley
X-ORIGINAL-URL:https://uucv.org
X-WR-CALDESC:Events for Unitarian Universalists of the Cumberland Valley
REFRESH-INTERVAL;VALUE=DURATION:PT1H
X-Robots-Tag:noindex
X-PUBLISHED-TTL:PT1H
BEGIN:VTIMEZONE
TZID:America/New_York
BEGIN:DAYLIGHT
TZOFFSETFROM:-0500
TZOFFSETTO:-0400
TZNAME:EDT
DTSTART:20280312T070000
END:DAYLIGHT
BEGIN:STANDARD
TZOFFSETFROM:-0400
TZOFFSETTO:-0500
TZNAME:EST
DTSTART:20281105T060000
END:STANDARD
BEGIN:DAYLIGHT
TZOFFSETFROM:-0500
TZOFFSETTO:-0400
TZNAME:EDT
DTSTART:20290311T070000
END:DAYLIGHT
BEGIN:STANDARD
TZOFFSETFROM:-0400
TZOFFSETTO:-0500
TZNAME:EST
DTSTART:20291104T060000
END:STANDARD
BEGIN:DAYLIGHT
TZOFFSETFROM:-0500
TZOFFSETTO:-0400
TZNAME:EDT
DTSTART:20300310T070000
END:DAYLIGHT
BEGIN:STANDARD
TZOFFSETFROM:-0400
TZOFFSETTO:-0500
TZNAME:EST
DTSTART:20301103T060000
END:STANDARD
END:VTIMEZONE
BEGIN:VEVENT
DTSTART;TZID=America/New_York:20290512T090000
DTEND;TZID=America/New_York:20290512T110000
DTSTAMP:20260423T043737
CREATED:20250910T142406Z
LAST-MODIFIED:20250910T172931Z
UID:10021313-1873270800-1873278000@uucv.org
SUMMARY:Caregivers Circle
DESCRIPTION:
URL:https://uucv.org/event/caregivers-circle-8/2029-05-12/
LOCATION:Youuth Room
END:VEVENT
BEGIN:VEVENT
DTSTART;TZID=America/New_York:20290513T083000
DTEND;TZID=America/New_York:20290513T100000
DTSTAMP:20260423T043737
CREATED:20250827T133907Z
LAST-MODIFIED:20250827T133908Z
UID:10021044-1873355400-1873360800@uucv.org
SUMMARY:Word Weavers Small Group
DESCRIPTION:
URL:https://uucv.org/event/word-weavers-small-group-2/2029-05-13/
LOCATION:Board Room
END:VEVENT
BEGIN:VEVENT
DTSTART;TZID=America/New_York:20290514T193000
DTEND;TZID=America/New_York:20290514T210000
DTSTAMP:20260423T043737
CREATED:20250827T133745Z
LAST-MODIFIED:20250827T133746Z
UID:10020985-1873481400-1873486800@uucv.org
SUMMARY:Finance
DESCRIPTION:
URL:https://uucv.org/event/finance-3-2-2-2/2029-05-14/
LOCATION:Offsite ZOOM
END:VEVENT
END:VCALENDAR