BEGIN:VCALENDAR
VERSION:2.0
PRODID:-//Unitarian Universalists of the Cumberland Valley - ECPv6.15.20//NONSGML v1.0//EN
CALSCALE:GREGORIAN
METHOD:PUBLISH
X-WR-CALNAME:Unitarian Universalists of the Cumberland Valley
X-ORIGINAL-URL:https://uucv.org
X-WR-CALDESC:Events for Unitarian Universalists of the Cumberland Valley
REFRESH-INTERVAL;VALUE=DURATION:PT1H
X-Robots-Tag:noindex
X-PUBLISHED-TTL:PT1H
BEGIN:VTIMEZONE
TZID:America/New_York
BEGIN:DAYLIGHT
TZOFFSETFROM:-0500
TZOFFSETTO:-0400
TZNAME:EDT
DTSTART:20250309T070000
END:DAYLIGHT
BEGIN:STANDARD
TZOFFSETFROM:-0400
TZOFFSETTO:-0500
TZNAME:EST
DTSTART:20251102T060000
END:STANDARD
BEGIN:DAYLIGHT
TZOFFSETFROM:-0500
TZOFFSETTO:-0400
TZNAME:EDT
DTSTART:20260308T070000
END:DAYLIGHT
BEGIN:STANDARD
TZOFFSETFROM:-0400
TZOFFSETTO:-0500
TZNAME:EST
DTSTART:20261101T060000
END:STANDARD
BEGIN:DAYLIGHT
TZOFFSETFROM:-0500
TZOFFSETTO:-0400
TZNAME:EDT
DTSTART:20270314T070000
END:DAYLIGHT
BEGIN:STANDARD
TZOFFSETFROM:-0400
TZOFFSETTO:-0500
TZNAME:EST
DTSTART:20271107T060000
END:STANDARD
END:VTIMEZONE
BEGIN:VEVENT
DTSTART;TZID=America/New_York:20261214T193000
DTEND;TZID=America/New_York:20261214T210000
DTSTAMP:20260419T145547
CREATED:20250827T133745Z
LAST-MODIFIED:20250827T133746Z
UID:10020956-1797276600-1797282000@uucv.org
SUMMARY:Finance
DESCRIPTION:
URL:https://uucv.org/event/finance-3-2-2-2/2026-12-14/
LOCATION:Offsite ZOOM
END:VEVENT
BEGIN:VEVENT
DTSTART;TZID=America/New_York:20261215T183000
DTEND;TZID=America/New_York:20261215T203000
DTSTAMP:20260419T145547
CREATED:20250926T182036Z
LAST-MODIFIED:20250926T182037Z
UID:10021350-1797359400-1797366600@uucv.org
SUMMARY:Board of Trustees
DESCRIPTION:
URL:https://uucv.org/event/board-of-trustees-2/2026-12-15/
LOCATION:Board Room and ZOOM https://zoom.us/my/uucvpa
END:VEVENT
BEGIN:VEVENT
DTSTART;TZID=America/New_York:20261220T120000
DTEND;TZID=America/New_York:20261220T130000
DTSTAMP:20260419T145547
CREATED:20251031T161626Z
LAST-MODIFIED:20251031T161626Z
UID:10021598-1797768000-1797771600@uucv.org
SUMMARY:Outreach and Membership Meeting
DESCRIPTION:
URL:https://uucv.org/event/outreach-and-membership-meeting/2026-12-20/
LOCATION:Welcome Center
END:VEVENT
BEGIN:VEVENT
DTSTART;TZID=America/New_York:20261220T120000
DTEND;TZID=America/New_York:20261220T133000
DTSTAMP:20260419T145547
CREATED:20240328T143311Z
LAST-MODIFIED:20240328T143312Z
UID:10017378-1797768000-1797773400@uucv.org
SUMMARY:Worship Associates
DESCRIPTION:
URL:https://uucv.org/event/worship-associates-2/2026-12-20/
LOCATION:Social Hall\, PA\, United States
END:VEVENT
BEGIN:VEVENT
DTSTART;TZID=America/New_York:20261220T133000
DTEND;TZID=America/New_York:20261220T133000
DTSTAMP:20260419T145547
CREATED:20250318T175647Z
LAST-MODIFIED:20250318T175647Z
UID:10016333-1797773400-1797773400@uucv.org
SUMMARY:Kumquats - Joan's House
DESCRIPTION:
URL:https://uucv.org/event/kumquats-joans-house-2/2026-12-20/
LOCATION:Area Homes
END:VEVENT
END:VCALENDAR