BEGIN:VCALENDAR
VERSION:2.0
PRODID:-//Unitarian Universalists of the Cumberland Valley - ECPv6.15.20//NONSGML v1.0//EN
CALSCALE:GREGORIAN
METHOD:PUBLISH
X-WR-CALNAME:Unitarian Universalists of the Cumberland Valley
X-ORIGINAL-URL:https://uucv.org
X-WR-CALDESC:Events for Unitarian Universalists of the Cumberland Valley
REFRESH-INTERVAL;VALUE=DURATION:PT1H
X-Robots-Tag:noindex
X-PUBLISHED-TTL:PT1H
BEGIN:VTIMEZONE
TZID:America/New_York
BEGIN:DAYLIGHT
TZOFFSETFROM:-0500
TZOFFSETTO:-0400
TZNAME:EDT
DTSTART:20250309T070000
END:DAYLIGHT
BEGIN:STANDARD
TZOFFSETFROM:-0400
TZOFFSETTO:-0500
TZNAME:EST
DTSTART:20251102T060000
END:STANDARD
BEGIN:DAYLIGHT
TZOFFSETFROM:-0500
TZOFFSETTO:-0400
TZNAME:EDT
DTSTART:20260308T070000
END:DAYLIGHT
BEGIN:STANDARD
TZOFFSETFROM:-0400
TZOFFSETTO:-0500
TZNAME:EST
DTSTART:20261101T060000
END:STANDARD
BEGIN:DAYLIGHT
TZOFFSETFROM:-0500
TZOFFSETTO:-0400
TZNAME:EDT
DTSTART:20270314T070000
END:DAYLIGHT
BEGIN:STANDARD
TZOFFSETFROM:-0400
TZOFFSETTO:-0500
TZNAME:EST
DTSTART:20271107T060000
END:STANDARD
END:VTIMEZONE
BEGIN:VEVENT
DTSTART;TZID=America/New_York:20261006T194500
DTEND;TZID=America/New_York:20261006T210000
DTSTAMP:20260419T162649
CREATED:20250827T165850Z
LAST-MODIFIED:20250827T165850Z
UID:10021100-1791315900-1791320400@uucv.org
SUMMARY:Worship Leadership Team
DESCRIPTION:
URL:https://uucv.org/event/worship-leadership-team/2026-10-06/
LOCATION:Rev. Phoenix ZOOM
END:VEVENT
BEGIN:VEVENT
DTSTART;TZID=America/New_York:20261009T120000
DTEND;TZID=America/New_York:20261009T140000
DTSTAMP:20260419T162649
CREATED:20251125T191056Z
LAST-MODIFIED:20251125T191057Z
UID:10021788-1791547200-1791554400@uucv.org
SUMMARY:Soup Matters for All
DESCRIPTION:
URL:https://uucv.org/event/soup-matters-for-all-2/2026-10-09/
LOCATION:Dining Room
END:VEVENT
BEGIN:VEVENT
DTSTART;TZID=America/New_York:20261010T090000
DTEND;TZID=America/New_York:20261010T110000
DTSTAMP:20260419T162649
CREATED:20250910T142406Z
LAST-MODIFIED:20250910T172931Z
UID:10021282-1791622800-1791630000@uucv.org
SUMMARY:Caregivers Circle
DESCRIPTION:
URL:https://uucv.org/event/caregivers-circle-8/2026-10-10/
LOCATION:Youuth Room
END:VEVENT
BEGIN:VEVENT
DTSTART;TZID=America/New_York:20261011T083000
DTEND;TZID=America/New_York:20261011T100000
DTSTAMP:20260419T162649
CREATED:20250827T133907Z
LAST-MODIFIED:20250827T133908Z
UID:10021013-1791707400-1791712800@uucv.org
SUMMARY:Word Weavers Small Group
DESCRIPTION:
URL:https://uucv.org/event/word-weavers-small-group-2/2026-10-11/
LOCATION:Board Room
END:VEVENT
BEGIN:VEVENT
DTSTART;TZID=America/New_York:20261012T193000
DTEND;TZID=America/New_York:20261012T210000
DTSTAMP:20260419T162649
CREATED:20250827T133745Z
LAST-MODIFIED:20250827T133746Z
UID:10020954-1791833400-1791838800@uucv.org
SUMMARY:Finance
DESCRIPTION:
URL:https://uucv.org/event/finance-3-2-2-2/2026-10-12/
LOCATION:Offsite ZOOM
END:VEVENT
BEGIN:VEVENT
DTSTART;TZID=America/New_York:20261020T183000
DTEND;TZID=America/New_York:20261020T203000
DTSTAMP:20260419T162649
CREATED:20250926T182036Z
LAST-MODIFIED:20250926T182037Z
UID:10021348-1792521000-1792528200@uucv.org
SUMMARY:Board of Trustees
DESCRIPTION:
URL:https://uucv.org/event/board-of-trustees-2/2026-10-20/
LOCATION:Board Room and ZOOM https://zoom.us/my/uucvpa
END:VEVENT
END:VCALENDAR