BEGIN:VCALENDAR
VERSION:2.0
PRODID:-//Unitarian Universalists of the Cumberland Valley - ECPv6.15.20//NONSGML v1.0//EN
CALSCALE:GREGORIAN
METHOD:PUBLISH
X-WR-CALNAME:Unitarian Universalists of the Cumberland Valley
X-ORIGINAL-URL:https://uucv.org
X-WR-CALDESC:Events for Unitarian Universalists of the Cumberland Valley
REFRESH-INTERVAL;VALUE=DURATION:PT1H
X-Robots-Tag:noindex
X-PUBLISHED-TTL:PT1H
BEGIN:VTIMEZONE
TZID:America/New_York
BEGIN:DAYLIGHT
TZOFFSETFROM:-0500
TZOFFSETTO:-0400
TZNAME:EDT
DTSTART:20250309T070000
END:DAYLIGHT
BEGIN:STANDARD
TZOFFSETFROM:-0400
TZOFFSETTO:-0500
TZNAME:EST
DTSTART:20251102T060000
END:STANDARD
BEGIN:DAYLIGHT
TZOFFSETFROM:-0500
TZOFFSETTO:-0400
TZNAME:EDT
DTSTART:20260308T070000
END:DAYLIGHT
BEGIN:STANDARD
TZOFFSETFROM:-0400
TZOFFSETTO:-0500
TZNAME:EST
DTSTART:20261101T060000
END:STANDARD
BEGIN:DAYLIGHT
TZOFFSETFROM:-0500
TZOFFSETTO:-0400
TZNAME:EDT
DTSTART:20270314T070000
END:DAYLIGHT
BEGIN:STANDARD
TZOFFSETFROM:-0400
TZOFFSETTO:-0500
TZNAME:EST
DTSTART:20271107T060000
END:STANDARD
END:VTIMEZONE
BEGIN:VEVENT
DTSTART;TZID=America/New_York:20260219T191500
DTEND;TZID=America/New_York:20260219T203000
DTSTAMP:20260421T164417
CREATED:20250829T170618Z
LAST-MODIFIED:20250829T170618Z
UID:10021212-1771528500-1771533000@uucv.org
SUMMARY:Soul Matters Small Group Open to ALL
DESCRIPTION:
URL:https://uucv.org/event/soul-matters-small-group-open-to-all/2026-02-19/
LOCATION:https://zoom.us/my/uucvpa
END:VEVENT
BEGIN:VEVENT
DTSTART;TZID=America/New_York:20260220T163000
DTEND;TZID=America/New_York:20260220T180000
DTSTAMP:20260421T164417
CREATED:20250318T175806Z
LAST-MODIFIED:20250625T181544Z
UID:10020702-1771605000-1771610400@uucv.org
SUMMARY:Namely Women's Group - Area Homes
DESCRIPTION:
URL:https://uucv.org/event/namely-womens-group-backyards-2/2026-02-20/
LOCATION:Area Homes\, PA
CATEGORIES:SGM
END:VEVENT
BEGIN:VEVENT
DTSTART;TZID=America/New_York:20260222T183000
DTEND;TZID=America/New_York:20260222T203000
DTSTAMP:20260421T164417
CREATED:20250115T181530Z
LAST-MODIFIED:20250115T181546Z
UID:10018772-1771785000-1771792200@uucv.org
SUMMARY:UUCV Book Group
DESCRIPTION:
URL:https://uucv.org/event/uucv-book-group-5/2026-02-22/
LOCATION:ZOOM https://zoom.us/my/uucvpa
END:VEVENT
BEGIN:VEVENT
DTSTART;TZID=America/New_York:20260224T180000
DTEND;TZID=America/New_York:20260224T200000
DTSTAMP:20260421T164417
CREATED:20251031T160914Z
LAST-MODIFIED:20251031T160914Z
UID:10021527-1771956000-1771963200@uucv.org
SUMMARY:COM
DESCRIPTION:
URL:https://uucv.org/event/com/2026-02-24/
LOCATION:Welcome Center
END:VEVENT
BEGIN:VEVENT
DTSTART;TZID=America/New_York:20260303T194500
DTEND;TZID=America/New_York:20260303T210000
DTSTAMP:20260421T164417
CREATED:20250827T165850Z
LAST-MODIFIED:20250827T165850Z
UID:10021093-1772567100-1772571600@uucv.org
SUMMARY:Worship Leadership Team
DESCRIPTION:
URL:https://uucv.org/event/worship-leadership-team/2026-03-03/
LOCATION:Rev. Phoenix ZOOM
END:VEVENT
BEGIN:VEVENT
DTSTART;TZID=America/New_York:20260305T191500
DTEND;TZID=America/New_York:20260305T203000
DTSTAMP:20260421T164417
CREATED:20250829T170500Z
LAST-MODIFIED:20250829T170713Z
UID:10021153-1772738100-1772742600@uucv.org
SUMMARY:Soul Matters Small Group Open to ALL
DESCRIPTION:
URL:https://uucv.org/event/soul-matters-small-group/2026-03-05/
LOCATION:ZOOM https://zoom.us/my/uucvpa
END:VEVENT
BEGIN:VEVENT
DTSTART;TZID=America/New_York:20260306T180000
DTEND;TZID=America/New_York:20260306T200000
DTSTAMP:20260421T164417
CREATED:20251031T160512Z
LAST-MODIFIED:20251031T160512Z
UID:10021407-1772820000-1772827200@uucv.org
SUMMARY:First Fridays Community Night
DESCRIPTION:
URL:https://uucv.org/event/first-fridays-community-night/2026-03-06/
LOCATION:Dining Room
END:VEVENT
BEGIN:VEVENT
DTSTART;TZID=America/New_York:20260501T173000
DTEND;TZID=America/New_York:20260501T203000
DTSTAMP:20260421T164417
CREATED:20250929T140239Z
LAST-MODIFIED:20250929T140239Z
UID:10021401-1777656600-1777667400@uucv.org
SUMMARY:UUCV Oudoor Service and Pot Luck
DESCRIPTION:
URL:https://uucv.org/event/uucv-oudoor-service-and-pot-luck/
LOCATION:Outside at UUCV
END:VEVENT
END:VCALENDAR