BEGIN:VCALENDAR
VERSION:2.0
PRODID:-//Unitarian Universalists of the Cumberland Valley - ECPv6.15.20//NONSGML v1.0//EN
CALSCALE:GREGORIAN
METHOD:PUBLISH
X-ORIGINAL-URL:https://uucv.org
X-WR-CALDESC:Events for Unitarian Universalists of the Cumberland Valley
REFRESH-INTERVAL;VALUE=DURATION:PT1H
X-Robots-Tag:noindex
X-PUBLISHED-TTL:PT1H
BEGIN:VTIMEZONE
TZID:America/New_York
BEGIN:DAYLIGHT
TZOFFSETFROM:-0500
TZOFFSETTO:-0400
TZNAME:EDT
DTSTART:20210314T070000
END:DAYLIGHT
BEGIN:STANDARD
TZOFFSETFROM:-0400
TZOFFSETTO:-0500
TZNAME:EST
DTSTART:20211107T060000
END:STANDARD
BEGIN:DAYLIGHT
TZOFFSETFROM:-0500
TZOFFSETTO:-0400
TZNAME:EDT
DTSTART:20220313T070000
END:DAYLIGHT
BEGIN:STANDARD
TZOFFSETFROM:-0400
TZOFFSETTO:-0500
TZNAME:EST
DTSTART:20221106T060000
END:STANDARD
BEGIN:DAYLIGHT
TZOFFSETFROM:-0500
TZOFFSETTO:-0400
TZNAME:EDT
DTSTART:20230312T070000
END:DAYLIGHT
BEGIN:STANDARD
TZOFFSETFROM:-0400
TZOFFSETTO:-0500
TZNAME:EST
DTSTART:20231105T060000
END:STANDARD
END:VTIMEZONE
BEGIN:VEVENT
DTSTART;TZID=America/New_York:20220821T130000
DTEND;TZID=America/New_York:20220821T160000
DTSTAMP:20260421T195941
CREATED:20220617T161000Z
LAST-MODIFIED:20220808T140532Z
UID:10012947-1661086800-1661097600@uucv.org
SUMMARY:Back to School FREE Clothing and Book Swap
DESCRIPTION:It’s time to get ready for school! Join us for this family event. \nBring your gently used clothing and well loved books to swap for new-to-you treasures!
URL:https://uucv.org/event/back-to-school-free-clothing-and-book-swap/
LOCATION:Dining Hall
END:VEVENT
BEGIN:VEVENT
DTSTART;TZID=America/New_York:20220813T110000
DTEND;TZID=America/New_York:20220813T190000
DTSTAMP:20260421T195941
CREATED:20220331T161426Z
LAST-MODIFIED:20220808T134047Z
UID:10012843-1660388400-1660417200@uucv.org
SUMMARY:UU Revival - Community Building
DESCRIPTION:Rocky Ridge Park \n3699 Deininger Road\, York\, PA
URL:https://uucv.org/event/uu-revival-community-building/
LOCATION:Rocky Ridge Park\, 3699 Deininger Rd\, York\, PA\, United States
END:VEVENT
BEGIN:VEVENT
DTSTART;TZID=America/New_York:20220812T100000
DTEND;TZID=America/New_York:20220812T120000
DTSTAMP:20260421T195941
CREATED:20220614T181452Z
LAST-MODIFIED:20220729T152538Z
UID:10012915-1660298400-1660305600@uucv.org
SUMMARY:Membership Meeting
DESCRIPTION:
URL:https://uucv.org/event/membership-meeting-2022-08-05/
LOCATION:Board Room\, PA\, United States
END:VEVENT
BEGIN:VEVENT
DTSTART;TZID=America/New_York:20220803T180000
DTEND;TZID=America/New_York:20220803T200000
DTSTAMP:20260421T195941
CREATED:20220617T161707Z
LAST-MODIFIED:20220617T161707Z
UID:10012950-1659549600-1659556800@uucv.org
SUMMARY:Picnic in the Park
DESCRIPTION:Come enjoy Fellowship in the playground\, on the walking path\, and in the creek! In case of rain\, we will gather at Amelia Givens Library instead. \n\nLocation: \nSouth Middleton Township Park \n534 Park Drive \nBoiling Springs\, PA 17007
URL:https://uucv.org/event/picnic-in-the-park-4/
LOCATION:South Middleton Township Park
END:VEVENT
BEGIN:VEVENT
DTSTART;TZID=America/New_York:20220730T090000
DTEND;TZID=America/New_York:20220731T170000
DTSTAMP:20260421T195941
CREATED:20220322T172649Z
LAST-MODIFIED:20220629T132222Z
UID:10012834-1659171600-1659286800@uucv.org
SUMMARY:PRIDE Festival - UUCV Booth
DESCRIPTION:
URL:https://uucv.org/event/pride-festival-uucv-booth/
LOCATION:Harrisburg\, PA\, United States
END:VEVENT
BEGIN:VEVENT
DTSTART;TZID=America/New_York:20220728T180000
DTEND;TZID=America/New_York:20220728T200000
DTSTAMP:20260421T195941
CREATED:20220726T173116Z
LAST-MODIFIED:20220726T173116Z
UID:10011272-1659031200-1659038400@uucv.org
SUMMARY:Tech Team Meeting
DESCRIPTION:
URL:https://uucv.org/event/tech-team-meeting/
LOCATION:https://zoom.us/my/uucvpa
END:VEVENT
BEGIN:VEVENT
DTSTART;TZID=America/New_York:20220725T180000
DTEND;TZID=America/New_York:20220725T190000
DTSTAMP:20260421T195941
CREATED:20220714T165926Z
LAST-MODIFIED:20220714T165926Z
UID:10012954-1658772000-1658775600@uucv.org
SUMMARY:Safe Congregation Response Team Committee Meeting
DESCRIPTION:
URL:https://uucv.org/event/safe-congregation-response-team-committee-meeting/
LOCATION:Board Room
END:VEVENT
BEGIN:VEVENT
DTSTART;TZID=America/New_York:20220720T180000
DTEND;TZID=America/New_York:20220720T200000
DTSTAMP:20260421T195941
CREATED:20220623T162641Z
LAST-MODIFIED:20220624T161449Z
UID:10012953-1658340000-1658347200@uucv.org
SUMMARY:Picnic in the Park
DESCRIPTION:Join us for a Picnic in the Park on Wednesday\, July 20 from 6:00 – 8:00pm.  Park Drive\, South Middleton Park in Boiling Springs.  Bring your own picnic and join us for fun and fellowship.
URL:https://uucv.org/event/picnic-in-the-park-5/
LOCATION:South Middleton Park\, Park Drive\, Boiling Springs\, PA\, United States
END:VEVENT
BEGIN:VEVENT
DTSTART;TZID=America/New_York:20220720T180000
DTEND;TZID=America/New_York:20220720T200000
DTSTAMP:20260421T195941
CREATED:20220617T161529Z
LAST-MODIFIED:20220617T161555Z
UID:10012949-1658340000-1658347200@uucv.org
SUMMARY:Picnic in the Park
DESCRIPTION:Come enjoy Fellowship in the playground\, on the walking path\, and in the creek! In case of rain\, we will gather at Amelia Givens Library instead. \nLocation: \nSouth Middleton Township Park \n534 Park Drive \nBoiling Springs\, PA 17007
URL:https://uucv.org/event/picnic-in-the-park-3/
LOCATION:South Middleton Township Park
END:VEVENT
BEGIN:VEVENT
DTSTART;TZID=America/New_York:20220709T090000
DTEND;TZID=America/New_York:20220709T170000
DTSTAMP:20260421T195941
CREATED:20220322T172607Z
LAST-MODIFIED:20220629T132300Z
UID:10012833-1657357200-1657386000@uucv.org
SUMMARY:Amani Festival - UUCV Booth
DESCRIPTION:
URL:https://uucv.org/event/amani-festival-uucv-booth/
LOCATION:Downtown Carlisle\, PA\, United States
END:VEVENT
BEGIN:VEVENT
DTSTART;TZID=America/New_York:20220706T180000
DTEND;TZID=America/New_York:20220706T200000
DTSTAMP:20260421T195941
CREATED:20220617T161412Z
LAST-MODIFIED:20220617T161758Z
UID:10012948-1657130400-1657137600@uucv.org
SUMMARY:Picnic in the Park
DESCRIPTION:Come enjoy Fellowship in the playground\, on the walking path\, and in the creek! In case of rain\, we will gather at Amelia Givens Library instead. \nLocation: \nSouth Middleton Township Park \n534 Park Drive \nBoiling Springs\, PA 17007
URL:https://uucv.org/event/picnic-in-the-park-2/
LOCATION:South Middleton Township Park
END:VEVENT
BEGIN:VEVENT
DTSTART;TZID=America/New_York:20220626T120000
DTEND;TZID=America/New_York:20220626T140000
DTSTAMP:20260421T195941
CREATED:20220621T174423Z
LAST-MODIFIED:20220621T174423Z
UID:10012951-1656244800-1656252000@uucv.org
SUMMARY:RE Committee Meeting
DESCRIPTION:
URL:https://uucv.org/event/re-committee-meeting/
LOCATION:Board Room
END:VEVENT
BEGIN:VEVENT
DTSTART;TZID=America/New_York:20220625T140000
DTEND;TZID=America/New_York:20220625T170000
DTSTAMP:20260421T195941
CREATED:20220623T161303Z
LAST-MODIFIED:20220623T161650Z
UID:10012952-1656165600-1656176400@uucv.org
SUMMARY:UUCV Pool Party
DESCRIPTION:Please RSVP Please RSVP https://www.eventbrite.com/e/367102321927 \n 
URL:https://uucv.org/event/uucv-pool-party/
LOCATION:Off Site\, PA\, United States
END:VEVENT
BEGIN:VEVENT
DTSTART;TZID=America/New_York:20220622T180000
DTEND;TZID=America/New_York:20220622T200000
DTSTAMP:20260421T195941
CREATED:20220617T160144Z
LAST-MODIFIED:20220617T160341Z
UID:10012946-1655920800-1655928000@uucv.org
SUMMARY:Picnic in the Park
DESCRIPTION:Come enjoy Fellowship in the playground\, on the walking path\, and in the creek! \nIn case of rain\, we will gather at Amelia Givens Library instead. \n  \nLocation: South MiddletonTownship Park\, 534 Park Dr\, Boiling Springs\, PA 17007
URL:https://uucv.org/event/picnic-in-the-park/
LOCATION:Off site Location
GEO:41.2033216;-77.1945247
END:VEVENT
BEGIN:VEVENT
DTSTART;TZID=America/New_York:20220606T183000
DTEND;TZID=America/New_York:20220606T203000
DTSTAMP:20260421T195941
CREATED:20160825T141742Z
LAST-MODIFIED:20210806T170129Z
UID:10008269-1654540200-1654547400@uucv.org
SUMMARY:Executive Committee Meeting
DESCRIPTION:
URL:https://uucv.org/event/executive-committee-meeting-2022-06-13/
LOCATION:Board Room\, PA\, United States
CATEGORIES:Meetings
END:VEVENT
BEGIN:VEVENT
DTSTART;TZID=America/New_York:20220605T121500
DTEND;TZID=America/New_York:20220605T143000
DTSTAMP:20260421T195941
CREATED:20220509T171351Z
LAST-MODIFIED:20220509T171351Z
UID:10012914-1654431300-1654439400@uucv.org
SUMMARY:SGM Facilitators Meeting
DESCRIPTION:
URL:https://uucv.org/event/sgm-facilitators-meeting-2/
LOCATION:Board Room\, PA\, United States
ORGANIZER;CN="Dot Everhart":MAILTO:doteverhart@yahoo.com
END:VEVENT
BEGIN:VEVENT
DTSTART;TZID=America/New_York:20220604T090000
DTEND;TZID=America/New_York:20220604T170000
DTSTAMP:20260421T195941
CREATED:20220322T172308Z
LAST-MODIFIED:20220322T172308Z
UID:10011257-1654333200-1654362000@uucv.org
SUMMARY:Foundry Day - Strawberry Booth
DESCRIPTION:
URL:https://uucv.org/event/foundry-day-strawberry-booth/
LOCATION:Boiling Springs\, 2 Forge Road\, Boiling Springs\, PA\, 17007\, United States
END:VEVENT
BEGIN:VEVENT
DTSTART;TZID=America/New_York:20220521T080000
DTEND;TZID=America/New_York:20220521T140000
DTSTAMP:20260421T195941
CREATED:20220331T160431Z
LAST-MODIFIED:20220331T160431Z
UID:10012841-1653120000-1653141600@uucv.org
SUMMARY:UUCV Yard Sale
DESCRIPTION:
URL:https://uucv.org/event/uucv-yard-sale-4/
LOCATION:UUCV Front Yard\, PA\, United States
END:VEVENT
BEGIN:VEVENT
DTSTART;TZID=America/New_York:20220514T173000
DTEND;TZID=America/New_York:20220514T213000
DTSTAMP:20260421T195941
CREATED:20220331T160755Z
LAST-MODIFIED:20220331T160755Z
UID:10012842-1652549400-1652563800@uucv.org
SUMMARY:Paradise Found - Auction
DESCRIPTION:
URL:https://uucv.org/event/paradise-found-auction/
LOCATION:Social Hall
END:VEVENT
BEGIN:VEVENT
DTSTART;TZID=America/New_York:20220509T000000
DTEND;TZID=America/New_York:20220513T233000
DTSTAMP:20260421T195941
CREATED:20220509T143633Z
LAST-MODIFIED:20220509T143633Z
UID:10012913-1652054400-1652484600@uucv.org
SUMMARY:UUCV Online Auction - Open NOW
DESCRIPTION:You must create an account at https://www.32auctions.com/UUCVSpring2022 to bid! \nOnline preview and bidding can take place from May 7 – May 13 @ 5:00 pm. \nIn 32auctions\, you will see two different types of items listed: \n(1) Sign Ups Fixed Price\, where you will bid the price set by the event host. These events are Limited to the number set by the host. The Remaining number allows for additional bidders. If these events are oversold\, the winning bids limited to the set number of seats will be selected at the Live Auction. These are listed as ‘Buy Now” items and the auction software will automatically generate an invoice to you saying you have purchased the event. Think of this as a place holder until the end of the auction (May 14)\, when winners will be announced and payment can be made. \n(2) Escalating Bids\, which includes food items and everything else\, that will use traditional auction escalating bidding\, highest bidder wins. \nBidding on all items will start online on May 7 at 5 pm and continue until May 13 at 5 pm. \nAfter May 13 at 5 pm\, all bids will be transferred to bidding sheets and continue at the Live Auction. \nIf you cannot attend the Live Auction but want to make sure you win an Escalating Bid item\, you can appoint a Bidding Buddy to continue bidding for you with your bidding number. \nAuction Payment \nRemember there is no “check-out” this year! At the conclusion of the Live Auction\, invoices will be emailed that can be paid online or after church on Sunday May 15. If you get an invoice before the Live Auction\, please hold off on payment until the Final Invoices come out after the conclusion of the Live event. Online payment can then be made via credit card or PayPal. \nWe will be here on Sunday the 15th to collect any cash or check payments that cannot be made online. Make checks out to UUCV and include bidder number on memo line.
URL:https://uucv.org/event/uucv-online-auction-open-now/
LOCATION:Social Hall\, PA\, United States
CATEGORIES:Auction
END:VEVENT
BEGIN:VEVENT
DTSTART;TZID=America/New_York:20220423T090000
DTEND;TZID=America/New_York:20220423T120000
DTSTAMP:20260421T195941
CREATED:20220324T160147Z
LAST-MODIFIED:20220324T160147Z
UID:10012837-1650704400-1650715200@uucv.org
SUMMARY:8th Principle Learning Opportunity
DESCRIPTION:
URL:https://uucv.org/event/8th-principle-learning-opportunity/
LOCATION:ZOOM https://zoom.us/my/uucvpa
END:VEVENT
BEGIN:VEVENT
DTSTART;TZID=America/New_York:20220417T120000
DTEND;TZID=America/New_York:20220417T140000
DTSTAMP:20260421T195941
CREATED:20220331T152941Z
LAST-MODIFIED:20220331T152941Z
UID:10012840-1650196800-1650204000@uucv.org
SUMMARY:Egg Hunt
DESCRIPTION:
URL:https://uucv.org/event/egg-hunt/
LOCATION:UUCV Front Yard\, PA\, United States
END:VEVENT
BEGIN:VEVENT
DTSTART;TZID=America/New_York:20220410T090000
DTEND;TZID=America/New_York:20220410T100000
DTSTAMP:20260421T195941
CREATED:20220324T160311Z
LAST-MODIFIED:20220324T160311Z
UID:10012838-1649581200-1649584800@uucv.org
SUMMARY:8th Principle Learning Opportunity
DESCRIPTION:
URL:https://uucv.org/event/8th-principle-learning-opportunity-2/
LOCATION:Board Room\, PA\, United States
END:VEVENT
BEGIN:VEVENT
DTSTART;TZID=America/New_York:20220409T100000
DTEND;TZID=America/New_York:20220409T120000
DTSTAMP:20260421T195941
CREATED:20220324T155008Z
LAST-MODIFIED:20220324T155008Z
UID:10012836-1649498400-1649505600@uucv.org
SUMMARY:8th Principle Learning Opportunities
DESCRIPTION:
URL:https://uucv.org/event/8th-principle-learning-opportunities/2022-04-09/
LOCATION:ZOOM https://zoom.us/my/uucvpa
END:VEVENT
BEGIN:VEVENT
DTSTART;TZID=America/New_York:20220409T090000
DTEND;TZID=America/New_York:20220409T170000
DTSTAMP:20260421T195941
CREATED:20220324T154608Z
LAST-MODIFIED:20220324T154608Z
UID:10012835-1649494800-1649523600@uucv.org
SUMMARY:UUCV Work Day
DESCRIPTION:
URL:https://uucv.org/event/uucv-work-day/
LOCATION:UUCV
END:VEVENT
BEGIN:VEVENT
DTSTART;TZID=America/New_York:20220307T183000
DTEND;TZID=America/New_York:20220307T203000
DTSTAMP:20260421T195941
CREATED:20160825T141742Z
LAST-MODIFIED:20210806T165141Z
UID:10008267-1646677800-1646685000@uucv.org
SUMMARY:Executive Committee Meeting
DESCRIPTION:
URL:https://uucv.org/event/executive-committee-meeting-2022-03-14/
LOCATION:Board Room\, PA\, United States
CATEGORIES:Meetings
END:VEVENT
BEGIN:VEVENT
DTSTART;TZID=America/New_York:20220207T183000
DTEND;TZID=America/New_York:20220207T203000
DTSTAMP:20260421T195941
CREATED:20160825T141742Z
LAST-MODIFIED:20210806T165114Z
UID:10008265-1644258600-1644265800@uucv.org
SUMMARY:Executive Committee Meeting
DESCRIPTION:
URL:https://uucv.org/event/executive-committee-meeting-2022-02-14/
LOCATION:Board Room\, PA\, United States
CATEGORIES:Meetings
END:VEVENT
BEGIN:VEVENT
DTSTART;TZID=America/New_York:20220116T120000
DTEND;TZID=America/New_York:20220116T140000
DTSTAMP:20260421T195941
CREATED:20220107T163547Z
LAST-MODIFIED:20220107T163547Z
UID:10011255-1642334400-1642341600@uucv.org
SUMMARY:SGM Facilitators Meeting - ZOOM
DESCRIPTION:
URL:https://uucv.org/event/sgm-facilitators-meeting-zoom/
ORGANIZER;CN="Dot Everhart":MAILTO:doteverhart@yahoo.com
END:VEVENT
BEGIN:VEVENT
DTSTART;TZID=America/New_York:20220112T190000
DTEND;TZID=America/New_York:20220112T210000
DTSTAMP:20260421T195942
CREATED:20220110T164429Z
LAST-MODIFIED:20220110T164429Z
UID:10011256-1642014000-1642021200@uucv.org
SUMMARY:Wheel of the Year SGM Organizational Meeting - ZOOM Wheel of the Year SGM Organizational Meeting  You are invited to attend an organizational meeting on January 12th\, Wednesday evening at 7 p.m. via Zoom. https://zoom.us/my/uucvpa  To get us started\, I'll review my ideas about the group\, help us decide
DESCRIPTION:
URL:https://uucv.org/event/wheel-of-the-year-sgm-organizational-meeting-zoom-wheel-of-the-year-sgm-organizational-meeting-you-are-invited-to-attend-an-organizational-meeting-on-january-12th-wednesday-evening-at-7-p-m-via-z/
LOCATION:ZOOM https://zoom.us/my/uucvpa
CATEGORIES:Flag for Newsletter,SGM
ORGANIZER;CN="Dot Everhart":MAILTO:doteverhart@yahoo.com
END:VEVENT
BEGIN:VEVENT
DTSTART;TZID=America/New_York:20220112T190000
DTEND;TZID=America/New_York:20220112T210000
DTSTAMP:20260421T195942
CREATED:20220107T161831Z
LAST-MODIFIED:20220107T162831Z
UID:10011254-1642014000-1642021200@uucv.org
SUMMARY:Wheel of the Year SGM Organizational Meeting - ZOOM
DESCRIPTION:
URL:https://uucv.org/event/wheel-of-the-year-sgm-organizational-meeting-zoom/
LOCATION:PA\, United States
ORGANIZER;CN="Dot Everhart":MAILTO:doteverhart@yahoo.com
END:VEVENT
END:VCALENDAR