BEGIN:VCALENDAR
VERSION:2.0
PRODID:-//Unitarian Universalists of the Cumberland Valley - ECPv6.15.20//NONSGML v1.0//EN
CALSCALE:GREGORIAN
METHOD:PUBLISH
X-ORIGINAL-URL:https://uucv.org
X-WR-CALDESC:Events for Unitarian Universalists of the Cumberland Valley
REFRESH-INTERVAL;VALUE=DURATION:PT1H
X-Robots-Tag:noindex
X-PUBLISHED-TTL:PT1H
BEGIN:VTIMEZONE
TZID:America/New_York
BEGIN:DAYLIGHT
TZOFFSETFROM:-0500
TZOFFSETTO:-0400
TZNAME:EDT
DTSTART:20210314T070000
END:DAYLIGHT
BEGIN:STANDARD
TZOFFSETFROM:-0400
TZOFFSETTO:-0500
TZNAME:EST
DTSTART:20211107T060000
END:STANDARD
BEGIN:DAYLIGHT
TZOFFSETFROM:-0500
TZOFFSETTO:-0400
TZNAME:EDT
DTSTART:20220313T070000
END:DAYLIGHT
BEGIN:STANDARD
TZOFFSETFROM:-0400
TZOFFSETTO:-0500
TZNAME:EST
DTSTART:20221106T060000
END:STANDARD
BEGIN:DAYLIGHT
TZOFFSETFROM:-0500
TZOFFSETTO:-0400
TZNAME:EDT
DTSTART:20230312T070000
END:DAYLIGHT
BEGIN:STANDARD
TZOFFSETFROM:-0400
TZOFFSETTO:-0500
TZNAME:EST
DTSTART:20231105T060000
END:STANDARD
BEGIN:DAYLIGHT
TZOFFSETFROM:-0500
TZOFFSETTO:-0400
TZNAME:EDT
DTSTART:20240310T070000
END:DAYLIGHT
BEGIN:STANDARD
TZOFFSETFROM:-0400
TZOFFSETTO:-0500
TZNAME:EST
DTSTART:20241103T060000
END:STANDARD
END:VTIMEZONE
BEGIN:VEVENT
DTSTART;TZID=America/New_York:20230124T183000
DTEND;TZID=America/New_York:20230124T203000
DTSTAMP:20260421T055459
CREATED:20170126T162910Z
LAST-MODIFIED:20170126T162910Z
UID:10011052-1674585000-1674592200@uucv.org
SUMMARY:Spirit of Life
DESCRIPTION:
URL:https://uucv.org/event/spirit-of-life/2023-01-24/
LOCATION:Board Room
CATEGORIES:Adult Education,Community,Education,Flag for Newsletter
ORGANIZER;CN="Rev Aija Simpson":MAILTO: revaija@qmf.309.myftpupload.com
END:VEVENT
BEGIN:VEVENT
DTSTART;TZID=America/New_York:20230122T120000
DTEND;TZID=America/New_York:20230122T133000
DTSTAMP:20260421T055459
CREATED:20180130T163012Z
LAST-MODIFIED:20180130T163241Z
UID:10011746-1674388800-1674394200@uucv.org
SUMMARY:Neurological Support Group
DESCRIPTION:
URL:https://uucv.org/event/neurological-support-group-2/2023-01-22/
LOCATION:Library\, 2 Forge Road\, Boiling Springs\, PA\, 17007\, United States
CATEGORIES:Community,Education,Flag for Newsletter,Meetings
ORGANIZER;CN="Darlene Smith":MAILTO:darlenesmith@embarqmail.com
END:VEVENT
BEGIN:VEVENT
DTSTART;TZID=America/New_York:20230122T120000
DTEND;TZID=America/New_York:20230122T130000
DTSTAMP:20260421T055459
CREATED:20180122T164633Z
LAST-MODIFIED:20180122T164633Z
UID:10011606-1674388800-1674392400@uucv.org
SUMMARY:Neurological Support Group
DESCRIPTION:
URL:https://uucv.org/event/neurological-support-group/2023-01-22/
LOCATION:Library\, 2 Forge Road\, Boiling Springs\, PA\, 17007\, United States
CATEGORIES:Community,Education,Flag for Newsletter,Meetings
ORGANIZER;CN="Darlene Smith":MAILTO:darlenesmith@embarqmail.com
END:VEVENT
BEGIN:VEVENT
DTSTART;TZID=America/New_York:20230122T120000
DTEND;TZID=America/New_York:20230122T130000
DTSTAMP:20260421T055459
CREATED:20170911T163734Z
LAST-MODIFIED:20170911T163734Z
UID:10011483-1674388800-1674392400@uucv.org
SUMMARY:Neurological Diseases Support Group
DESCRIPTION:
URL:https://uucv.org/event/neurological-diseases-support-group/2023-01-22/
LOCATION:Social Hall\, PA\, United States
CATEGORIES:Community,Education,Flag for Newsletter,Meetings
END:VEVENT
BEGIN:VEVENT
DTSTART;TZID=America/New_York:20230121T140000
DTEND;TZID=America/New_York:20230121T200000
DTSTAMP:20260421T055459
CREATED:20221128T175256Z
LAST-MODIFIED:20221128T175256Z
UID:10013431-1674309600-1674331200@uucv.org
SUMMARY:Wild Woman Project’s New Moon Circles - Sustain
DESCRIPTION:
URL:https://uucv.org/event/wild-woman-projects-new-moon-circles-sustain/2023-01-21/
LOCATION:Social Hall\, PA\, United States
END:VEVENT
BEGIN:VEVENT
DTSTART;TZID=America/New_York:20230115T113000
DTEND;TZID=America/New_York:20230115T123000
DTSTAMP:20260421T055459
CREATED:20221219T151436Z
LAST-MODIFIED:20221219T151436Z
UID:10013437-1673782200-1673785800@uucv.org
SUMMARY:Congregation Meeting
DESCRIPTION:
URL:https://uucv.org/event/congregation-meeting/
LOCATION:Social Hall\, PA\, United States
END:VEVENT
BEGIN:VEVENT
DTSTART;TZID=America/New_York:20230113T150000
DTEND;TZID=America/New_York:20230114T210000
DTSTAMP:20260421T055459
CREATED:20221118T182940Z
LAST-MODIFIED:20221118T182940Z
UID:10013388-1673622000-1673730000@uucv.org
SUMMARY:OWL Over
DESCRIPTION:
URL:https://uucv.org/event/owl-over/
LOCATION:Dining Room
END:VEVENT
BEGIN:VEVENT
DTSTART;TZID=America/New_York:20230109T190000
DTEND;TZID=America/New_York:20230109T210000
DTSTAMP:20260421T055459
CREATED:20221118T183229Z
LAST-MODIFIED:20221118T183229Z
UID:10013392-1673290800-1673298000@uucv.org
SUMMARY:RE Committee Meeting
DESCRIPTION:
URL:https://uucv.org/event/re-committee-meeting-2/
LOCATION:https://zoom.us/my/uucvpa
END:VEVENT
BEGIN:VEVENT
DTSTART;TZID=America/New_York:20230108T090000
DTEND;TZID=America/New_York:20230108T100000
DTSTAMP:20260421T055459
CREATED:20221206T135938Z
LAST-MODIFIED:20221206T135938Z
UID:10011489-1673168400-1673172000@uucv.org
SUMMARY:Adult Ed Planning Session
DESCRIPTION:
URL:https://uucv.org/event/adult-ed-planning-session/
LOCATION:Board Room\, PA\, United States
END:VEVENT
BEGIN:VEVENT
DTSTART;TZID=America/New_York:20230106T170000
DTEND;TZID=America/New_York:20230106T190000
DTSTAMP:20260421T055459
CREATED:20221128T144208Z
LAST-MODIFIED:20221128T144208Z
UID:10013429-1673024400-1673031600@uucv.org
SUMMARY:Anti-Racism Meeting
DESCRIPTION:
URL:https://uucv.org/event/anti-racism-meeting/
LOCATION:ZOOM https://zoom.us/my/uucvpa
END:VEVENT
BEGIN:VEVENT
DTSTART;TZID=America/New_York:20221225T103000
DTEND;TZID=America/New_York:20221225T113000
DTSTAMP:20260421T055459
CREATED:20180831T140135Z
LAST-MODIFIED:20221118T135211Z
UID:10012381-1671964200-1671967800@uucv.org
SUMMARY:Happy Holidays!  No Worship Service Today
DESCRIPTION:
URL:https://uucv.org/event/worship-4-2022-12-25/
LOCATION:PA\, United States
CATEGORIES:Community,Flag for Newsletter,Worship
END:VEVENT
BEGIN:VEVENT
DTSTART;TZID=America/New_York:20221224T170000
DTEND;TZID=America/New_York:20221224T180000
DTSTAMP:20260421T055459
CREATED:20221109T195034Z
LAST-MODIFIED:20221109T195034Z
UID:10013384-1671901200-1671904800@uucv.org
SUMMARY:Christmas Eve Candlelight Service
DESCRIPTION:All are welcome as we celebrate our traditional annual Christmas Eve service. We will sing carols and light candles as we reflect on “The Star\,” an ancient religious symbol in the Nativity story. Be sure to bring the spark of the divine within your own heart as we honor the etherial magic of the holiday season.\nJoin us at 5:00 PM in the Sanctuary and then enjoy some cocoa and cookies in the social hall following the service.  You can also join by ZOOM.\n \n  \n 
URL:https://uucv.org/event/christmas-eve-candlelight-service/
LOCATION:Social Hall\, PA\, United States
END:VEVENT
BEGIN:VEVENT
DTSTART;TZID=America/New_York:20221224T140000
DTEND;TZID=America/New_York:20221224T150000
DTSTAMP:20260421T055500
CREATED:20221213T164516Z
LAST-MODIFIED:20221213T164516Z
UID:10013435-1671890400-1671894000@uucv.org
SUMMARY:Family Choir Rehearsal
DESCRIPTION:
URL:https://uucv.org/event/family-choir-rehearsal-2/
LOCATION:Social Hall\, PA\, United States
END:VEVENT
BEGIN:VEVENT
DTSTART;TZID=America/New_York:20221222T190000
DTEND;TZID=America/New_York:20221222T200000
DTSTAMP:20260421T055500
CREATED:20221214T155119Z
LAST-MODIFIED:20221216T152955Z
UID:10013436-1671735600-1671739200@uucv.org
SUMMARY:COM (ZOOM)
DESCRIPTION:
URL:https://uucv.org/event/com-zoom/
LOCATION:ZOOM https://zoom.us/my/uucvpa
END:VEVENT
BEGIN:VEVENT
DTSTART;TZID=America/New_York:20221222T180000
DTEND;TZID=America/New_York:20221222T190000
DTSTAMP:20260421T055500
CREATED:20221213T164435Z
LAST-MODIFIED:20221213T164435Z
UID:10013434-1671732000-1671735600@uucv.org
SUMMARY:Family Choir Rehearsal
DESCRIPTION:
URL:https://uucv.org/event/family-choir-rehearsal/
LOCATION:Social Hall\, PA\, United States
END:VEVENT
BEGIN:VEVENT
DTSTART;TZID=America/New_York:20221218T120000
DTEND;TZID=America/New_York:20221218T130000
DTSTAMP:20260421T055500
CREATED:20221118T182758Z
LAST-MODIFIED:20221118T182758Z
UID:10013387-1671364800-1671368400@uucv.org
SUMMARY:OWL Parents Information Meeting
DESCRIPTION:
URL:https://uucv.org/event/owl-parents-information-meeting-2/
LOCATION:Dining Room
END:VEVENT
BEGIN:VEVENT
DTSTART;TZID=America/New_York:20221218T090000
DTEND;TZID=America/New_York:20221218T100000
DTSTAMP:20260421T055500
CREATED:20220923T165913Z
LAST-MODIFIED:20220923T165913Z
UID:10013264-1671354000-1671357600@uucv.org
SUMMARY:Adult RE - Powwow - What Exactly is it and does it Work?
DESCRIPTION:
URL:https://uucv.org/event/adult-re-powwow-what-exactly-is-it-and-does-it-work/
LOCATION:Board Room\, PA\, United States
END:VEVENT
BEGIN:VEVENT
DTSTART;TZID=America/New_York:20221211T103000
DTEND;TZID=America/New_York:20221211T113000
DTSTAMP:20260421T055500
CREATED:20220830T133000Z
LAST-MODIFIED:20220830T133000Z
UID:10011315-1670754600-1670758200@uucv.org
SUMMARY:Child Dedication Ceremony
DESCRIPTION:
URL:https://uucv.org/event/child-dedication-ceremony/
LOCATION:Social Hall\, PA\, United States
END:VEVENT
BEGIN:VEVENT
DTSTART;TZID=America/New_York:20221204T120000
DTEND;TZID=America/New_York:20221204T130000
DTSTAMP:20260421T055500
CREATED:20221118T182615Z
LAST-MODIFIED:20221118T182615Z
UID:10013386-1670155200-1670158800@uucv.org
SUMMARY:OWL Parents Information Meeting
DESCRIPTION:
URL:https://uucv.org/event/owl-parents-information-meeting/
LOCATION:Dining Room
END:VEVENT
BEGIN:VEVENT
DTSTART;TZID=America/New_York:20221204T090000
DTEND;TZID=America/New_York:20221204T100000
DTSTAMP:20260421T055500
CREATED:20220923T165752Z
LAST-MODIFIED:20220923T165752Z
UID:10013263-1670144400-1670148000@uucv.org
SUMMARY:Adult RE - Mormonism
DESCRIPTION:
URL:https://uucv.org/event/adult-re-mormonism/
LOCATION:Board Room\, PA\, United States
END:VEVENT
BEGIN:VEVENT
DTSTART;TZID=America/New_York:20221120T170000
DTEND;TZID=America/New_York:20221120T180000
DTSTAMP:20260421T055500
CREATED:20221110T180127Z
LAST-MODIFIED:20221110T180127Z
UID:10013385-1668963600-1668967200@uucv.org
SUMMARY:Trans Day of Remembrance
DESCRIPTION:
URL:https://uucv.org/event/trans-day-of-remembrance/
LOCATION:Sanctuary and ZOOM https://zoom.us/my/uucvpa\, PA\, United States
END:VEVENT
BEGIN:VEVENT
DTSTART;TZID=America/New_York:20221120T103000
DTEND;TZID=America/New_York:20221120T113000
DTSTAMP:20260421T055500
CREATED:20220830T132211Z
LAST-MODIFIED:20220830T132211Z
UID:10011280-1668940200-1668943800@uucv.org
SUMMARY:New Member Sunday
DESCRIPTION:
URL:https://uucv.org/event/new-member-sunday/
LOCATION:Social Hall\, PA\, United States
END:VEVENT
BEGIN:VEVENT
DTSTART;TZID=America/New_York:20221120T090000
DTEND;TZID=America/New_York:20221120T100000
DTSTAMP:20260421T055500
CREATED:20220923T165639Z
LAST-MODIFIED:20221019T143859Z
UID:10013261-1668934800-1668938400@uucv.org
SUMMARY:Adult RE - What Does Sprituality Look Like in Your Life
DESCRIPTION:
URL:https://uucv.org/event/adult-re-what-does-sprituality-look-like-in-your-life/
LOCATION:Board Room\, PA\, United States
END:VEVENT
BEGIN:VEVENT
DTSTART;TZID=America/New_York:20221117T170000
DTEND;TZID=America/New_York:20221117T190000
DTSTAMP:20260421T055500
CREATED:20221026T125021Z
LAST-MODIFIED:20221026T125021Z
UID:10013268-1668704400-1668711600@uucv.org
SUMMARY:UUCV Tech Team Meeting
DESCRIPTION:
URL:https://uucv.org/event/uucv-tech-team-meeting/
LOCATION:Social Hall\, PA\, United States
END:VEVENT
BEGIN:VEVENT
DTSTART;TZID=America/New_York:20221115T193000
DTEND;TZID=America/New_York:20221115T213000
DTSTAMP:20260421T055500
CREATED:20221019T133232Z
LAST-MODIFIED:20221019T133307Z
UID:10013267-1668540600-1668547800@uucv.org
SUMMARY:RE Meeting - ZOOM
DESCRIPTION:
URL:https://uucv.org/event/re-meeting-zoom/
LOCATION:https://zoom.us/my/uucvpa
END:VEVENT
BEGIN:VEVENT
DTSTART;TZID=America/New_York:20221113T123000
DTEND;TZID=America/New_York:20221113T143000
DTSTAMP:20260421T055500
CREATED:20220830T131903Z
LAST-MODIFIED:20220830T131903Z
UID:10011278-1668342600-1668349800@uucv.org
SUMMARY:New Membership Class
DESCRIPTION:
URL:https://uucv.org/event/new-membership-class/2022-11-13/
LOCATION:Board Room\, PA\, United States
END:VEVENT
BEGIN:VEVENT
DTSTART;TZID=America/New_York:20221107T183000
DTEND;TZID=America/New_York:20221107T203000
DTSTAMP:20260421T055500
CREATED:20160825T141742Z
LAST-MODIFIED:20210806T170208Z
UID:10008271-1667845800-1667853000@uucv.org
SUMMARY:Executive Committee Meeting
DESCRIPTION:
URL:https://uucv.org/event/executive-committee-meeting-2022-11-14/
LOCATION:Board Room\, PA\, United States
CATEGORIES:Meetings
END:VEVENT
BEGIN:VEVENT
DTSTART;TZID=America/New_York:20221106T120000
DTEND;TZID=America/New_York:20221106T140000
DTSTAMP:20260421T055500
CREATED:20221026T173306Z
LAST-MODIFIED:20221026T173306Z
UID:10013269-1667736000-1667743200@uucv.org
SUMMARY:Mozambique Luncheon
DESCRIPTION:
URL:https://uucv.org/event/mozambique-luncheon/
LOCATION:Dining Room
ORGANIZER;CN="Martha Bergsten":MAILTO:martha.bergsten@gmail.com
END:VEVENT
BEGIN:VEVENT
DTSTART;TZID=America/New_York:20221106T090000
DTEND;TZID=America/New_York:20221106T100000
DTSTAMP:20260421T055500
CREATED:20220923T165451Z
LAST-MODIFIED:20220923T165528Z
UID:10013262-1667725200-1667728800@uucv.org
SUMMARY:Adult RE - Voting in PA
DESCRIPTION:
URL:https://uucv.org/event/adult-re-voting-in-pa/
LOCATION:Board Room\, PA\, United States
END:VEVENT
BEGIN:VEVENT
DTSTART;TZID=America/New_York:20221104T080000
DTEND;TZID=America/New_York:20221104T170000
DTSTAMP:20260421T055500
CREATED:20221104T153132Z
LAST-MODIFIED:20221104T153132Z
UID:10013383-1667548800-1667581200@uucv.org
SUMMARY:UUCV Pot Luck & BYOB
DESCRIPTION:
URL:https://uucv.org/event/uucv-pot-luck-byob/
LOCATION:Social Hall\, PA\, United States
CATEGORIES:Community,Flag for Newsletter
END:VEVENT
END:VCALENDAR