BEGIN:VCALENDAR
VERSION:2.0
PRODID:-//Unitarian Universalists of the Cumberland Valley - ECPv6.15.20//NONSGML v1.0//EN
CALSCALE:GREGORIAN
METHOD:PUBLISH
X-WR-CALNAME:Unitarian Universalists of the Cumberland Valley
X-ORIGINAL-URL:https://uucv.org
X-WR-CALDESC:Events for Unitarian Universalists of the Cumberland Valley
REFRESH-INTERVAL;VALUE=DURATION:PT1H
X-Robots-Tag:noindex
X-PUBLISHED-TTL:PT1H
BEGIN:VTIMEZONE
TZID:America/New_York
BEGIN:DAYLIGHT
TZOFFSETFROM:-0500
TZOFFSETTO:-0400
TZNAME:EDT
DTSTART:20220313T070000
END:DAYLIGHT
BEGIN:STANDARD
TZOFFSETFROM:-0400
TZOFFSETTO:-0500
TZNAME:EST
DTSTART:20221106T060000
END:STANDARD
BEGIN:DAYLIGHT
TZOFFSETFROM:-0500
TZOFFSETTO:-0400
TZNAME:EDT
DTSTART:20230312T070000
END:DAYLIGHT
BEGIN:STANDARD
TZOFFSETFROM:-0400
TZOFFSETTO:-0500
TZNAME:EST
DTSTART:20231105T060000
END:STANDARD
BEGIN:DAYLIGHT
TZOFFSETFROM:-0500
TZOFFSETTO:-0400
TZNAME:EDT
DTSTART:20240310T070000
END:DAYLIGHT
BEGIN:STANDARD
TZOFFSETFROM:-0400
TZOFFSETTO:-0500
TZNAME:EST
DTSTART:20241103T060000
END:STANDARD
END:VTIMEZONE
BEGIN:VEVENT
DTSTART;TZID=America/New_York:20230319T103000
DTEND;TZID=America/New_York:20230319T150000
DTSTAMP:20260421T025634
CREATED:20221118T183640Z
LAST-MODIFIED:20221118T183640Z
UID:10013396-1679221800-1679238000@uucv.org
SUMMARY:OWL
DESCRIPTION:
URL:https://uucv.org/event/owl-3/2023-03-19/
LOCATION:Yuuth
END:VEVENT
BEGIN:VEVENT
DTSTART;TZID=America/New_York:20230318T140000
DTEND;TZID=America/New_York:20230318T200000
DTSTAMP:20260421T025634
CREATED:20221128T175256Z
LAST-MODIFIED:20221128T175650Z
UID:10013433-1679148000-1679169600@uucv.org
SUMMARY:Wild Woman Project’s New Moon Circles - Surrender
DESCRIPTION:
URL:https://uucv.org/event/wild-woman-projects-new-moon-circles-sustain-2023-03-18/
LOCATION:Social Hall\, PA\, United States
END:VEVENT
BEGIN:VEVENT
DTSTART;TZID=America/New_York:20230312T103000
DTEND;TZID=America/New_York:20230312T123000
DTSTAMP:20260421T025634
CREATED:20230309T175401Z
LAST-MODIFIED:20230309T175401Z
UID:10013498-1678617000-1678624200@uucv.org
SUMMARY:Annual Budget Drive Celebration
DESCRIPTION:
URL:https://uucv.org/event/annual-budget-drive-celebration/
LOCATION:Sanctuary and Dining Room
END:VEVENT
BEGIN:VEVENT
DTSTART;TZID=America/New_York:20230306T183000
DTEND;TZID=America/New_York:20230306T203000
DTSTAMP:20260421T025634
CREATED:20160825T141742Z
LAST-MODIFIED:20210806T170247Z
UID:10008274-1678127400-1678134600@uucv.org
SUMMARY:Executive Committee Meeting
DESCRIPTION:
URL:https://uucv.org/event/executive-committee-meeting-2023-03-13/
LOCATION:Board Room\, PA\, United States
CATEGORIES:Meetings
END:VEVENT
BEGIN:VEVENT
DTSTART;TZID=America/New_York:20230305T113000
DTEND;TZID=America/New_York:20230305T123000
DTSTAMP:20260421T025634
CREATED:20230206T180258Z
LAST-MODIFIED:20230206T180258Z
UID:10013468-1678015800-1678019400@uucv.org
SUMMARY:Sit and Stay Awhile Mini Pot-Luck and BYOB
DESCRIPTION:
URL:https://uucv.org/event/sit-and-stay-awhile-mini-pot-luck-and-byob/
LOCATION:Social Hall
END:VEVENT
BEGIN:VEVENT
DTSTART;TZID=America/New_York:20230303T150000
DTEND;TZID=America/New_York:20230304T210000
DTSTAMP:20260421T025634
CREATED:20221118T183500Z
LAST-MODIFIED:20221118T183500Z
UID:10013393-1677855600-1677963600@uucv.org
SUMMARY:OWL Over
DESCRIPTION:
URL:https://uucv.org/event/owl-over-2/
LOCATION:Dining Room
END:VEVENT
BEGIN:VEVENT
DTSTART;TZID=America/New_York:20230228T130000
DTEND;TZID=America/New_York:20230228T140000
DTSTAMP:20260421T025634
CREATED:20160219T183000Z
LAST-MODIFIED:20160219T183000Z
UID:10007986-1677589200-1677592800@uucv.org
SUMMARY:Parkinson's Research and Support Group
DESCRIPTION:The  Parkinson’s Research and Support Group meets on the 4th Sunday of the month in the library from from 1:00 PM until 2:00 PM.  Feel free to bring a bagged lunch.  Jean Pelletiere jean.pelletiere@verizon.net is the facilitator.
URL:https://uucv.org/event/parkinsons-research-and-support-group/2023-02-28/
LOCATION:Library\, 2 Forge Road\, Boiling Springs\, PA\, 17007\, United States
CATEGORIES:Community,Flag for Newsletter,Meetings
ORGANIZER;CN="Jean Pelletiere":MAILTO:jean.pelletire@verizon.net
END:VEVENT
BEGIN:VEVENT
DTSTART;TZID=America/New_York:20230226T113000
DTEND;TZID=America/New_York:20230226T123000
DTSTAMP:20260421T025634
CREATED:20230206T180132Z
LAST-MODIFIED:20230206T180132Z
UID:10013467-1677411000-1677414600@uucv.org
SUMMARY:UUCV Committee Fair
DESCRIPTION:
URL:https://uucv.org/event/uucv-committee-fair/
LOCATION:Social Hall
END:VEVENT
BEGIN:VEVENT
DTSTART;TZID=America/New_York:20230221T183000
DTEND;TZID=America/New_York:20230221T200000
DTSTAMP:20260421T025634
CREATED:20170518T132306Z
LAST-MODIFIED:20170518T132306Z
UID:10011393-1677004200-1677009600@uucv.org
SUMMARY:Safe Congregation Meeting
DESCRIPTION:
URL:https://uucv.org/event/safe-congregation-meeting/2023-02-21/
LOCATION:Rev. Aija’s Office\, 2 Forge Road\, Boiling Springs\, 17007
CATEGORIES:Community,Education,Flag for Newsletter,Meetings
ORGANIZER;CN="Rev Aija Simpson":MAILTO: revaija@qmf.309.myftpupload.com
END:VEVENT
BEGIN:VEVENT
DTSTART;TZID=America/New_York:20230221T113000
DTEND;TZID=America/New_York:20230221T141500
DTSTAMP:20260421T025634
CREATED:20161221T160626Z
LAST-MODIFIED:20161221T160626Z
UID:10010885-1676979000-1676988900@uucv.org
SUMMARY:Project Share Distribution Day
DESCRIPTION:
URL:https://uucv.org/event/project-share-distribution-day-18/2023-02-21/
LOCATION:Project Share\, 5 N. Orange Street\, Carlisle\, PA\, 17013
CATEGORIES:Flag for Newsletter,Social Justice Committee
ORGANIZER;CN="Cindy Good":MAILTO:cyagood4@gmail.com
END:VEVENT
BEGIN:VEVENT
DTSTART;TZID=America/New_York:20230218T140000
DTEND;TZID=America/New_York:20230218T200000
DTSTAMP:20260421T025634
CREATED:20221128T175256Z
LAST-MODIFIED:20221128T175419Z
UID:10013432-1676728800-1676750400@uucv.org
SUMMARY:Wild Woman Project’s New Moon Circles - Heal
DESCRIPTION:
URL:https://uucv.org/event/wild-woman-projects-new-moon-circles-sustain-2023-02-18/
LOCATION:Social Hall\, PA\, United States
END:VEVENT
BEGIN:VEVENT
DTSTART;TZID=America/New_York:20230216T160000
DTEND;TZID=America/New_York:20230216T180000
DTSTAMP:20260421T025634
CREATED:20190110T152340Z
LAST-MODIFIED:20190110T152340Z
UID:10010941-1676563200-1676570400@uucv.org
SUMMARY:SGCoordinators Meeting
DESCRIPTION:
URL:https://uucv.org/event/sgcoordinators-meeting/2023-02-16/
LOCATION:Library\, 2 Forge Road\, Boiling Springs\, PA\, 17007\, United States
CATEGORIES:Flag for Newsletter,Meetings
END:VEVENT
BEGIN:VEVENT
DTSTART;TZID=America/New_York:20230215T183000
DTEND;TZID=America/New_York:20230215T203000
DTSTAMP:20260421T025634
CREATED:20211110T182545Z
LAST-MODIFIED:20220830T140525Z
UID:10011119-1676485800-1676493000@uucv.org
SUMMARY:Social Justice Committee Meeting
DESCRIPTION:
URL:https://uucv.org/event/social-justice-committee-meeting/2023-02-15/
LOCATION:board
CATEGORIES:Flag for Newsletter,Social Justice Activities,Social Justice Committee
END:VEVENT
BEGIN:VEVENT
DTSTART;TZID=America/New_York:20230214T180000
DTEND;TZID=America/New_York:20230214T200000
DTSTAMP:20260421T025634
CREATED:20230221T145831Z
LAST-MODIFIED:20230221T145831Z
UID:10009656-1676397600-1676404800@uucv.org
SUMMARY:Women's Dinner
DESCRIPTION:
URL:https://uucv.org/event/womens-dinner-2/2023-02-14/
LOCATION:chen’s\, 310 N. Hanover St\, Carlisle\, PA\, 17013\, United States
CATEGORIES:Community,Flag for Newsletter
ORGANIZER;CN="Carole DeWall":MAILTO:carolesdw@gmail.com
END:VEVENT
BEGIN:VEVENT
DTSTART;TZID=America/New_York:20230214T120000
DTEND;TZID=America/New_York:20230214T140000
DTSTAMP:20260421T025634
CREATED:20160115T174141Z
LAST-MODIFIED:20160129T160725Z
UID:10006780-1676376000-1676383200@uucv.org
SUMMARY:SGM Facilitators
DESCRIPTION:
URL:https://uucv.org/event/sgm-facilitators-board/2023-02-14/
LOCATION:Board Room
CATEGORIES:SGM
ORGANIZER;CN="Rich Bronakoski":MAILTO:richardbronakoski@gmail.com
END:VEVENT
BEGIN:VEVENT
DTSTART;TZID=America/New_York:20230212T120000
DTEND;TZID=America/New_York:20230212T140000
DTSTAMP:20260421T025634
CREATED:20190110T152504Z
LAST-MODIFIED:20190110T152504Z
UID:10010967-1676203200-1676210400@uucv.org
SUMMARY:SGFacilitators
DESCRIPTION:
URL:https://uucv.org/event/sgfacilitators/2023-02-12/
LOCATION:Board Room
CATEGORIES:Flag for Newsletter,Meetings
END:VEVENT
BEGIN:VEVENT
DTSTART;TZID=America/New_York:20230206T183000
DTEND;TZID=America/New_York:20230206T203000
DTSTAMP:20260421T025634
CREATED:20160825T141742Z
LAST-MODIFIED:20210806T170324Z
UID:10008273-1675708200-1675715400@uucv.org
SUMMARY:Executive Committee Meeting
DESCRIPTION:
URL:https://uucv.org/event/executive-committee-meeting-2023-02-13/
LOCATION:Board Room\, PA\, United States
CATEGORIES:Meetings
END:VEVENT
BEGIN:VEVENT
DTSTART;TZID=America/New_York:20230204T120000
DTEND;TZID=America/New_York:20230204T140000
DTSTAMP:20260421T025634
CREATED:20220830T133203Z
LAST-MODIFIED:20220830T133203Z
UID:10011321-1675512000-1675519200@uucv.org
SUMMARY:Holy Grounds Meet at Cafe 101
DESCRIPTION:
URL:https://uucv.org/event/holy-grounds-meet-at-cafe-101/2023-02-04/
LOCATION:Cafe 101\, PA\, United States
END:VEVENT
BEGIN:VEVENT
DTSTART;TZID=America/New_York:20230129T103000
DTEND;TZID=America/New_York:20230129T150000
DTSTAMP:20260421T025634
CREATED:20221118T183102Z
LAST-MODIFIED:20221118T183102Z
UID:10013391-1674988200-1675004400@uucv.org
SUMMARY:OWL
DESCRIPTION:
URL:https://uucv.org/event/owl-2/2023-01-29/
LOCATION:Yuuth
END:VEVENT
BEGIN:VEVENT
DTSTART;TZID=America/New_York:20230127T183000
DTEND;TZID=America/New_York:20230127T200000
DTSTAMP:20260421T025634
CREATED:20180130T162756Z
LAST-MODIFIED:20180130T162756Z
UID:10011686-1674844200-1674849600@uucv.org
SUMMARY:Parents Meeting
DESCRIPTION:
URL:https://uucv.org/event/parents-meeting/2023-01-27/
LOCATION:Library\, 2 Forge Road\, Boiling Springs\, PA\, 17007\, United States
CATEGORIES:Adult Education,Community,Education,Flag for Newsletter,Meetings
ORGANIZER;CN="Kristen Markley":MAILTO:markleykristen@gmail.com
END:VEVENT
BEGIN:VEVENT
DTSTART;TZID=America/New_York:20230124T183000
DTEND;TZID=America/New_York:20230124T203000
DTSTAMP:20260421T025634
CREATED:20170126T162910Z
LAST-MODIFIED:20170126T162910Z
UID:10011052-1674585000-1674592200@uucv.org
SUMMARY:Spirit of Life
DESCRIPTION:
URL:https://uucv.org/event/spirit-of-life/2023-01-24/
LOCATION:Board Room
CATEGORIES:Adult Education,Community,Education,Flag for Newsletter
ORGANIZER;CN="Rev Aija Simpson":MAILTO: revaija@qmf.309.myftpupload.com
END:VEVENT
BEGIN:VEVENT
DTSTART;TZID=America/New_York:20230122T120000
DTEND;TZID=America/New_York:20230122T133000
DTSTAMP:20260421T025634
CREATED:20180130T163012Z
LAST-MODIFIED:20180130T163241Z
UID:10011746-1674388800-1674394200@uucv.org
SUMMARY:Neurological Support Group
DESCRIPTION:
URL:https://uucv.org/event/neurological-support-group-2/2023-01-22/
LOCATION:Library\, 2 Forge Road\, Boiling Springs\, PA\, 17007\, United States
CATEGORIES:Community,Education,Flag for Newsletter,Meetings
ORGANIZER;CN="Darlene Smith":MAILTO:darlenesmith@embarqmail.com
END:VEVENT
BEGIN:VEVENT
DTSTART;TZID=America/New_York:20230122T120000
DTEND;TZID=America/New_York:20230122T130000
DTSTAMP:20260421T025634
CREATED:20180122T164633Z
LAST-MODIFIED:20180122T164633Z
UID:10011606-1674388800-1674392400@uucv.org
SUMMARY:Neurological Support Group
DESCRIPTION:
URL:https://uucv.org/event/neurological-support-group/2023-01-22/
LOCATION:Library\, 2 Forge Road\, Boiling Springs\, PA\, 17007\, United States
CATEGORIES:Community,Education,Flag for Newsletter,Meetings
ORGANIZER;CN="Darlene Smith":MAILTO:darlenesmith@embarqmail.com
END:VEVENT
BEGIN:VEVENT
DTSTART;TZID=America/New_York:20230122T120000
DTEND;TZID=America/New_York:20230122T130000
DTSTAMP:20260421T025634
CREATED:20170911T163734Z
LAST-MODIFIED:20170911T163734Z
UID:10011483-1674388800-1674392400@uucv.org
SUMMARY:Neurological Diseases Support Group
DESCRIPTION:
URL:https://uucv.org/event/neurological-diseases-support-group/2023-01-22/
LOCATION:Social Hall\, PA\, United States
CATEGORIES:Community,Education,Flag for Newsletter,Meetings
END:VEVENT
BEGIN:VEVENT
DTSTART;TZID=America/New_York:20230121T140000
DTEND;TZID=America/New_York:20230121T200000
DTSTAMP:20260421T025634
CREATED:20221128T175256Z
LAST-MODIFIED:20221128T175256Z
UID:10013431-1674309600-1674331200@uucv.org
SUMMARY:Wild Woman Project’s New Moon Circles - Sustain
DESCRIPTION:
URL:https://uucv.org/event/wild-woman-projects-new-moon-circles-sustain/2023-01-21/
LOCATION:Social Hall\, PA\, United States
END:VEVENT
BEGIN:VEVENT
DTSTART;TZID=America/New_York:20230115T113000
DTEND;TZID=America/New_York:20230115T123000
DTSTAMP:20260421T025634
CREATED:20221219T151436Z
LAST-MODIFIED:20221219T151436Z
UID:10013437-1673782200-1673785800@uucv.org
SUMMARY:Congregation Meeting
DESCRIPTION:
URL:https://uucv.org/event/congregation-meeting/
LOCATION:Social Hall\, PA\, United States
END:VEVENT
BEGIN:VEVENT
DTSTART;TZID=America/New_York:20230113T150000
DTEND;TZID=America/New_York:20230114T210000
DTSTAMP:20260421T025634
CREATED:20221118T182940Z
LAST-MODIFIED:20221118T182940Z
UID:10013388-1673622000-1673730000@uucv.org
SUMMARY:OWL Over
DESCRIPTION:
URL:https://uucv.org/event/owl-over/
LOCATION:Dining Room
END:VEVENT
BEGIN:VEVENT
DTSTART;TZID=America/New_York:20230109T190000
DTEND;TZID=America/New_York:20230109T210000
DTSTAMP:20260421T025634
CREATED:20221118T183229Z
LAST-MODIFIED:20221118T183229Z
UID:10013392-1673290800-1673298000@uucv.org
SUMMARY:RE Committee Meeting
DESCRIPTION:
URL:https://uucv.org/event/re-committee-meeting-2/
LOCATION:https://zoom.us/my/uucvpa
END:VEVENT
BEGIN:VEVENT
DTSTART;TZID=America/New_York:20230108T090000
DTEND;TZID=America/New_York:20230108T100000
DTSTAMP:20260421T025634
CREATED:20221206T135938Z
LAST-MODIFIED:20221206T135938Z
UID:10011489-1673168400-1673172000@uucv.org
SUMMARY:Adult Ed Planning Session
DESCRIPTION:
URL:https://uucv.org/event/adult-ed-planning-session/
LOCATION:Board Room\, PA\, United States
END:VEVENT
BEGIN:VEVENT
DTSTART;TZID=America/New_York:20230106T170000
DTEND;TZID=America/New_York:20230106T190000
DTSTAMP:20260421T025634
CREATED:20221128T144208Z
LAST-MODIFIED:20221128T144208Z
UID:10013429-1673024400-1673031600@uucv.org
SUMMARY:Anti-Racism Meeting
DESCRIPTION:
URL:https://uucv.org/event/anti-racism-meeting/
LOCATION:ZOOM https://zoom.us/my/uucvpa
END:VEVENT
END:VCALENDAR