BEGIN:VCALENDAR
VERSION:2.0
PRODID:-//Unitarian Universalists of the Cumberland Valley - ECPv6.15.20//NONSGML v1.0//EN
CALSCALE:GREGORIAN
METHOD:PUBLISH
X-ORIGINAL-URL:https://uucv.org
X-WR-CALDESC:Events for Unitarian Universalists of the Cumberland Valley
REFRESH-INTERVAL;VALUE=DURATION:PT1H
X-Robots-Tag:noindex
X-PUBLISHED-TTL:PT1H
BEGIN:VTIMEZONE
TZID:America/New_York
BEGIN:DAYLIGHT
TZOFFSETFROM:-0500
TZOFFSETTO:-0400
TZNAME:EDT
DTSTART:20290311T070000
END:DAYLIGHT
BEGIN:STANDARD
TZOFFSETFROM:-0400
TZOFFSETTO:-0500
TZNAME:EST
DTSTART:20291104T060000
END:STANDARD
BEGIN:DAYLIGHT
TZOFFSETFROM:-0500
TZOFFSETTO:-0400
TZNAME:EDT
DTSTART:20300310T070000
END:DAYLIGHT
BEGIN:STANDARD
TZOFFSETFROM:-0400
TZOFFSETTO:-0500
TZNAME:EST
DTSTART:20301103T060000
END:STANDARD
BEGIN:DAYLIGHT
TZOFFSETFROM:-0500
TZOFFSETTO:-0400
TZNAME:EDT
DTSTART:20310309T070000
END:DAYLIGHT
BEGIN:STANDARD
TZOFFSETFROM:-0400
TZOFFSETTO:-0500
TZNAME:EST
DTSTART:20311102T060000
END:STANDARD
END:VTIMEZONE
BEGIN:VEVENT
DTSTART;TZID=America/New_York:20300221T191500
DTEND;TZID=America/New_York:20300221T203000
DTSTAMP:20260424T105146
CREATED:20250829T170618Z
LAST-MODIFIED:20250829T170618Z
UID:10021260-1897931700-1897936200@uucv.org
SUMMARY:Soul Matters Small Group Open to ALL
DESCRIPTION:
URL:https://uucv.org/event/soul-matters-small-group-open-to-all/2030-02-21/
LOCATION:https://zoom.us/my/uucvpa
END:VEVENT
BEGIN:VEVENT
DTSTART;TZID=America/New_York:20300226T180000
DTEND;TZID=America/New_York:20300226T200000
DTSTAMP:20260424T105146
CREATED:20251031T160914Z
LAST-MODIFIED:20251031T160914Z
UID:10021575-1898359200-1898366400@uucv.org
SUMMARY:COM
DESCRIPTION:
URL:https://uucv.org/event/com/2030-02-26/
LOCATION:Welcome Center
END:VEVENT
BEGIN:VEVENT
DTSTART;TZID=America/New_York:20300301T180000
DTEND;TZID=America/New_York:20300301T200000
DTSTAMP:20260424T105146
CREATED:20251031T160512Z
LAST-MODIFIED:20251031T160512Z
UID:10021455-1898618400-1898625600@uucv.org
SUMMARY:First Fridays Community Night
DESCRIPTION:
URL:https://uucv.org/event/first-fridays-community-night/2030-03-01/
LOCATION:Dining Room
END:VEVENT
BEGIN:VEVENT
DTSTART;TZID=America/New_York:20300305T194500
DTEND;TZID=America/New_York:20300305T210000
DTSTAMP:20260424T105146
CREATED:20250827T165850Z
LAST-MODIFIED:20250827T165850Z
UID:10021141-1898970300-1898974800@uucv.org
SUMMARY:Worship Leadership Team
DESCRIPTION:
URL:https://uucv.org/event/worship-leadership-team/2030-03-05/
LOCATION:Rev. Phoenix ZOOM
END:VEVENT
BEGIN:VEVENT
DTSTART;TZID=America/New_York:20300307T191500
DTEND;TZID=America/New_York:20300307T203000
DTSTAMP:20260424T105146
CREATED:20250829T170500Z
LAST-MODIFIED:20250829T170713Z
UID:10021201-1899141300-1899145800@uucv.org
SUMMARY:Soul Matters Small Group Open to ALL
DESCRIPTION:
URL:https://uucv.org/event/soul-matters-small-group/2030-03-07/
LOCATION:ZOOM https://zoom.us/my/uucvpa
END:VEVENT
BEGIN:VEVENT
DTSTART;TZID=America/New_York:20300308T120000
DTEND;TZID=America/New_York:20300308T140000
DTSTAMP:20260424T105146
CREATED:20251125T191056Z
LAST-MODIFIED:20251125T191057Z
UID:10021829-1899201600-1899208800@uucv.org
SUMMARY:Soup Matters for All
DESCRIPTION:
URL:https://uucv.org/event/soup-matters-for-all-2/2030-03-08/
LOCATION:Dining Room
END:VEVENT
BEGIN:VEVENT
DTSTART;TZID=America/New_York:20300309T090000
DTEND;TZID=America/New_York:20300309T110000
DTSTAMP:20260424T105146
CREATED:20250910T142406Z
LAST-MODIFIED:20250910T172931Z
UID:10021323-1899277200-1899284400@uucv.org
SUMMARY:Caregivers Circle
DESCRIPTION:
URL:https://uucv.org/event/caregivers-circle-8/2030-03-09/
LOCATION:Youuth Room
END:VEVENT
BEGIN:VEVENT
DTSTART;TZID=America/New_York:20300310T083000
DTEND;TZID=America/New_York:20300310T100000
DTSTAMP:20260424T105146
CREATED:20250827T133907Z
LAST-MODIFIED:20250827T133908Z
UID:10021054-1899361800-1899367200@uucv.org
SUMMARY:Word Weavers Small Group
DESCRIPTION:
URL:https://uucv.org/event/word-weavers-small-group-2/2030-03-10/
LOCATION:Board Room
END:VEVENT
BEGIN:VEVENT
DTSTART;TZID=America/New_York:20300311T193000
DTEND;TZID=America/New_York:20300311T210000
DTSTAMP:20260424T105146
CREATED:20250827T133745Z
LAST-MODIFIED:20250827T133746Z
UID:10020995-1899487800-1899493200@uucv.org
SUMMARY:Finance
DESCRIPTION:
URL:https://uucv.org/event/finance-3-2-2-2/2030-03-11/
LOCATION:Offsite ZOOM
END:VEVENT
END:VCALENDAR