BEGIN:VCALENDAR
VERSION:2.0
PRODID:-//Unitarian Universalists of the Cumberland Valley - ECPv6.15.20//NONSGML v1.0//EN
CALSCALE:GREGORIAN
METHOD:PUBLISH
X-ORIGINAL-URL:https://uucv.org
X-WR-CALDESC:Events for Unitarian Universalists of the Cumberland Valley
REFRESH-INTERVAL;VALUE=DURATION:PT1H
X-Robots-Tag:noindex
X-PUBLISHED-TTL:PT1H
BEGIN:VTIMEZONE
TZID:America/New_York
BEGIN:DAYLIGHT
TZOFFSETFROM:-0500
TZOFFSETTO:-0400
TZNAME:EDT
DTSTART:20280312T070000
END:DAYLIGHT
BEGIN:STANDARD
TZOFFSETFROM:-0400
TZOFFSETTO:-0500
TZNAME:EST
DTSTART:20281105T060000
END:STANDARD
BEGIN:DAYLIGHT
TZOFFSETFROM:-0500
TZOFFSETTO:-0400
TZNAME:EDT
DTSTART:20290311T070000
END:DAYLIGHT
BEGIN:STANDARD
TZOFFSETFROM:-0400
TZOFFSETTO:-0500
TZNAME:EST
DTSTART:20291104T060000
END:STANDARD
BEGIN:DAYLIGHT
TZOFFSETFROM:-0500
TZOFFSETTO:-0400
TZNAME:EDT
DTSTART:20300310T070000
END:DAYLIGHT
BEGIN:STANDARD
TZOFFSETFROM:-0400
TZOFFSETTO:-0500
TZNAME:EST
DTSTART:20301103T060000
END:STANDARD
BEGIN:DAYLIGHT
TZOFFSETFROM:-0500
TZOFFSETTO:-0400
TZNAME:EDT
DTSTART:20310309T070000
END:DAYLIGHT
BEGIN:STANDARD
TZOFFSETFROM:-0400
TZOFFSETTO:-0500
TZNAME:EST
DTSTART:20311102T060000
END:STANDARD
END:VTIMEZONE
BEGIN:VEVENT
DTSTART;TZID=America/New_York:20291220T133000
DTEND;TZID=America/New_York:20291220T150000
DTSTAMP:20260424T123034
CREATED:20250626T161019Z
LAST-MODIFIED:20250626T161019Z
UID:10020872-1892467800-1892473200@uucv.org
SUMMARY:Daytimers
DESCRIPTION:
URL:https://uucv.org/event/daytimers/2029-12-20/
LOCATION:Meeting Room
END:VEVENT
BEGIN:VEVENT
DTSTART;TZID=America/New_York:20291220T140000
DTEND;TZID=America/New_York:20291220T160000
DTSTAMP:20260424T123034
CREATED:20250115T181345Z
LAST-MODIFIED:20250115T181345Z
UID:10018758-1892469600-1892476800@uucv.org
SUMMARY:The Divers Small Group
DESCRIPTION:
URL:https://uucv.org/event/gail-mike-small-group-2/2029-12-20/
LOCATION:Youuth Room
END:VEVENT
BEGIN:VEVENT
DTSTART;TZID=America/New_York:20291220T191500
DTEND;TZID=America/New_York:20291220T203000
DTSTAMP:20260424T123034
CREATED:20250829T170618Z
LAST-MODIFIED:20250829T170618Z
UID:10021258-1892488500-1892493000@uucv.org
SUMMARY:Soul Matters Small Group Open to ALL
DESCRIPTION:
URL:https://uucv.org/event/soul-matters-small-group-open-to-all/2029-12-20/
LOCATION:https://zoom.us/my/uucvpa
END:VEVENT
BEGIN:VEVENT
DTSTART;TZID=America/New_York:20291221T163000
DTEND;TZID=America/New_York:20291221T180000
DTSTAMP:20260424T123034
CREATED:20250318T175806Z
LAST-MODIFIED:20250625T181544Z
UID:10020748-1892565000-1892570400@uucv.org
SUMMARY:Namely Women's Group - Area Homes
DESCRIPTION:
URL:https://uucv.org/event/namely-womens-group-backyards-2/2029-12-21/
LOCATION:Area Homes\, PA
CATEGORIES:SGM
END:VEVENT
BEGIN:VEVENT
DTSTART;TZID=America/New_York:20291223T090000
DTEND;TZID=America/New_York:20291223T100000
DTSTAMP:20260424T123034
CREATED:20251120T181840Z
LAST-MODIFIED:20251120T181840Z
UID:10021753-1892710800-1892714400@uucv.org
SUMMARY:Roots & Wings Community Meet-Up
DESCRIPTION:
URL:https://uucv.org/event/roots-wings-community-meet-up-2/2029-12-23/
LOCATION:Dining Hall
END:VEVENT
BEGIN:VEVENT
DTSTART;TZID=America/New_York:20291223T183000
DTEND;TZID=America/New_York:20291223T203000
DTSTAMP:20260424T123034
CREATED:20250115T181530Z
LAST-MODIFIED:20250115T181546Z
UID:10018818-1892745000-1892752200@uucv.org
SUMMARY:UUCV Book Group
DESCRIPTION:
URL:https://uucv.org/event/uucv-book-group-5/2029-12-23/
LOCATION:ZOOM https://zoom.us/my/uucvpa
END:VEVENT
BEGIN:VEVENT
DTSTART;TZID=America/New_York:20291225T180000
DTEND;TZID=America/New_York:20291225T200000
DTSTAMP:20260424T123034
CREATED:20251031T160914Z
LAST-MODIFIED:20251031T160914Z
UID:10021573-1892916000-1892923200@uucv.org
SUMMARY:COM
DESCRIPTION:
URL:https://uucv.org/event/com/2029-12-25/
LOCATION:Welcome Center
END:VEVENT
BEGIN:VEVENT
DTSTART;TZID=America/New_York:20300101T194500
DTEND;TZID=America/New_York:20300101T210000
DTSTAMP:20260424T123034
CREATED:20250827T165850Z
LAST-MODIFIED:20250827T165850Z
UID:10021139-1893527100-1893531600@uucv.org
SUMMARY:Worship Leadership Team
DESCRIPTION:
URL:https://uucv.org/event/worship-leadership-team/2030-01-01/
LOCATION:Rev. Phoenix ZOOM
END:VEVENT
BEGIN:VEVENT
DTSTART;TZID=America/New_York:20300103T191500
DTEND;TZID=America/New_York:20300103T203000
DTSTAMP:20260424T123034
CREATED:20250829T170500Z
LAST-MODIFIED:20250829T170713Z
UID:10021199-1893698100-1893702600@uucv.org
SUMMARY:Soul Matters Small Group Open to ALL
DESCRIPTION:
URL:https://uucv.org/event/soul-matters-small-group/2030-01-03/
LOCATION:ZOOM https://zoom.us/my/uucvpa
END:VEVENT
BEGIN:VEVENT
DTSTART;TZID=America/New_York:20300104T180000
DTEND;TZID=America/New_York:20300104T200000
DTSTAMP:20260424T123034
CREATED:20251031T160512Z
LAST-MODIFIED:20251031T160512Z
UID:10021453-1893780000-1893787200@uucv.org
SUMMARY:First Fridays Community Night
DESCRIPTION:
URL:https://uucv.org/event/first-fridays-community-night/2030-01-04/
LOCATION:Dining Room
END:VEVENT
BEGIN:VEVENT
DTSTART;TZID=America/New_York:20300112T090000
DTEND;TZID=America/New_York:20300112T110000
DTSTAMP:20260424T123034
CREATED:20250910T142406Z
LAST-MODIFIED:20250910T172931Z
UID:10021321-1894438800-1894446000@uucv.org
SUMMARY:Caregivers Circle
DESCRIPTION:
URL:https://uucv.org/event/caregivers-circle-8/2030-01-12/
LOCATION:Youuth Room
END:VEVENT
BEGIN:VEVENT
DTSTART;TZID=America/New_York:20300113T083000
DTEND;TZID=America/New_York:20300113T100000
DTSTAMP:20260424T123034
CREATED:20250827T133907Z
LAST-MODIFIED:20250827T133908Z
UID:10021052-1894523400-1894528800@uucv.org
SUMMARY:Word Weavers Small Group
DESCRIPTION:
URL:https://uucv.org/event/word-weavers-small-group-2/2030-01-13/
LOCATION:Board Room
END:VEVENT
BEGIN:VEVENT
DTSTART;TZID=America/New_York:20300114T193000
DTEND;TZID=America/New_York:20300114T210000
DTSTAMP:20260424T123034
CREATED:20250827T133745Z
LAST-MODIFIED:20250827T133746Z
UID:10020993-1894649400-1894654800@uucv.org
SUMMARY:Finance
DESCRIPTION:
URL:https://uucv.org/event/finance-3-2-2-2/2030-01-14/
LOCATION:Offsite ZOOM
END:VEVENT
END:VCALENDAR