BEGIN:VCALENDAR
VERSION:2.0
PRODID:-//Unitarian Universalists of the Cumberland Valley - ECPv6.15.20//NONSGML v1.0//EN
CALSCALE:GREGORIAN
METHOD:PUBLISH
X-ORIGINAL-URL:https://uucv.org
X-WR-CALDESC:Events for Unitarian Universalists of the Cumberland Valley
REFRESH-INTERVAL;VALUE=DURATION:PT1H
X-Robots-Tag:noindex
X-PUBLISHED-TTL:PT1H
BEGIN:VTIMEZONE
TZID:America/New_York
BEGIN:DAYLIGHT
TZOFFSETFROM:-0500
TZOFFSETTO:-0400
TZNAME:EDT
DTSTART:20280312T070000
END:DAYLIGHT
BEGIN:STANDARD
TZOFFSETFROM:-0400
TZOFFSETTO:-0500
TZNAME:EST
DTSTART:20281105T060000
END:STANDARD
BEGIN:DAYLIGHT
TZOFFSETFROM:-0500
TZOFFSETTO:-0400
TZNAME:EDT
DTSTART:20290311T070000
END:DAYLIGHT
BEGIN:STANDARD
TZOFFSETFROM:-0400
TZOFFSETTO:-0500
TZNAME:EST
DTSTART:20291104T060000
END:STANDARD
BEGIN:DAYLIGHT
TZOFFSETFROM:-0500
TZOFFSETTO:-0400
TZNAME:EDT
DTSTART:20300310T070000
END:DAYLIGHT
BEGIN:STANDARD
TZOFFSETFROM:-0400
TZOFFSETTO:-0500
TZNAME:EST
DTSTART:20301103T060000
END:STANDARD
END:VTIMEZONE
BEGIN:VEVENT
DTSTART;TZID=America/New_York:20290128T183000
DTEND;TZID=America/New_York:20290128T203000
DTSTAMP:20260422T180203
CREATED:20250115T181530Z
LAST-MODIFIED:20250115T181546Z
UID:10018807-1864319400-1864326600@uucv.org
SUMMARY:UUCV Book Group
DESCRIPTION:
URL:https://uucv.org/event/uucv-book-group-5/2029-01-28/
LOCATION:ZOOM https://zoom.us/my/uucvpa
END:VEVENT
BEGIN:VEVENT
DTSTART;TZID=America/New_York:20290201T191500
DTEND;TZID=America/New_York:20290201T203000
DTSTAMP:20260422T180203
CREATED:20250829T170500Z
LAST-MODIFIED:20250829T170713Z
UID:10021188-1864667700-1864672200@uucv.org
SUMMARY:Soul Matters Small Group Open to ALL
DESCRIPTION:
URL:https://uucv.org/event/soul-matters-small-group/2029-02-01/
LOCATION:ZOOM https://zoom.us/my/uucvpa
END:VEVENT
BEGIN:VEVENT
DTSTART;TZID=America/New_York:20290202T180000
DTEND;TZID=America/New_York:20290202T200000
DTSTAMP:20260422T180203
CREATED:20251031T160512Z
LAST-MODIFIED:20251031T160512Z
UID:10021442-1864749600-1864756800@uucv.org
SUMMARY:First Fridays Community Night
DESCRIPTION:
URL:https://uucv.org/event/first-fridays-community-night/2029-02-02/
LOCATION:Dining Room
END:VEVENT
BEGIN:VEVENT
DTSTART;TZID=America/New_York:20290206T194500
DTEND;TZID=America/New_York:20290206T210000
DTSTAMP:20260422T180203
CREATED:20250827T165850Z
LAST-MODIFIED:20250827T165850Z
UID:10021128-1865101500-1865106000@uucv.org
SUMMARY:Worship Leadership Team
DESCRIPTION:
URL:https://uucv.org/event/worship-leadership-team/2029-02-06/
LOCATION:Rev. Phoenix ZOOM
END:VEVENT
BEGIN:VEVENT
DTSTART;TZID=America/New_York:20290209T120000
DTEND;TZID=America/New_York:20290209T140000
DTSTAMP:20260422T180203
CREATED:20251125T191056Z
LAST-MODIFIED:20251125T191057Z
UID:10021816-1865332800-1865340000@uucv.org
SUMMARY:Soup Matters for All
DESCRIPTION:
URL:https://uucv.org/event/soup-matters-for-all-2/2029-02-09/
LOCATION:Dining Room
END:VEVENT
BEGIN:VEVENT
DTSTART;TZID=America/New_York:20290210T090000
DTEND;TZID=America/New_York:20290210T110000
DTSTAMP:20260422T180203
CREATED:20250910T142406Z
LAST-MODIFIED:20250910T172931Z
UID:10021310-1865408400-1865415600@uucv.org
SUMMARY:Caregivers Circle
DESCRIPTION:
URL:https://uucv.org/event/caregivers-circle-8/2029-02-10/
LOCATION:Youuth Room
END:VEVENT
BEGIN:VEVENT
DTSTART;TZID=America/New_York:20290211T083000
DTEND;TZID=America/New_York:20290211T100000
DTSTAMP:20260422T180203
CREATED:20250827T133907Z
LAST-MODIFIED:20250827T133908Z
UID:10021041-1865493000-1865498400@uucv.org
SUMMARY:Word Weavers Small Group
DESCRIPTION:
URL:https://uucv.org/event/word-weavers-small-group-2/2029-02-11/
LOCATION:Board Room
END:VEVENT
BEGIN:VEVENT
DTSTART;TZID=America/New_York:20290212T193000
DTEND;TZID=America/New_York:20290212T210000
DTSTAMP:20260422T180203
CREATED:20250827T133745Z
LAST-MODIFIED:20250827T133746Z
UID:10020982-1865619000-1865624400@uucv.org
SUMMARY:Finance
DESCRIPTION:
URL:https://uucv.org/event/finance-3-2-2-2/2029-02-12/
LOCATION:Offsite ZOOM
END:VEVENT
BEGIN:VEVENT
DTSTART;TZID=America/New_York:20290215T133000
DTEND;TZID=America/New_York:20290215T150000
DTSTAMP:20260422T180203
CREATED:20250626T161019Z
LAST-MODIFIED:20250626T161019Z
UID:10020862-1865856600-1865862000@uucv.org
SUMMARY:Daytimers
DESCRIPTION:
URL:https://uucv.org/event/daytimers/2029-02-15/
LOCATION:Meeting Room
END:VEVENT
BEGIN:VEVENT
DTSTART;TZID=America/New_York:20290215T140000
DTEND;TZID=America/New_York:20290215T160000
DTSTAMP:20260422T180203
CREATED:20250115T181345Z
LAST-MODIFIED:20250115T181345Z
UID:10018748-1865858400-1865865600@uucv.org
SUMMARY:The Divers Small Group
DESCRIPTION:
URL:https://uucv.org/event/gail-mike-small-group-2/2029-02-15/
LOCATION:Youuth Room
END:VEVENT
BEGIN:VEVENT
DTSTART;TZID=America/New_York:20290215T191500
DTEND;TZID=America/New_York:20290215T203000
DTSTAMP:20260422T180203
CREATED:20250829T170618Z
LAST-MODIFIED:20250829T170618Z
UID:10021248-1865877300-1865881800@uucv.org
SUMMARY:Soul Matters Small Group Open to ALL
DESCRIPTION:
URL:https://uucv.org/event/soul-matters-small-group-open-to-all/2029-02-15/
LOCATION:https://zoom.us/my/uucvpa
END:VEVENT
BEGIN:VEVENT
DTSTART;TZID=America/New_York:20290220T183000
DTEND;TZID=America/New_York:20290220T203000
DTSTAMP:20260422T180203
CREATED:20250926T182036Z
LAST-MODIFIED:20250926T182037Z
UID:10021376-1866306600-1866313800@uucv.org
SUMMARY:Board of Trustees
DESCRIPTION:
URL:https://uucv.org/event/board-of-trustees-2/2029-02-20/
LOCATION:Board Room and ZOOM https://zoom.us/my/uucvpa
END:VEVENT
BEGIN:VEVENT
DTSTART;TZID=America/New_York:20290221T183000
DTEND;TZID=America/New_York:20290221T200000
DTSTAMP:20260422T180203
CREATED:20250115T174735Z
LAST-MODIFIED:20250626T160726Z
UID:10020804-1866393000-1866398400@uucv.org
SUMMARY:Social Justice Meeting
DESCRIPTION:
URL:https://uucv.org/event/social-justice-meeting-2/2029-02-21/
LOCATION:Board Room and ZOOM https://zoom.us/my/uucvpa
END:VEVENT
BEGIN:VEVENT
DTSTART;TZID=America/New_York:20290221T190000
DTEND;TZID=America/New_York:20290221T210000
DTSTAMP:20260422T180203
CREATED:20250318T175301Z
LAST-MODIFIED:20250318T175301Z
UID:10019760-1866394800-1866402000@uucv.org
SUMMARY:Men's Group
DESCRIPTION:
URL:https://uucv.org/event/mens-group/2029-02-21/
LOCATION:Area Homes
END:VEVENT
END:VCALENDAR