BEGIN:VCALENDAR
VERSION:2.0
PRODID:-//Unitarian Universalists of the Cumberland Valley - ECPv6.15.20//NONSGML v1.0//EN
CALSCALE:GREGORIAN
METHOD:PUBLISH
X-ORIGINAL-URL:https://uucv.org
X-WR-CALDESC:Events for Unitarian Universalists of the Cumberland Valley
REFRESH-INTERVAL;VALUE=DURATION:PT1H
X-Robots-Tag:noindex
X-PUBLISHED-TTL:PT1H
BEGIN:VTIMEZONE
TZID:America/New_York
BEGIN:DAYLIGHT
TZOFFSETFROM:-0500
TZOFFSETTO:-0400
TZNAME:EDT
DTSTART:20270314T070000
END:DAYLIGHT
BEGIN:STANDARD
TZOFFSETFROM:-0400
TZOFFSETTO:-0500
TZNAME:EST
DTSTART:20271107T060000
END:STANDARD
BEGIN:DAYLIGHT
TZOFFSETFROM:-0500
TZOFFSETTO:-0400
TZNAME:EDT
DTSTART:20280312T070000
END:DAYLIGHT
BEGIN:STANDARD
TZOFFSETFROM:-0400
TZOFFSETTO:-0500
TZNAME:EST
DTSTART:20281105T060000
END:STANDARD
BEGIN:DAYLIGHT
TZOFFSETFROM:-0500
TZOFFSETTO:-0400
TZNAME:EDT
DTSTART:20290311T070000
END:DAYLIGHT
BEGIN:STANDARD
TZOFFSETFROM:-0400
TZOFFSETTO:-0500
TZNAME:EST
DTSTART:20291104T060000
END:STANDARD
END:VTIMEZONE
BEGIN:VEVENT
DTSTART;TZID=America/New_York:20280620T183000
DTEND;TZID=America/New_York:20280620T203000
DTSTAMP:20260421T072056
CREATED:20250926T182036Z
LAST-MODIFIED:20250926T182037Z
UID:10021368-1845138600-1845145800@uucv.org
SUMMARY:Board of Trustees
DESCRIPTION:
URL:https://uucv.org/event/board-of-trustees-2/2028-06-20/
LOCATION:Board Room and ZOOM https://zoom.us/my/uucvpa
END:VEVENT
BEGIN:VEVENT
DTSTART;TZID=America/New_York:20280621T103000
DTEND;TZID=America/New_York:20280621T120000
DTSTAMP:20260421T072056
CREATED:20250625T180818Z
LAST-MODIFIED:20250625T180818Z
UID:10020530-1845196200-1845201600@uucv.org
SUMMARY:Staff Meeting
DESCRIPTION:
URL:https://uucv.org/event/staff-meeting-2/2028-06-21/
LOCATION:Rev. Phoenix Office
END:VEVENT
BEGIN:VEVENT
DTSTART;TZID=America/New_York:20280621T163000
DTEND;TZID=America/New_York:20280621T170000
DTSTAMP:20260421T072056
CREATED:20241224T152618Z
LAST-MODIFIED:20241224T152619Z
UID:10018244-1845217800-1845219600@uucv.org
SUMMARY:Worship Tech Meeting
DESCRIPTION:
URL:https://uucv.org/event/worship-tech-meeting-2-2-2/2028-06-21/
LOCATION:Board and ZOOM https://zoom.us/my/meetingsuucv 572/887-2212
END:VEVENT
BEGIN:VEVENT
DTSTART;TZID=America/New_York:20280621T183000
DTEND;TZID=America/New_York:20280621T200000
DTSTAMP:20260421T072056
CREATED:20250115T174735Z
LAST-MODIFIED:20250626T160726Z
UID:10020796-1845225000-1845230400@uucv.org
SUMMARY:Social Justice Meeting
DESCRIPTION:
URL:https://uucv.org/event/social-justice-meeting-2/2028-06-21/
LOCATION:Board Room and ZOOM https://zoom.us/my/uucvpa
END:VEVENT
BEGIN:VEVENT
DTSTART;TZID=America/New_York:20280621T190000
DTEND;TZID=America/New_York:20280621T210000
DTSTAMP:20260421T072056
CREATED:20250318T175301Z
LAST-MODIFIED:20250318T175301Z
UID:10019752-1845226800-1845234000@uucv.org
SUMMARY:Men's Group
DESCRIPTION:
URL:https://uucv.org/event/mens-group/2028-06-21/
LOCATION:Area Homes
END:VEVENT
BEGIN:VEVENT
DTSTART;TZID=America/New_York:20280625T090000
DTEND;TZID=America/New_York:20280625T100000
DTSTAMP:20260421T072056
CREATED:20251120T181840Z
LAST-MODIFIED:20251120T181840Z
UID:10021714-1845536400-1845540000@uucv.org
SUMMARY:Roots & Wings Community Meet-Up
DESCRIPTION:
URL:https://uucv.org/event/roots-wings-community-meet-up-2/2028-06-25/
LOCATION:Dining Hall
END:VEVENT
BEGIN:VEVENT
DTSTART;TZID=America/New_York:20280625T183000
DTEND;TZID=America/New_York:20280625T203000
DTSTAMP:20260421T072056
CREATED:20250115T181530Z
LAST-MODIFIED:20250115T181546Z
UID:10018800-1845570600-1845577800@uucv.org
SUMMARY:UUCV Book Group
DESCRIPTION:
URL:https://uucv.org/event/uucv-book-group-5/2028-06-25/
LOCATION:ZOOM https://zoom.us/my/uucvpa
END:VEVENT
BEGIN:VEVENT
DTSTART;TZID=America/New_York:20280627T180000
DTEND;TZID=America/New_York:20280627T200000
DTSTAMP:20260421T072056
CREATED:20251031T160914Z
LAST-MODIFIED:20251031T160914Z
UID:10021555-1845741600-1845748800@uucv.org
SUMMARY:COM
DESCRIPTION:
URL:https://uucv.org/event/com/2028-06-27/
LOCATION:Welcome Center
END:VEVENT
BEGIN:VEVENT
DTSTART;TZID=America/New_York:20280704T194500
DTEND;TZID=America/New_York:20280704T210000
DTSTAMP:20260421T072056
CREATED:20250827T165850Z
LAST-MODIFIED:20250827T165850Z
UID:10021121-1846352700-1846357200@uucv.org
SUMMARY:Worship Leadership Team
DESCRIPTION:
URL:https://uucv.org/event/worship-leadership-team/2028-07-04/
LOCATION:Rev. Phoenix ZOOM
END:VEVENT
BEGIN:VEVENT
DTSTART;TZID=America/New_York:20280706T191500
DTEND;TZID=America/New_York:20280706T203000
DTSTAMP:20260421T072056
CREATED:20250829T170500Z
LAST-MODIFIED:20250829T170713Z
UID:10021181-1846523700-1846528200@uucv.org
SUMMARY:Soul Matters Small Group Open to ALL
DESCRIPTION:
URL:https://uucv.org/event/soul-matters-small-group/2028-07-06/
LOCATION:ZOOM https://zoom.us/my/uucvpa
END:VEVENT
BEGIN:VEVENT
DTSTART;TZID=America/New_York:20280707T180000
DTEND;TZID=America/New_York:20280707T200000
DTSTAMP:20260421T072056
CREATED:20251031T160512Z
LAST-MODIFIED:20251031T160512Z
UID:10021435-1846605600-1846612800@uucv.org
SUMMARY:First Fridays Community Night
DESCRIPTION:
URL:https://uucv.org/event/first-fridays-community-night/2028-07-07/
LOCATION:Dining Room
END:VEVENT
BEGIN:VEVENT
DTSTART;TZID=America/New_York:20280708T090000
DTEND;TZID=America/New_York:20280708T110000
DTSTAMP:20260421T072056
CREATED:20250910T142406Z
LAST-MODIFIED:20250910T172931Z
UID:10021303-1846659600-1846666800@uucv.org
SUMMARY:Caregivers Circle
DESCRIPTION:
URL:https://uucv.org/event/caregivers-circle-8/2028-07-08/
LOCATION:Youuth Room
END:VEVENT
BEGIN:VEVENT
DTSTART;TZID=America/New_York:20280709T083000
DTEND;TZID=America/New_York:20280709T100000
DTSTAMP:20260421T072056
CREATED:20250827T133907Z
LAST-MODIFIED:20250827T133908Z
UID:10021034-1846744200-1846749600@uucv.org
SUMMARY:Word Weavers Small Group
DESCRIPTION:
URL:https://uucv.org/event/word-weavers-small-group-2/2028-07-09/
LOCATION:Board Room
END:VEVENT
BEGIN:VEVENT
DTSTART;TZID=America/New_York:20280710T193000
DTEND;TZID=America/New_York:20280710T210000
DTSTAMP:20260421T072056
CREATED:20250827T133745Z
LAST-MODIFIED:20250827T133746Z
UID:10020975-1846870200-1846875600@uucv.org
SUMMARY:Finance
DESCRIPTION:
URL:https://uucv.org/event/finance-3-2-2-2/2028-07-10/
LOCATION:Offsite ZOOM
END:VEVENT
BEGIN:VEVENT
DTSTART;TZID=America/New_York:20280714T120000
DTEND;TZID=America/New_York:20280714T140000
DTSTAMP:20260421T072056
CREATED:20251125T191056Z
LAST-MODIFIED:20251125T191057Z
UID:10021809-1847188800-1847196000@uucv.org
SUMMARY:Soup Matters for All
DESCRIPTION:
URL:https://uucv.org/event/soup-matters-for-all-2/2028-07-14/
LOCATION:Dining Room
END:VEVENT
END:VCALENDAR