BEGIN:VCALENDAR
VERSION:2.0
PRODID:-//Unitarian Universalists of the Cumberland Valley - ECPv6.15.20//NONSGML v1.0//EN
CALSCALE:GREGORIAN
METHOD:PUBLISH
X-ORIGINAL-URL:https://uucv.org
X-WR-CALDESC:Events for Unitarian Universalists of the Cumberland Valley
REFRESH-INTERVAL;VALUE=DURATION:PT1H
X-Robots-Tag:noindex
X-PUBLISHED-TTL:PT1H
BEGIN:VTIMEZONE
TZID:America/New_York
BEGIN:DAYLIGHT
TZOFFSETFROM:-0500
TZOFFSETTO:-0400
TZNAME:EDT
DTSTART:20260308T070000
END:DAYLIGHT
BEGIN:STANDARD
TZOFFSETFROM:-0400
TZOFFSETTO:-0500
TZNAME:EST
DTSTART:20261101T060000
END:STANDARD
BEGIN:DAYLIGHT
TZOFFSETFROM:-0500
TZOFFSETTO:-0400
TZNAME:EDT
DTSTART:20270314T070000
END:DAYLIGHT
BEGIN:STANDARD
TZOFFSETFROM:-0400
TZOFFSETTO:-0500
TZNAME:EST
DTSTART:20271107T060000
END:STANDARD
BEGIN:DAYLIGHT
TZOFFSETFROM:-0500
TZOFFSETTO:-0400
TZNAME:EDT
DTSTART:20280312T070000
END:DAYLIGHT
BEGIN:STANDARD
TZOFFSETFROM:-0400
TZOFFSETTO:-0500
TZNAME:EST
DTSTART:20281105T060000
END:STANDARD
END:VTIMEZONE
BEGIN:VEVENT
DTSTART;TZID=America/New_York:20270822T103000
DTEND;TZID=America/New_York:20270822T113000
DTSTAMP:20260420T031841
CREATED:20230811T162352Z
LAST-MODIFIED:20230811T170330Z
UID:10015612-1818930600-1818934200@uucv.org
SUMMARY:Worship In-Person or ZOOM https://zoom.us/my/uucvpa
DESCRIPTION:
URL:https://uucv.org/event/worship-zoom-only-https-zoom-us-my-uucvpa-2/2027-08-22/
LOCATION:Social Hall\, PA\, United States
END:VEVENT
BEGIN:VEVENT
DTSTART;TZID=America/New_York:20270822T104500
DTEND;TZID=America/New_York:20270822T114500
DTSTAMP:20260420T031841
CREATED:20250508T170216Z
LAST-MODIFIED:20250508T170216Z
UID:10014216-1818931500-1818935100@uucv.org
SUMMARY:Religious Education K-12
DESCRIPTION:
URL:https://uucv.org/event/religious-education-k-12-2-2-2/2027-08-22/
LOCATION:Religious Education Classrooms\, 2 Forge Road\, Boiling Springs\, PA\, 17007\, United States
END:VEVENT
BEGIN:VEVENT
DTSTART;TZID=America/New_York:20270822T183000
DTEND;TZID=America/New_York:20270822T203000
DTSTAMP:20260420T031841
CREATED:20250115T181530Z
LAST-MODIFIED:20250115T181546Z
UID:10018790-1818959400-1818966600@uucv.org
SUMMARY:UUCV Book Group
DESCRIPTION:
URL:https://uucv.org/event/uucv-book-group-5/2027-08-22/
LOCATION:ZOOM https://zoom.us/my/uucvpa
END:VEVENT
BEGIN:VEVENT
DTSTART;TZID=America/New_York:20270824T180000
DTEND;TZID=America/New_York:20270824T200000
DTSTAMP:20260420T031841
CREATED:20251031T160914Z
LAST-MODIFIED:20251031T160914Z
UID:10021545-1819130400-1819137600@uucv.org
SUMMARY:COM
DESCRIPTION:
URL:https://uucv.org/event/com/2027-08-24/
LOCATION:Welcome Center
END:VEVENT
BEGIN:VEVENT
DTSTART;TZID=America/New_York:20270826T184500
DTEND;TZID=America/New_York:20270826T204500
DTSTAMP:20260420T031841
CREATED:20250122T160647Z
LAST-MODIFIED:20250122T160648Z
UID:10018951-1819305900-1819313100@uucv.org
SUMMARY:UUCV Music Small Group
DESCRIPTION:
URL:https://uucv.org/event/uucv-music-small-group-2-2/2027-08-26/
LOCATION:Mary and Matts
END:VEVENT
BEGIN:VEVENT
DTSTART;TZID=America/New_York:20270902T191500
DTEND;TZID=America/New_York:20270902T203000
DTSTAMP:20260420T031841
CREATED:20250829T170500Z
LAST-MODIFIED:20250829T170713Z
UID:10021171-1819912500-1819917000@uucv.org
SUMMARY:Soul Matters Small Group Open to ALL
DESCRIPTION:
URL:https://uucv.org/event/soul-matters-small-group/2027-09-02/
LOCATION:ZOOM https://zoom.us/my/uucvpa
END:VEVENT
BEGIN:VEVENT
DTSTART;TZID=America/New_York:20270903T180000
DTEND;TZID=America/New_York:20270903T200000
DTSTAMP:20260420T031841
CREATED:20251031T160512Z
LAST-MODIFIED:20251031T160512Z
UID:10021425-1819994400-1820001600@uucv.org
SUMMARY:First Fridays Community Night
DESCRIPTION:
URL:https://uucv.org/event/first-fridays-community-night/2027-09-03/
LOCATION:Dining Room
END:VEVENT
BEGIN:VEVENT
DTSTART;TZID=America/New_York:20270907T194500
DTEND;TZID=America/New_York:20270907T210000
DTSTAMP:20260420T031841
CREATED:20250827T165850Z
LAST-MODIFIED:20250827T165850Z
UID:10021111-1820346300-1820350800@uucv.org
SUMMARY:Worship Leadership Team
DESCRIPTION:
URL:https://uucv.org/event/worship-leadership-team/2027-09-07/
LOCATION:Rev. Phoenix ZOOM
END:VEVENT
BEGIN:VEVENT
DTSTART;TZID=America/New_York:20270910T120000
DTEND;TZID=America/New_York:20270910T140000
DTSTAMP:20260420T031841
CREATED:20251125T191056Z
LAST-MODIFIED:20251125T191057Z
UID:10021799-1820577600-1820584800@uucv.org
SUMMARY:Soup Matters for All
DESCRIPTION:
URL:https://uucv.org/event/soup-matters-for-all-2/2027-09-10/
LOCATION:Dining Room
END:VEVENT
BEGIN:VEVENT
DTSTART;TZID=America/New_York:20270911T090000
DTEND;TZID=America/New_York:20270911T110000
DTSTAMP:20260420T031841
CREATED:20250910T142406Z
LAST-MODIFIED:20250910T172931Z
UID:10021293-1820653200-1820660400@uucv.org
SUMMARY:Caregivers Circle
DESCRIPTION:
URL:https://uucv.org/event/caregivers-circle-8/2027-09-11/
LOCATION:Youuth Room
END:VEVENT
BEGIN:VEVENT
DTSTART;TZID=America/New_York:20270912T083000
DTEND;TZID=America/New_York:20270912T100000
DTSTAMP:20260420T031841
CREATED:20250827T133907Z
LAST-MODIFIED:20250827T133908Z
UID:10021024-1820737800-1820743200@uucv.org
SUMMARY:Word Weavers Small Group
DESCRIPTION:
URL:https://uucv.org/event/word-weavers-small-group-2/2027-09-12/
LOCATION:Board Room
END:VEVENT
BEGIN:VEVENT
DTSTART;TZID=America/New_York:20270913T193000
DTEND;TZID=America/New_York:20270913T210000
DTSTAMP:20260420T031841
CREATED:20250827T133745Z
LAST-MODIFIED:20250827T133746Z
UID:10020965-1820863800-1820869200@uucv.org
SUMMARY:Finance
DESCRIPTION:
URL:https://uucv.org/event/finance-3-2-2-2/2027-09-13/
LOCATION:Offsite ZOOM
END:VEVENT
BEGIN:VEVENT
DTSTART;TZID=America/New_York:20270919T120000
DTEND;TZID=America/New_York:20270919T130000
DTSTAMP:20260420T031841
CREATED:20251031T161626Z
LAST-MODIFIED:20251031T161626Z
UID:10021607-1821355200-1821358800@uucv.org
SUMMARY:Outreach and Membership Meeting
DESCRIPTION:
URL:https://uucv.org/event/outreach-and-membership-meeting/2027-09-19/
LOCATION:Welcome Center
END:VEVENT
BEGIN:VEVENT
DTSTART;TZID=America/New_York:20270919T120000
DTEND;TZID=America/New_York:20270919T133000
DTSTAMP:20260420T031841
CREATED:20240328T143311Z
LAST-MODIFIED:20240328T143312Z
UID:10017387-1821355200-1821360600@uucv.org
SUMMARY:Worship Associates
DESCRIPTION:
URL:https://uucv.org/event/worship-associates-2/2027-09-19/
LOCATION:Social Hall\, PA\, United States
END:VEVENT
BEGIN:VEVENT
DTSTART;TZID=America/New_York:20270919T133000
DTEND;TZID=America/New_York:20270919T133000
DTSTAMP:20260420T031841
CREATED:20250318T175647Z
LAST-MODIFIED:20250318T175647Z
UID:10016342-1821360600-1821360600@uucv.org
SUMMARY:Kumquats - Joan's House
DESCRIPTION:
URL:https://uucv.org/event/kumquats-joans-house-2/2027-09-19/
LOCATION:Area Homes
END:VEVENT
END:VCALENDAR