BEGIN:VCALENDAR
VERSION:2.0
PRODID:-//Unitarian Universalists of the Cumberland Valley - ECPv6.15.20//NONSGML v1.0//EN
CALSCALE:GREGORIAN
METHOD:PUBLISH
X-ORIGINAL-URL:https://uucv.org
X-WR-CALDESC:Events for Unitarian Universalists of the Cumberland Valley
REFRESH-INTERVAL;VALUE=DURATION:PT1H
X-Robots-Tag:noindex
X-PUBLISHED-TTL:PT1H
BEGIN:VTIMEZONE
TZID:America/New_York
BEGIN:DAYLIGHT
TZOFFSETFROM:-0500
TZOFFSETTO:-0400
TZNAME:EDT
DTSTART:20260308T070000
END:DAYLIGHT
BEGIN:STANDARD
TZOFFSETFROM:-0400
TZOFFSETTO:-0500
TZNAME:EST
DTSTART:20261101T060000
END:STANDARD
BEGIN:DAYLIGHT
TZOFFSETFROM:-0500
TZOFFSETTO:-0400
TZNAME:EDT
DTSTART:20270314T070000
END:DAYLIGHT
BEGIN:STANDARD
TZOFFSETFROM:-0400
TZOFFSETTO:-0500
TZNAME:EST
DTSTART:20271107T060000
END:STANDARD
BEGIN:DAYLIGHT
TZOFFSETFROM:-0500
TZOFFSETTO:-0400
TZNAME:EDT
DTSTART:20280312T070000
END:DAYLIGHT
BEGIN:STANDARD
TZOFFSETFROM:-0400
TZOFFSETTO:-0500
TZNAME:EST
DTSTART:20281105T060000
END:STANDARD
END:VTIMEZONE
BEGIN:VEVENT
DTSTART;TZID=America/New_York:20270502T090000
DTEND;TZID=America/New_York:20270502T100000
DTSTAMP:20260419T212057
CREATED:20251120T181840Z
LAST-MODIFIED:20251120T181840Z
UID:10021684-1809248400-1809252000@uucv.org
SUMMARY:Roots & Wings Community Meet-Up
DESCRIPTION:
URL:https://uucv.org/event/roots-wings-community-meet-up-2/2027-05-02/
LOCATION:Dining Hall
END:VEVENT
BEGIN:VEVENT
DTSTART;TZID=America/New_York:20270504T194500
DTEND;TZID=America/New_York:20270504T210000
DTSTAMP:20260419T212057
CREATED:20250827T165850Z
LAST-MODIFIED:20250827T165850Z
UID:10021107-1809459900-1809464400@uucv.org
SUMMARY:Worship Leadership Team
DESCRIPTION:
URL:https://uucv.org/event/worship-leadership-team/2027-05-04/
LOCATION:Rev. Phoenix ZOOM
END:VEVENT
BEGIN:VEVENT
DTSTART;TZID=America/New_York:20270506T191500
DTEND;TZID=America/New_York:20270506T203000
DTSTAMP:20260419T212057
CREATED:20250829T170500Z
LAST-MODIFIED:20250829T170713Z
UID:10021167-1809630900-1809635400@uucv.org
SUMMARY:Soul Matters Small Group Open to ALL
DESCRIPTION:
URL:https://uucv.org/event/soul-matters-small-group/2027-05-06/
LOCATION:ZOOM https://zoom.us/my/uucvpa
END:VEVENT
BEGIN:VEVENT
DTSTART;TZID=America/New_York:20270507T180000
DTEND;TZID=America/New_York:20270507T200000
DTSTAMP:20260419T212057
CREATED:20251031T160512Z
LAST-MODIFIED:20251031T160512Z
UID:10021421-1809712800-1809720000@uucv.org
SUMMARY:First Fridays Community Night
DESCRIPTION:
URL:https://uucv.org/event/first-fridays-community-night/2027-05-07/
LOCATION:Dining Room
END:VEVENT
BEGIN:VEVENT
DTSTART;TZID=America/New_York:20270508T090000
DTEND;TZID=America/New_York:20270508T110000
DTSTAMP:20260419T212057
CREATED:20250910T142406Z
LAST-MODIFIED:20250910T172931Z
UID:10021289-1809766800-1809774000@uucv.org
SUMMARY:Caregivers Circle
DESCRIPTION:
URL:https://uucv.org/event/caregivers-circle-8/2027-05-08/
LOCATION:Youuth Room
END:VEVENT
BEGIN:VEVENT
DTSTART;TZID=America/New_York:20270509T083000
DTEND;TZID=America/New_York:20270509T100000
DTSTAMP:20260419T212057
CREATED:20250827T133907Z
LAST-MODIFIED:20250827T133908Z
UID:10021020-1809851400-1809856800@uucv.org
SUMMARY:Word Weavers Small Group
DESCRIPTION:
URL:https://uucv.org/event/word-weavers-small-group-2/2027-05-09/
LOCATION:Board Room
END:VEVENT
BEGIN:VEVENT
DTSTART;TZID=America/New_York:20270510T193000
DTEND;TZID=America/New_York:20270510T210000
DTSTAMP:20260419T212057
CREATED:20250827T133745Z
LAST-MODIFIED:20250827T133746Z
UID:10020961-1809977400-1809982800@uucv.org
SUMMARY:Finance
DESCRIPTION:
URL:https://uucv.org/event/finance-3-2-2-2/2027-05-10/
LOCATION:Offsite ZOOM
END:VEVENT
BEGIN:VEVENT
DTSTART;TZID=America/New_York:20270514T120000
DTEND;TZID=America/New_York:20270514T140000
DTSTAMP:20260419T212057
CREATED:20251125T191056Z
LAST-MODIFIED:20251125T191057Z
UID:10021795-1810296000-1810303200@uucv.org
SUMMARY:Soup Matters for All
DESCRIPTION:
URL:https://uucv.org/event/soup-matters-for-all-2/2027-05-14/
LOCATION:Dining Room
END:VEVENT
BEGIN:VEVENT
DTSTART;TZID=America/New_York:20270516T120000
DTEND;TZID=America/New_York:20270516T130000
DTSTAMP:20260419T212057
CREATED:20251031T161626Z
LAST-MODIFIED:20251031T161626Z
UID:10021603-1810468800-1810472400@uucv.org
SUMMARY:Outreach and Membership Meeting
DESCRIPTION:
URL:https://uucv.org/event/outreach-and-membership-meeting/2027-05-16/
LOCATION:Welcome Center
END:VEVENT
BEGIN:VEVENT
DTSTART;TZID=America/New_York:20270516T120000
DTEND;TZID=America/New_York:20270516T133000
DTSTAMP:20260419T212057
CREATED:20240328T143311Z
LAST-MODIFIED:20240328T143312Z
UID:10017383-1810468800-1810474200@uucv.org
SUMMARY:Worship Associates
DESCRIPTION:
URL:https://uucv.org/event/worship-associates-2/2027-05-16/
LOCATION:Social Hall\, PA\, United States
END:VEVENT
BEGIN:VEVENT
DTSTART;TZID=America/New_York:20270516T133000
DTEND;TZID=America/New_York:20270516T133000
DTSTAMP:20260419T212058
CREATED:20250318T175647Z
LAST-MODIFIED:20250318T175647Z
UID:10016338-1810474200-1810474200@uucv.org
SUMMARY:Kumquats - Joan's House
DESCRIPTION:
URL:https://uucv.org/event/kumquats-joans-house-2/2027-05-16/
LOCATION:Area Homes
END:VEVENT
BEGIN:VEVENT
DTSTART;TZID=America/New_York:20270520T133000
DTEND;TZID=America/New_York:20270520T150000
DTSTAMP:20260419T212058
CREATED:20250626T161019Z
LAST-MODIFIED:20250626T161019Z
UID:10020841-1810819800-1810825200@uucv.org
SUMMARY:Daytimers
DESCRIPTION:
URL:https://uucv.org/event/daytimers/2027-05-20/
LOCATION:Meeting Room
END:VEVENT
BEGIN:VEVENT
DTSTART;TZID=America/New_York:20270520T140000
DTEND;TZID=America/New_York:20270520T160000
DTSTAMP:20260419T212058
CREATED:20250115T181345Z
LAST-MODIFIED:20250115T181345Z
UID:10018727-1810821600-1810828800@uucv.org
SUMMARY:The Divers Small Group
DESCRIPTION:
URL:https://uucv.org/event/gail-mike-small-group-2/2027-05-20/
LOCATION:Youuth Room
END:VEVENT
BEGIN:VEVENT
DTSTART;TZID=America/New_York:20270520T191500
DTEND;TZID=America/New_York:20270520T203000
DTSTAMP:20260419T212058
CREATED:20250829T170618Z
LAST-MODIFIED:20250829T170618Z
UID:10021227-1810840500-1810845000@uucv.org
SUMMARY:Soul Matters Small Group Open to ALL
DESCRIPTION:
URL:https://uucv.org/event/soul-matters-small-group-open-to-all/2027-05-20/
LOCATION:https://zoom.us/my/uucvpa
END:VEVENT
BEGIN:VEVENT
DTSTART;TZID=America/New_York:20270521T163000
DTEND;TZID=America/New_York:20270521T180000
DTSTAMP:20260419T212058
CREATED:20250318T175806Z
LAST-MODIFIED:20250625T181544Z
UID:10020717-1810917000-1810922400@uucv.org
SUMMARY:Namely Women's Group - Area Homes
DESCRIPTION:
URL:https://uucv.org/event/namely-womens-group-backyards-2/2027-05-21/
LOCATION:Area Homes\, PA
CATEGORIES:SGM
END:VEVENT
END:VCALENDAR