BEGIN:VCALENDAR
VERSION:2.0
PRODID:-//Unitarian Universalists of the Cumberland Valley - ECPv6.15.20//NONSGML v1.0//EN
CALSCALE:GREGORIAN
METHOD:PUBLISH
X-ORIGINAL-URL:https://uucv.org
X-WR-CALDESC:Events for Unitarian Universalists of the Cumberland Valley
REFRESH-INTERVAL;VALUE=DURATION:PT1H
X-Robots-Tag:noindex
X-PUBLISHED-TTL:PT1H
BEGIN:VTIMEZONE
TZID:America/New_York
BEGIN:DAYLIGHT
TZOFFSETFROM:-0500
TZOFFSETTO:-0400
TZNAME:EDT
DTSTART:20250309T070000
END:DAYLIGHT
BEGIN:STANDARD
TZOFFSETFROM:-0400
TZOFFSETTO:-0500
TZNAME:EST
DTSTART:20251102T060000
END:STANDARD
BEGIN:DAYLIGHT
TZOFFSETFROM:-0500
TZOFFSETTO:-0400
TZNAME:EDT
DTSTART:20260308T070000
END:DAYLIGHT
BEGIN:STANDARD
TZOFFSETFROM:-0400
TZOFFSETTO:-0500
TZNAME:EST
DTSTART:20261101T060000
END:STANDARD
BEGIN:DAYLIGHT
TZOFFSETFROM:-0500
TZOFFSETTO:-0400
TZNAME:EDT
DTSTART:20270314T070000
END:DAYLIGHT
BEGIN:STANDARD
TZOFFSETFROM:-0400
TZOFFSETTO:-0500
TZNAME:EST
DTSTART:20271107T060000
END:STANDARD
END:VTIMEZONE
BEGIN:VEVENT
DTSTART;TZID=America/New_York:20261125T163000
DTEND;TZID=America/New_York:20261125T170000
DTSTAMP:20260419T132448
CREATED:20241224T152618Z
LAST-MODIFIED:20241224T152619Z
UID:10018162-1795624200-1795626000@uucv.org
SUMMARY:Worship Tech Meeting
DESCRIPTION:
URL:https://uucv.org/event/worship-tech-meeting-2-2-2/2026-11-25/
LOCATION:Board and ZOOM https://zoom.us/my/meetingsuucv 572/887-2212
END:VEVENT
BEGIN:VEVENT
DTSTART;TZID=America/New_York:20261129T090000
DTEND;TZID=America/New_York:20261129T100000
DTSTAMP:20260419T132448
CREATED:20251120T181840Z
LAST-MODIFIED:20251120T181840Z
UID:10021673-1795942800-1795946400@uucv.org
SUMMARY:Roots & Wings Community Meet-Up
DESCRIPTION:
URL:https://uucv.org/event/roots-wings-community-meet-up-2/2026-11-29/
LOCATION:Dining Hall
END:VEVENT
BEGIN:VEVENT
DTSTART;TZID=America/New_York:20261201T194500
DTEND;TZID=America/New_York:20261201T210000
DTSTAMP:20260419T132448
CREATED:20250827T165850Z
LAST-MODIFIED:20250827T165850Z
UID:10021102-1796154300-1796158800@uucv.org
SUMMARY:Worship Leadership Team
DESCRIPTION:
URL:https://uucv.org/event/worship-leadership-team/2026-12-01/
LOCATION:Rev. Phoenix ZOOM
END:VEVENT
BEGIN:VEVENT
DTSTART;TZID=America/New_York:20261203T191500
DTEND;TZID=America/New_York:20261203T203000
DTSTAMP:20260419T132448
CREATED:20250829T170500Z
LAST-MODIFIED:20250829T170713Z
UID:10021162-1796325300-1796329800@uucv.org
SUMMARY:Soul Matters Small Group Open to ALL
DESCRIPTION:
URL:https://uucv.org/event/soul-matters-small-group/2026-12-03/
LOCATION:ZOOM https://zoom.us/my/uucvpa
END:VEVENT
BEGIN:VEVENT
DTSTART;TZID=America/New_York:20261204T180000
DTEND;TZID=America/New_York:20261204T200000
DTSTAMP:20260419T132448
CREATED:20251031T160512Z
LAST-MODIFIED:20251031T160512Z
UID:10021416-1796407200-1796414400@uucv.org
SUMMARY:First Fridays Community Night
DESCRIPTION:
URL:https://uucv.org/event/first-fridays-community-night/2026-12-04/
LOCATION:Dining Room
END:VEVENT
BEGIN:VEVENT
DTSTART;TZID=America/New_York:20261211T120000
DTEND;TZID=America/New_York:20261211T140000
DTSTAMP:20260419T132448
CREATED:20251125T191056Z
LAST-MODIFIED:20251125T191057Z
UID:10021790-1796990400-1796997600@uucv.org
SUMMARY:Soup Matters for All
DESCRIPTION:
URL:https://uucv.org/event/soup-matters-for-all-2/2026-12-11/
LOCATION:Dining Room
END:VEVENT
BEGIN:VEVENT
DTSTART;TZID=America/New_York:20261212T090000
DTEND;TZID=America/New_York:20261212T110000
DTSTAMP:20260419T132448
CREATED:20250910T142406Z
LAST-MODIFIED:20250910T172931Z
UID:10021284-1797066000-1797073200@uucv.org
SUMMARY:Caregivers Circle
DESCRIPTION:
URL:https://uucv.org/event/caregivers-circle-8/2026-12-12/
LOCATION:Youuth Room
END:VEVENT
BEGIN:VEVENT
DTSTART;TZID=America/New_York:20261213T083000
DTEND;TZID=America/New_York:20261213T100000
DTSTAMP:20260419T132448
CREATED:20250827T133907Z
LAST-MODIFIED:20250827T133908Z
UID:10021015-1797150600-1797156000@uucv.org
SUMMARY:Word Weavers Small Group
DESCRIPTION:
URL:https://uucv.org/event/word-weavers-small-group-2/2026-12-13/
LOCATION:Board Room
END:VEVENT
BEGIN:VEVENT
DTSTART;TZID=America/New_York:20261214T193000
DTEND;TZID=America/New_York:20261214T210000
DTSTAMP:20260419T132448
CREATED:20250827T133745Z
LAST-MODIFIED:20250827T133746Z
UID:10020956-1797276600-1797282000@uucv.org
SUMMARY:Finance
DESCRIPTION:
URL:https://uucv.org/event/finance-3-2-2-2/2026-12-14/
LOCATION:Offsite ZOOM
END:VEVENT
BEGIN:VEVENT
DTSTART;TZID=America/New_York:20261215T183000
DTEND;TZID=America/New_York:20261215T203000
DTSTAMP:20260419T132448
CREATED:20250926T182036Z
LAST-MODIFIED:20250926T182037Z
UID:10021350-1797359400-1797366600@uucv.org
SUMMARY:Board of Trustees
DESCRIPTION:
URL:https://uucv.org/event/board-of-trustees-2/2026-12-15/
LOCATION:Board Room and ZOOM https://zoom.us/my/uucvpa
END:VEVENT
BEGIN:VEVENT
DTSTART;TZID=America/New_York:20261216T183000
DTEND;TZID=America/New_York:20261216T200000
DTSTAMP:20260419T132448
CREATED:20250115T174735Z
LAST-MODIFIED:20250626T160726Z
UID:10020778-1797445800-1797451200@uucv.org
SUMMARY:Social Justice Meeting
DESCRIPTION:
URL:https://uucv.org/event/social-justice-meeting-2/2026-12-16/
LOCATION:Board Room and ZOOM https://zoom.us/my/uucvpa
END:VEVENT
BEGIN:VEVENT
DTSTART;TZID=America/New_York:20261216T190000
DTEND;TZID=America/New_York:20261216T210000
DTSTAMP:20260419T132448
CREATED:20250318T175301Z
LAST-MODIFIED:20250318T175301Z
UID:10019734-1797447600-1797454800@uucv.org
SUMMARY:Men's Group
DESCRIPTION:
URL:https://uucv.org/event/mens-group/2026-12-16/
LOCATION:Area Homes
END:VEVENT
BEGIN:VEVENT
DTSTART;TZID=America/New_York:20261220T120000
DTEND;TZID=America/New_York:20261220T130000
DTSTAMP:20260419T132448
CREATED:20251031T161626Z
LAST-MODIFIED:20251031T161626Z
UID:10021598-1797768000-1797771600@uucv.org
SUMMARY:Outreach and Membership Meeting
DESCRIPTION:
URL:https://uucv.org/event/outreach-and-membership-meeting/2026-12-20/
LOCATION:Welcome Center
END:VEVENT
BEGIN:VEVENT
DTSTART;TZID=America/New_York:20261220T120000
DTEND;TZID=America/New_York:20261220T133000
DTSTAMP:20260419T132448
CREATED:20240328T143311Z
LAST-MODIFIED:20240328T143312Z
UID:10017378-1797768000-1797773400@uucv.org
SUMMARY:Worship Associates
DESCRIPTION:
URL:https://uucv.org/event/worship-associates-2/2026-12-20/
LOCATION:Social Hall\, PA\, United States
END:VEVENT
BEGIN:VEVENT
DTSTART;TZID=America/New_York:20261220T133000
DTEND;TZID=America/New_York:20261220T133000
DTSTAMP:20260419T132448
CREATED:20250318T175647Z
LAST-MODIFIED:20250318T175647Z
UID:10016333-1797773400-1797773400@uucv.org
SUMMARY:Kumquats - Joan's House
DESCRIPTION:
URL:https://uucv.org/event/kumquats-joans-house-2/2026-12-20/
LOCATION:Area Homes
END:VEVENT
END:VCALENDAR