BEGIN:VCALENDAR
VERSION:2.0
PRODID:-//Unitarian Universalists of the Cumberland Valley - ECPv6.15.20//NONSGML v1.0//EN
CALSCALE:GREGORIAN
METHOD:PUBLISH
X-WR-CALNAME:Unitarian Universalists of the Cumberland Valley
X-ORIGINAL-URL:https://uucv.org
X-WR-CALDESC:Events for Unitarian Universalists of the Cumberland Valley
REFRESH-INTERVAL;VALUE=DURATION:PT1H
X-Robots-Tag:noindex
X-PUBLISHED-TTL:PT1H
BEGIN:VTIMEZONE
TZID:America/New_York
BEGIN:DAYLIGHT
TZOFFSETFROM:-0500
TZOFFSETTO:-0400
TZNAME:EDT
DTSTART:20290311T070000
END:DAYLIGHT
BEGIN:STANDARD
TZOFFSETFROM:-0400
TZOFFSETTO:-0500
TZNAME:EST
DTSTART:20291104T060000
END:STANDARD
BEGIN:DAYLIGHT
TZOFFSETFROM:-0500
TZOFFSETTO:-0400
TZNAME:EDT
DTSTART:20300310T070000
END:DAYLIGHT
BEGIN:STANDARD
TZOFFSETFROM:-0400
TZOFFSETTO:-0500
TZNAME:EST
DTSTART:20301103T060000
END:STANDARD
BEGIN:DAYLIGHT
TZOFFSETFROM:-0500
TZOFFSETTO:-0400
TZNAME:EDT
DTSTART:20310309T070000
END:DAYLIGHT
BEGIN:STANDARD
TZOFFSETFROM:-0400
TZOFFSETTO:-0500
TZNAME:EST
DTSTART:20311102T060000
END:STANDARD
END:VTIMEZONE
BEGIN:VEVENT
DTSTART;TZID=America/New_York:20300502T191500
DTEND;TZID=America/New_York:20300502T203000
DTSTAMP:20260424T182151
CREATED:20250829T170500Z
LAST-MODIFIED:20250829T170713Z
UID:10021203-1903979700-1903984200@uucv.org
SUMMARY:Soul Matters Small Group Open to ALL
DESCRIPTION:
URL:https://uucv.org/event/soul-matters-small-group/2030-05-02/
LOCATION:ZOOM https://zoom.us/my/uucvpa
END:VEVENT
BEGIN:VEVENT
DTSTART;TZID=America/New_York:20300503T180000
DTEND;TZID=America/New_York:20300503T200000
DTSTAMP:20260424T182151
CREATED:20251031T160512Z
LAST-MODIFIED:20251031T160512Z
UID:10021457-1904061600-1904068800@uucv.org
SUMMARY:First Fridays Community Night
DESCRIPTION:
URL:https://uucv.org/event/first-fridays-community-night/2030-05-03/
LOCATION:Dining Room
END:VEVENT
BEGIN:VEVENT
DTSTART;TZID=America/New_York:20300507T194500
DTEND;TZID=America/New_York:20300507T210000
DTSTAMP:20260424T182151
CREATED:20250827T165850Z
LAST-MODIFIED:20250827T165850Z
UID:10021143-1904413500-1904418000@uucv.org
SUMMARY:Worship Leadership Team
DESCRIPTION:
URL:https://uucv.org/event/worship-leadership-team/2030-05-07/
LOCATION:Rev. Phoenix ZOOM
END:VEVENT
BEGIN:VEVENT
DTSTART;TZID=America/New_York:20300510T120000
DTEND;TZID=America/New_York:20300510T140000
DTSTAMP:20260424T182151
CREATED:20251125T191056Z
LAST-MODIFIED:20251125T191057Z
UID:10021831-1904644800-1904652000@uucv.org
SUMMARY:Soup Matters for All
DESCRIPTION:
URL:https://uucv.org/event/soup-matters-for-all-2/2030-05-10/
LOCATION:Dining Room
END:VEVENT
BEGIN:VEVENT
DTSTART;TZID=America/New_York:20300511T090000
DTEND;TZID=America/New_York:20300511T110000
DTSTAMP:20260424T182151
CREATED:20250910T142406Z
LAST-MODIFIED:20250910T172931Z
UID:10021325-1904720400-1904727600@uucv.org
SUMMARY:Caregivers Circle
DESCRIPTION:
URL:https://uucv.org/event/caregivers-circle-8/2030-05-11/
LOCATION:Youuth Room
END:VEVENT
BEGIN:VEVENT
DTSTART;TZID=America/New_York:20300512T083000
DTEND;TZID=America/New_York:20300512T100000
DTSTAMP:20260424T182151
CREATED:20250827T133907Z
LAST-MODIFIED:20250827T133908Z
UID:10021056-1904805000-1904810400@uucv.org
SUMMARY:Word Weavers Small Group
DESCRIPTION:
URL:https://uucv.org/event/word-weavers-small-group-2/2030-05-12/
LOCATION:Board Room
END:VEVENT
BEGIN:VEVENT
DTSTART;TZID=America/New_York:20300513T193000
DTEND;TZID=America/New_York:20300513T210000
DTSTAMP:20260424T182151
CREATED:20250827T133745Z
LAST-MODIFIED:20250827T133746Z
UID:10020997-1904931000-1904936400@uucv.org
SUMMARY:Finance
DESCRIPTION:
URL:https://uucv.org/event/finance-3-2-2-2/2030-05-13/
LOCATION:Offsite ZOOM
END:VEVENT
END:VCALENDAR