BEGIN:VCALENDAR
VERSION:2.0
PRODID:-//Unitarian Universalists of the Cumberland Valley - ECPv6.15.20//NONSGML v1.0//EN
CALSCALE:GREGORIAN
METHOD:PUBLISH
X-WR-CALNAME:Unitarian Universalists of the Cumberland Valley
X-ORIGINAL-URL:https://uucv.org
X-WR-CALDESC:Events for Unitarian Universalists of the Cumberland Valley
REFRESH-INTERVAL;VALUE=DURATION:PT1H
X-Robots-Tag:noindex
X-PUBLISHED-TTL:PT1H
BEGIN:VTIMEZONE
TZID:America/New_York
BEGIN:DAYLIGHT
TZOFFSETFROM:-0500
TZOFFSETTO:-0400
TZNAME:EDT
DTSTART:20290311T070000
END:DAYLIGHT
BEGIN:STANDARD
TZOFFSETFROM:-0400
TZOFFSETTO:-0500
TZNAME:EST
DTSTART:20291104T060000
END:STANDARD
BEGIN:DAYLIGHT
TZOFFSETFROM:-0500
TZOFFSETTO:-0400
TZNAME:EDT
DTSTART:20300310T070000
END:DAYLIGHT
BEGIN:STANDARD
TZOFFSETFROM:-0400
TZOFFSETTO:-0500
TZNAME:EST
DTSTART:20301103T060000
END:STANDARD
BEGIN:DAYLIGHT
TZOFFSETFROM:-0500
TZOFFSETTO:-0400
TZNAME:EDT
DTSTART:20310309T070000
END:DAYLIGHT
BEGIN:STANDARD
TZOFFSETFROM:-0400
TZOFFSETTO:-0500
TZNAME:EST
DTSTART:20311102T060000
END:STANDARD
END:VTIMEZONE
BEGIN:VEVENT
DTSTART;TZID=America/New_York:20300319T183000
DTEND;TZID=America/New_York:20300319T203000
DTSTAMP:20260424T104916
CREATED:20250926T182036Z
LAST-MODIFIED:20250926T182037Z
UID:10021389-1900175400-1900182600@uucv.org
SUMMARY:Board of Trustees
DESCRIPTION:
URL:https://uucv.org/event/board-of-trustees-2/2030-03-19/
LOCATION:Board Room and ZOOM https://zoom.us/my/uucvpa
END:VEVENT
BEGIN:VEVENT
DTSTART;TZID=America/New_York:20300320T183000
DTEND;TZID=America/New_York:20300320T200000
DTSTAMP:20260424T104916
CREATED:20250115T174735Z
LAST-MODIFIED:20250626T160726Z
UID:10020817-1900261800-1900267200@uucv.org
SUMMARY:Social Justice Meeting
DESCRIPTION:
URL:https://uucv.org/event/social-justice-meeting-2/2030-03-20/
LOCATION:Board Room and ZOOM https://zoom.us/my/uucvpa
END:VEVENT
BEGIN:VEVENT
DTSTART;TZID=America/New_York:20300321T133000
DTEND;TZID=America/New_York:20300321T150000
DTSTAMP:20260424T104916
CREATED:20250626T161019Z
LAST-MODIFIED:20250626T161019Z
UID:10020875-1900330200-1900335600@uucv.org
SUMMARY:Daytimers
DESCRIPTION:
URL:https://uucv.org/event/daytimers/2030-03-21/
LOCATION:Meeting Room
END:VEVENT
BEGIN:VEVENT
DTSTART;TZID=America/New_York:20300321T191500
DTEND;TZID=America/New_York:20300321T203000
DTSTAMP:20260424T104916
CREATED:20250829T170618Z
LAST-MODIFIED:20250829T170618Z
UID:10021261-1900350900-1900355400@uucv.org
SUMMARY:Soul Matters Small Group Open to ALL
DESCRIPTION:
URL:https://uucv.org/event/soul-matters-small-group-open-to-all/2030-03-21/
LOCATION:https://zoom.us/my/uucvpa
END:VEVENT
BEGIN:VEVENT
DTSTART;TZID=America/New_York:20300326T180000
DTEND;TZID=America/New_York:20300326T200000
DTSTAMP:20260424T104916
CREATED:20251031T160914Z
LAST-MODIFIED:20251031T160914Z
UID:10021576-1900778400-1900785600@uucv.org
SUMMARY:COM
DESCRIPTION:
URL:https://uucv.org/event/com/2030-03-26/
LOCATION:Welcome Center
END:VEVENT
BEGIN:VEVENT
DTSTART;TZID=America/New_York:20300402T194500
DTEND;TZID=America/New_York:20300402T210000
DTSTAMP:20260424T104916
CREATED:20250827T165850Z
LAST-MODIFIED:20250827T165850Z
UID:10021142-1901389500-1901394000@uucv.org
SUMMARY:Worship Leadership Team
DESCRIPTION:
URL:https://uucv.org/event/worship-leadership-team/2030-04-02/
LOCATION:Rev. Phoenix ZOOM
END:VEVENT
BEGIN:VEVENT
DTSTART;TZID=America/New_York:20300404T191500
DTEND;TZID=America/New_York:20300404T203000
DTSTAMP:20260424T104916
CREATED:20250829T170500Z
LAST-MODIFIED:20250829T170713Z
UID:10021202-1901560500-1901565000@uucv.org
SUMMARY:Soul Matters Small Group Open to ALL
DESCRIPTION:
URL:https://uucv.org/event/soul-matters-small-group/2030-04-04/
LOCATION:ZOOM https://zoom.us/my/uucvpa
END:VEVENT
BEGIN:VEVENT
DTSTART;TZID=America/New_York:20300405T180000
DTEND;TZID=America/New_York:20300405T200000
DTSTAMP:20260424T104916
CREATED:20251031T160512Z
LAST-MODIFIED:20251031T160512Z
UID:10021456-1901642400-1901649600@uucv.org
SUMMARY:First Fridays Community Night
DESCRIPTION:
URL:https://uucv.org/event/first-fridays-community-night/2030-04-05/
LOCATION:Dining Room
END:VEVENT
END:VCALENDAR