BEGIN:VCALENDAR
VERSION:2.0
PRODID:-//Unitarian Universalists of the Cumberland Valley - ECPv6.15.20//NONSGML v1.0//EN
CALSCALE:GREGORIAN
METHOD:PUBLISH
X-WR-CALNAME:Unitarian Universalists of the Cumberland Valley
X-ORIGINAL-URL:https://uucv.org
X-WR-CALDESC:Events for Unitarian Universalists of the Cumberland Valley
REFRESH-INTERVAL;VALUE=DURATION:PT1H
X-Robots-Tag:noindex
X-PUBLISHED-TTL:PT1H
BEGIN:VTIMEZONE
TZID:America/New_York
BEGIN:DAYLIGHT
TZOFFSETFROM:-0500
TZOFFSETTO:-0400
TZNAME:EDT
DTSTART:20290311T070000
END:DAYLIGHT
BEGIN:STANDARD
TZOFFSETFROM:-0400
TZOFFSETTO:-0500
TZNAME:EST
DTSTART:20291104T060000
END:STANDARD
BEGIN:DAYLIGHT
TZOFFSETFROM:-0500
TZOFFSETTO:-0400
TZNAME:EDT
DTSTART:20300310T070000
END:DAYLIGHT
BEGIN:STANDARD
TZOFFSETFROM:-0400
TZOFFSETTO:-0500
TZNAME:EST
DTSTART:20301103T060000
END:STANDARD
BEGIN:DAYLIGHT
TZOFFSETFROM:-0500
TZOFFSETTO:-0400
TZNAME:EDT
DTSTART:20310309T070000
END:DAYLIGHT
BEGIN:STANDARD
TZOFFSETFROM:-0400
TZOFFSETTO:-0500
TZNAME:EST
DTSTART:20311102T060000
END:STANDARD
END:VTIMEZONE
BEGIN:VEVENT
DTSTART;TZID=America/New_York:20300215T163000
DTEND;TZID=America/New_York:20300215T180000
DTSTAMP:20260424T123352
CREATED:20250318T175806Z
LAST-MODIFIED:20250625T181544Z
UID:10020750-1897403400-1897408800@uucv.org
SUMMARY:Namely Women's Group - Area Homes
DESCRIPTION:
URL:https://uucv.org/event/namely-womens-group-backyards-2/2030-02-15/
LOCATION:Area Homes\, PA
CATEGORIES:SGM
END:VEVENT
BEGIN:VEVENT
DTSTART;TZID=America/New_York:20300217T120000
DTEND;TZID=America/New_York:20300217T130000
DTSTAMP:20260424T123352
CREATED:20251031T161626Z
LAST-MODIFIED:20251031T161626Z
UID:10021636-1897560000-1897563600@uucv.org
SUMMARY:Outreach and Membership Meeting
DESCRIPTION:
URL:https://uucv.org/event/outreach-and-membership-meeting/2030-02-17/
LOCATION:Welcome Center
END:VEVENT
BEGIN:VEVENT
DTSTART;TZID=America/New_York:20300217T133000
DTEND;TZID=America/New_York:20300217T133000
DTSTAMP:20260424T123352
CREATED:20250318T175647Z
LAST-MODIFIED:20250318T175647Z
UID:10019848-1897565400-1897565400@uucv.org
SUMMARY:Kumquats - Joan's House
DESCRIPTION:
URL:https://uucv.org/event/kumquats-joans-house-2/2030-02-17/
LOCATION:Area Homes
END:VEVENT
BEGIN:VEVENT
DTSTART;TZID=America/New_York:20300219T183000
DTEND;TZID=America/New_York:20300219T203000
DTSTAMP:20260424T123352
CREATED:20250926T182036Z
LAST-MODIFIED:20250926T182037Z
UID:10021388-1897756200-1897763400@uucv.org
SUMMARY:Board of Trustees
DESCRIPTION:
URL:https://uucv.org/event/board-of-trustees-2/2030-02-19/
LOCATION:Board Room and ZOOM https://zoom.us/my/uucvpa
END:VEVENT
BEGIN:VEVENT
DTSTART;TZID=America/New_York:20300220T183000
DTEND;TZID=America/New_York:20300220T200000
DTSTAMP:20260424T123352
CREATED:20250115T174735Z
LAST-MODIFIED:20250626T160726Z
UID:10020816-1897842600-1897848000@uucv.org
SUMMARY:Social Justice Meeting
DESCRIPTION:
URL:https://uucv.org/event/social-justice-meeting-2/2030-02-20/
LOCATION:Board Room and ZOOM https://zoom.us/my/uucvpa
END:VEVENT
BEGIN:VEVENT
DTSTART;TZID=America/New_York:20300220T190000
DTEND;TZID=America/New_York:20300220T210000
DTSTAMP:20260424T123352
CREATED:20250318T175301Z
LAST-MODIFIED:20250318T175301Z
UID:10019772-1897844400-1897851600@uucv.org
SUMMARY:Men's Group
DESCRIPTION:
URL:https://uucv.org/event/mens-group/2030-02-20/
LOCATION:Area Homes
END:VEVENT
BEGIN:VEVENT
DTSTART;TZID=America/New_York:20300221T133000
DTEND;TZID=America/New_York:20300221T150000
DTSTAMP:20260424T123352
CREATED:20250626T161019Z
LAST-MODIFIED:20250626T161019Z
UID:10020874-1897911000-1897916400@uucv.org
SUMMARY:Daytimers
DESCRIPTION:
URL:https://uucv.org/event/daytimers/2030-02-21/
LOCATION:Meeting Room
END:VEVENT
BEGIN:VEVENT
DTSTART;TZID=America/New_York:20300221T191500
DTEND;TZID=America/New_York:20300221T203000
DTSTAMP:20260424T123352
CREATED:20250829T170618Z
LAST-MODIFIED:20250829T170618Z
UID:10021260-1897931700-1897936200@uucv.org
SUMMARY:Soul Matters Small Group Open to ALL
DESCRIPTION:
URL:https://uucv.org/event/soul-matters-small-group-open-to-all/2030-02-21/
LOCATION:https://zoom.us/my/uucvpa
END:VEVENT
BEGIN:VEVENT
DTSTART;TZID=America/New_York:20300226T180000
DTEND;TZID=America/New_York:20300226T200000
DTSTAMP:20260424T123352
CREATED:20251031T160914Z
LAST-MODIFIED:20251031T160914Z
UID:10021575-1898359200-1898366400@uucv.org
SUMMARY:COM
DESCRIPTION:
URL:https://uucv.org/event/com/2030-02-26/
LOCATION:Welcome Center
END:VEVENT
END:VCALENDAR