BEGIN:VCALENDAR
VERSION:2.0
PRODID:-//Unitarian Universalists of the Cumberland Valley - ECPv6.15.20//NONSGML v1.0//EN
CALSCALE:GREGORIAN
METHOD:PUBLISH
X-WR-CALNAME:Unitarian Universalists of the Cumberland Valley
X-ORIGINAL-URL:https://uucv.org
X-WR-CALDESC:Events for Unitarian Universalists of the Cumberland Valley
REFRESH-INTERVAL;VALUE=DURATION:PT1H
X-Robots-Tag:noindex
X-PUBLISHED-TTL:PT1H
BEGIN:VTIMEZONE
TZID:America/New_York
BEGIN:DAYLIGHT
TZOFFSETFROM:-0500
TZOFFSETTO:-0400
TZNAME:EDT
DTSTART:20290311T070000
END:DAYLIGHT
BEGIN:STANDARD
TZOFFSETFROM:-0400
TZOFFSETTO:-0500
TZNAME:EST
DTSTART:20291104T060000
END:STANDARD
BEGIN:DAYLIGHT
TZOFFSETFROM:-0500
TZOFFSETTO:-0400
TZNAME:EDT
DTSTART:20300310T070000
END:DAYLIGHT
BEGIN:STANDARD
TZOFFSETFROM:-0400
TZOFFSETTO:-0500
TZNAME:EST
DTSTART:20301103T060000
END:STANDARD
BEGIN:DAYLIGHT
TZOFFSETFROM:-0500
TZOFFSETTO:-0400
TZNAME:EDT
DTSTART:20310309T070000
END:DAYLIGHT
BEGIN:STANDARD
TZOFFSETFROM:-0400
TZOFFSETTO:-0500
TZNAME:EST
DTSTART:20311102T060000
END:STANDARD
END:VTIMEZONE
BEGIN:VEVENT
DTSTART;TZID=America/New_York:20300205T194500
DTEND;TZID=America/New_York:20300205T210000
DTSTAMP:20260424T081049
CREATED:20250827T165850Z
LAST-MODIFIED:20250827T165850Z
UID:10021140-1896551100-1896555600@uucv.org
SUMMARY:Worship Leadership Team
DESCRIPTION:
URL:https://uucv.org/event/worship-leadership-team/2030-02-05/
LOCATION:Rev. Phoenix ZOOM
END:VEVENT
BEGIN:VEVENT
DTSTART;TZID=America/New_York:20300207T191500
DTEND;TZID=America/New_York:20300207T203000
DTSTAMP:20260424T081049
CREATED:20250829T170500Z
LAST-MODIFIED:20250829T170713Z
UID:10021200-1896722100-1896726600@uucv.org
SUMMARY:Soul Matters Small Group Open to ALL
DESCRIPTION:
URL:https://uucv.org/event/soul-matters-small-group/2030-02-07/
LOCATION:ZOOM https://zoom.us/my/uucvpa
END:VEVENT
BEGIN:VEVENT
DTSTART;TZID=America/New_York:20300208T120000
DTEND;TZID=America/New_York:20300208T140000
DTSTAMP:20260424T081049
CREATED:20251125T191056Z
LAST-MODIFIED:20251125T191057Z
UID:10021828-1896782400-1896789600@uucv.org
SUMMARY:Soup Matters for All
DESCRIPTION:
URL:https://uucv.org/event/soup-matters-for-all-2/2030-02-08/
LOCATION:Dining Room
END:VEVENT
BEGIN:VEVENT
DTSTART;TZID=America/New_York:20300209T090000
DTEND;TZID=America/New_York:20300209T110000
DTSTAMP:20260424T081049
CREATED:20250910T142406Z
LAST-MODIFIED:20250910T172931Z
UID:10021322-1896858000-1896865200@uucv.org
SUMMARY:Caregivers Circle
DESCRIPTION:
URL:https://uucv.org/event/caregivers-circle-8/2030-02-09/
LOCATION:Youuth Room
END:VEVENT
BEGIN:VEVENT
DTSTART;TZID=America/New_York:20300210T083000
DTEND;TZID=America/New_York:20300210T100000
DTSTAMP:20260424T081049
CREATED:20250827T133907Z
LAST-MODIFIED:20250827T133908Z
UID:10021053-1896942600-1896948000@uucv.org
SUMMARY:Word Weavers Small Group
DESCRIPTION:
URL:https://uucv.org/event/word-weavers-small-group-2/2030-02-10/
LOCATION:Board Room
END:VEVENT
BEGIN:VEVENT
DTSTART;TZID=America/New_York:20300211T193000
DTEND;TZID=America/New_York:20300211T210000
DTSTAMP:20260424T081049
CREATED:20250827T133745Z
LAST-MODIFIED:20250827T133746Z
UID:10020994-1897068600-1897074000@uucv.org
SUMMARY:Finance
DESCRIPTION:
URL:https://uucv.org/event/finance-3-2-2-2/2030-02-11/
LOCATION:Offsite ZOOM
END:VEVENT
BEGIN:VEVENT
DTSTART;TZID=America/New_York:20300219T183000
DTEND;TZID=America/New_York:20300219T203000
DTSTAMP:20260424T081049
CREATED:20250926T182036Z
LAST-MODIFIED:20250926T182037Z
UID:10021388-1897756200-1897763400@uucv.org
SUMMARY:Board of Trustees
DESCRIPTION:
URL:https://uucv.org/event/board-of-trustees-2/2030-02-19/
LOCATION:Board Room and ZOOM https://zoom.us/my/uucvpa
END:VEVENT
BEGIN:VEVENT
DTSTART;TZID=America/New_York:20300220T183000
DTEND;TZID=America/New_York:20300220T200000
DTSTAMP:20260424T081049
CREATED:20250115T174735Z
LAST-MODIFIED:20250626T160726Z
UID:10020816-1897842600-1897848000@uucv.org
SUMMARY:Social Justice Meeting
DESCRIPTION:
URL:https://uucv.org/event/social-justice-meeting-2/2030-02-20/
LOCATION:Board Room and ZOOM https://zoom.us/my/uucvpa
END:VEVENT
BEGIN:VEVENT
DTSTART;TZID=America/New_York:20300220T190000
DTEND;TZID=America/New_York:20300220T210000
DTSTAMP:20260424T081049
CREATED:20250318T175301Z
LAST-MODIFIED:20250318T175301Z
UID:10019772-1897844400-1897851600@uucv.org
SUMMARY:Men's Group
DESCRIPTION:
URL:https://uucv.org/event/mens-group/2030-02-20/
LOCATION:Area Homes
END:VEVENT
END:VCALENDAR