BEGIN:VCALENDAR
VERSION:2.0
PRODID:-//Unitarian Universalists of the Cumberland Valley - ECPv6.15.20//NONSGML v1.0//EN
CALSCALE:GREGORIAN
METHOD:PUBLISH
X-WR-CALNAME:Unitarian Universalists of the Cumberland Valley
X-ORIGINAL-URL:https://uucv.org
X-WR-CALDESC:Events for Unitarian Universalists of the Cumberland Valley
REFRESH-INTERVAL;VALUE=DURATION:PT1H
X-Robots-Tag:noindex
X-PUBLISHED-TTL:PT1H
BEGIN:VTIMEZONE
TZID:America/New_York
BEGIN:DAYLIGHT
TZOFFSETFROM:-0500
TZOFFSETTO:-0400
TZNAME:EDT
DTSTART:20290311T070000
END:DAYLIGHT
BEGIN:STANDARD
TZOFFSETFROM:-0400
TZOFFSETTO:-0500
TZNAME:EST
DTSTART:20291104T060000
END:STANDARD
BEGIN:DAYLIGHT
TZOFFSETFROM:-0500
TZOFFSETTO:-0400
TZNAME:EDT
DTSTART:20300310T070000
END:DAYLIGHT
BEGIN:STANDARD
TZOFFSETFROM:-0400
TZOFFSETTO:-0500
TZNAME:EST
DTSTART:20301103T060000
END:STANDARD
BEGIN:DAYLIGHT
TZOFFSETFROM:-0500
TZOFFSETTO:-0400
TZNAME:EDT
DTSTART:20310309T070000
END:DAYLIGHT
BEGIN:STANDARD
TZOFFSETFROM:-0400
TZOFFSETTO:-0500
TZNAME:EST
DTSTART:20311102T060000
END:STANDARD
END:VTIMEZONE
BEGIN:VEVENT
DTSTART;TZID=America/New_York:20300117T133000
DTEND;TZID=America/New_York:20300117T150000
DTSTAMP:20260424T075301
CREATED:20250626T161019Z
LAST-MODIFIED:20250626T161019Z
UID:10020873-1894887000-1894892400@uucv.org
SUMMARY:Daytimers
DESCRIPTION:
URL:https://uucv.org/event/daytimers/2030-01-17/
LOCATION:Meeting Room
END:VEVENT
BEGIN:VEVENT
DTSTART;TZID=America/New_York:20300117T191500
DTEND;TZID=America/New_York:20300117T203000
DTSTAMP:20260424T075301
CREATED:20250829T170618Z
LAST-MODIFIED:20250829T170618Z
UID:10021259-1894907700-1894912200@uucv.org
SUMMARY:Soul Matters Small Group Open to ALL
DESCRIPTION:
URL:https://uucv.org/event/soul-matters-small-group-open-to-all/2030-01-17/
LOCATION:https://zoom.us/my/uucvpa
END:VEVENT
BEGIN:VEVENT
DTSTART;TZID=America/New_York:20300118T163000
DTEND;TZID=America/New_York:20300118T180000
DTSTAMP:20260424T075301
CREATED:20250318T175806Z
LAST-MODIFIED:20250625T181544Z
UID:10020749-1894984200-1894989600@uucv.org
SUMMARY:Namely Women's Group - Area Homes
DESCRIPTION:
URL:https://uucv.org/event/namely-womens-group-backyards-2/2030-01-18/
LOCATION:Area Homes\, PA
CATEGORIES:SGM
END:VEVENT
BEGIN:VEVENT
DTSTART;TZID=America/New_York:20300120T090000
DTEND;TZID=America/New_York:20300120T100000
DTSTAMP:20260424T075301
CREATED:20251120T181840Z
LAST-MODIFIED:20251120T181840Z
UID:10021755-1895130000-1895133600@uucv.org
SUMMARY:Roots & Wings Community Meet-Up
DESCRIPTION:
URL:https://uucv.org/event/roots-wings-community-meet-up-2/2030-01-20/
LOCATION:Dining Hall
END:VEVENT
BEGIN:VEVENT
DTSTART;TZID=America/New_York:20300120T120000
DTEND;TZID=America/New_York:20300120T130000
DTSTAMP:20260424T075301
CREATED:20251031T161626Z
LAST-MODIFIED:20251031T161626Z
UID:10021635-1895140800-1895144400@uucv.org
SUMMARY:Outreach and Membership Meeting
DESCRIPTION:
URL:https://uucv.org/event/outreach-and-membership-meeting/2030-01-20/
LOCATION:Welcome Center
END:VEVENT
BEGIN:VEVENT
DTSTART;TZID=America/New_York:20300120T133000
DTEND;TZID=America/New_York:20300120T133000
DTSTAMP:20260424T075301
CREATED:20250318T175647Z
LAST-MODIFIED:20250318T175647Z
UID:10019847-1895146200-1895146200@uucv.org
SUMMARY:Kumquats - Joan's House
DESCRIPTION:
URL:https://uucv.org/event/kumquats-joans-house-2/2030-01-20/
LOCATION:Area Homes
END:VEVENT
BEGIN:VEVENT
DTSTART;TZID=America/New_York:20300122T180000
DTEND;TZID=America/New_York:20300122T200000
DTSTAMP:20260424T075301
CREATED:20251031T160914Z
LAST-MODIFIED:20251031T160914Z
UID:10021574-1895335200-1895342400@uucv.org
SUMMARY:COM
DESCRIPTION:
URL:https://uucv.org/event/com/2030-01-22/
LOCATION:Welcome Center
END:VEVENT
BEGIN:VEVENT
DTSTART;TZID=America/New_York:20300201T180000
DTEND;TZID=America/New_York:20300201T200000
DTSTAMP:20260424T075301
CREATED:20251031T160512Z
LAST-MODIFIED:20251031T160512Z
UID:10021454-1896199200-1896206400@uucv.org
SUMMARY:First Fridays Community Night
DESCRIPTION:
URL:https://uucv.org/event/first-fridays-community-night/2030-02-01/
LOCATION:Dining Room
END:VEVENT
BEGIN:VEVENT
DTSTART;TZID=America/New_York:20300205T194500
DTEND;TZID=America/New_York:20300205T210000
DTSTAMP:20260424T075301
CREATED:20250827T165850Z
LAST-MODIFIED:20250827T165850Z
UID:10021140-1896551100-1896555600@uucv.org
SUMMARY:Worship Leadership Team
DESCRIPTION:
URL:https://uucv.org/event/worship-leadership-team/2030-02-05/
LOCATION:Rev. Phoenix ZOOM
END:VEVENT
BEGIN:VEVENT
DTSTART;TZID=America/New_York:20300207T191500
DTEND;TZID=America/New_York:20300207T203000
DTSTAMP:20260424T075301
CREATED:20250829T170500Z
LAST-MODIFIED:20250829T170713Z
UID:10021200-1896722100-1896726600@uucv.org
SUMMARY:Soul Matters Small Group Open to ALL
DESCRIPTION:
URL:https://uucv.org/event/soul-matters-small-group/2030-02-07/
LOCATION:ZOOM https://zoom.us/my/uucvpa
END:VEVENT
END:VCALENDAR