BEGIN:VCALENDAR
VERSION:2.0
PRODID:-//Unitarian Universalists of the Cumberland Valley - ECPv6.15.20//NONSGML v1.0//EN
CALSCALE:GREGORIAN
METHOD:PUBLISH
X-WR-CALNAME:Unitarian Universalists of the Cumberland Valley
X-ORIGINAL-URL:https://uucv.org
X-WR-CALDESC:Events for Unitarian Universalists of the Cumberland Valley
REFRESH-INTERVAL;VALUE=DURATION:PT1H
X-Robots-Tag:noindex
X-PUBLISHED-TTL:PT1H
BEGIN:VTIMEZONE
TZID:America/New_York
BEGIN:DAYLIGHT
TZOFFSETFROM:-0500
TZOFFSETTO:-0400
TZNAME:EDT
DTSTART:20280312T070000
END:DAYLIGHT
BEGIN:STANDARD
TZOFFSETFROM:-0400
TZOFFSETTO:-0500
TZNAME:EST
DTSTART:20281105T060000
END:STANDARD
BEGIN:DAYLIGHT
TZOFFSETFROM:-0500
TZOFFSETTO:-0400
TZNAME:EDT
DTSTART:20290311T070000
END:DAYLIGHT
BEGIN:STANDARD
TZOFFSETFROM:-0400
TZOFFSETTO:-0500
TZNAME:EST
DTSTART:20291104T060000
END:STANDARD
BEGIN:DAYLIGHT
TZOFFSETFROM:-0500
TZOFFSETTO:-0400
TZNAME:EDT
DTSTART:20300310T070000
END:DAYLIGHT
BEGIN:STANDARD
TZOFFSETFROM:-0400
TZOFFSETTO:-0500
TZNAME:EST
DTSTART:20301103T060000
END:STANDARD
END:VTIMEZONE
BEGIN:VEVENT
DTSTART;TZID=America/New_York:20291115T140000
DTEND;TZID=America/New_York:20291115T160000
DTSTAMP:20260423T184921
CREATED:20250115T181345Z
LAST-MODIFIED:20250115T181345Z
UID:10018757-1889445600-1889452800@uucv.org
SUMMARY:The Divers Small Group
DESCRIPTION:
URL:https://uucv.org/event/gail-mike-small-group-2/2029-11-15/
LOCATION:Youuth Room
END:VEVENT
BEGIN:VEVENT
DTSTART;TZID=America/New_York:20291115T184500
DTEND;TZID=America/New_York:20291115T204500
DTSTAMP:20260423T184921
CREATED:20250122T160647Z
LAST-MODIFIED:20250122T160648Z
UID:10019009-1889462700-1889469900@uucv.org
SUMMARY:UUCV Music Small Group
DESCRIPTION:
URL:https://uucv.org/event/uucv-music-small-group-2-2/2029-11-15/
LOCATION:Mary and Matts
END:VEVENT
BEGIN:VEVENT
DTSTART;TZID=America/New_York:20291115T191500
DTEND;TZID=America/New_York:20291115T203000
DTSTAMP:20260423T184921
CREATED:20250829T170618Z
LAST-MODIFIED:20250829T170618Z
UID:10021257-1889464500-1889469000@uucv.org
SUMMARY:Soul Matters Small Group Open to ALL
DESCRIPTION:
URL:https://uucv.org/event/soul-matters-small-group-open-to-all/2029-11-15/
LOCATION:https://zoom.us/my/uucvpa
END:VEVENT
BEGIN:VEVENT
DTSTART;TZID=America/New_York:20291116T163000
DTEND;TZID=America/New_York:20291116T180000
DTSTAMP:20260423T184921
CREATED:20250318T175806Z
LAST-MODIFIED:20250625T181544Z
UID:10020747-1889541000-1889546400@uucv.org
SUMMARY:Namely Women's Group - Area Homes
DESCRIPTION:
URL:https://uucv.org/event/namely-womens-group-backyards-2/2029-11-16/
LOCATION:Area Homes\, PA
CATEGORIES:SGM
END:VEVENT
BEGIN:VEVENT
DTSTART;TZID=America/New_York:20291118T120000
DTEND;TZID=America/New_York:20291118T130000
DTSTAMP:20260423T184921
CREATED:20251031T161626Z
LAST-MODIFIED:20251031T161626Z
UID:10021633-1889697600-1889701200@uucv.org
SUMMARY:Outreach and Membership Meeting
DESCRIPTION:
URL:https://uucv.org/event/outreach-and-membership-meeting/2029-11-18/
LOCATION:Welcome Center
END:VEVENT
BEGIN:VEVENT
DTSTART;TZID=America/New_York:20291118T133000
DTEND;TZID=America/New_York:20291118T133000
DTSTAMP:20260423T184921
CREATED:20250318T175647Z
LAST-MODIFIED:20250318T175647Z
UID:10019845-1889703000-1889703000@uucv.org
SUMMARY:Kumquats - Joan's House
DESCRIPTION:
URL:https://uucv.org/event/kumquats-joans-house-2/2029-11-18/
LOCATION:Area Homes
END:VEVENT
BEGIN:VEVENT
DTSTART;TZID=America/New_York:20291120T183000
DTEND;TZID=America/New_York:20291120T203000
DTSTAMP:20260423T184921
CREATED:20250926T182036Z
LAST-MODIFIED:20250926T182037Z
UID:10021385-1889893800-1889901000@uucv.org
SUMMARY:Board of Trustees
DESCRIPTION:
URL:https://uucv.org/event/board-of-trustees-2/2029-11-20/
LOCATION:Board Room and ZOOM https://zoom.us/my/uucvpa
END:VEVENT
BEGIN:VEVENT
DTSTART;TZID=America/New_York:20291121T183000
DTEND;TZID=America/New_York:20291121T200000
DTSTAMP:20260423T184921
CREATED:20250115T174735Z
LAST-MODIFIED:20250626T160726Z
UID:10020813-1889980200-1889985600@uucv.org
SUMMARY:Social Justice Meeting
DESCRIPTION:
URL:https://uucv.org/event/social-justice-meeting-2/2029-11-21/
LOCATION:Board Room and ZOOM https://zoom.us/my/uucvpa
END:VEVENT
BEGIN:VEVENT
DTSTART;TZID=America/New_York:20291121T190000
DTEND;TZID=America/New_York:20291121T210000
DTSTAMP:20260423T184921
CREATED:20250318T175301Z
LAST-MODIFIED:20250318T175301Z
UID:10019769-1889982000-1889989200@uucv.org
SUMMARY:Men's Group
DESCRIPTION:
URL:https://uucv.org/event/mens-group/2029-11-21/
LOCATION:Area Homes
END:VEVENT
BEGIN:VEVENT
DTSTART;TZID=America/New_York:20291125T183000
DTEND;TZID=America/New_York:20291125T203000
DTSTAMP:20260423T184921
CREATED:20250115T181530Z
LAST-MODIFIED:20250115T181546Z
UID:10018817-1890325800-1890333000@uucv.org
SUMMARY:UUCV Book Group
DESCRIPTION:
URL:https://uucv.org/event/uucv-book-group-5/2029-11-25/
LOCATION:ZOOM https://zoom.us/my/uucvpa
END:VEVENT
BEGIN:VEVENT
DTSTART;TZID=America/New_York:20291127T180000
DTEND;TZID=America/New_York:20291127T200000
DTSTAMP:20260423T184921
CREATED:20251031T160914Z
LAST-MODIFIED:20251031T160914Z
UID:10021572-1890496800-1890504000@uucv.org
SUMMARY:COM
DESCRIPTION:
URL:https://uucv.org/event/com/2029-11-27/
LOCATION:Welcome Center
END:VEVENT
BEGIN:VEVENT
DTSTART;TZID=America/New_York:20291206T191500
DTEND;TZID=America/New_York:20291206T203000
DTSTAMP:20260423T184921
CREATED:20250829T170500Z
LAST-MODIFIED:20250829T170713Z
UID:10021198-1891278900-1891283400@uucv.org
SUMMARY:Soul Matters Small Group Open to ALL
DESCRIPTION:
URL:https://uucv.org/event/soul-matters-small-group/2029-12-06/
LOCATION:ZOOM https://zoom.us/my/uucvpa
END:VEVENT
BEGIN:VEVENT
DTSTART;TZID=America/New_York:20291207T180000
DTEND;TZID=America/New_York:20291207T200000
DTSTAMP:20260423T184921
CREATED:20251031T160512Z
LAST-MODIFIED:20251031T160512Z
UID:10021452-1891360800-1891368000@uucv.org
SUMMARY:First Fridays Community Night
DESCRIPTION:
URL:https://uucv.org/event/first-fridays-community-night/2029-12-07/
LOCATION:Dining Room
END:VEVENT
END:VCALENDAR