BEGIN:VCALENDAR
VERSION:2.0
PRODID:-//Unitarian Universalists of the Cumberland Valley - ECPv6.15.20//NONSGML v1.0//EN
CALSCALE:GREGORIAN
METHOD:PUBLISH
X-WR-CALNAME:Unitarian Universalists of the Cumberland Valley
X-ORIGINAL-URL:https://uucv.org
X-WR-CALDESC:Events for Unitarian Universalists of the Cumberland Valley
REFRESH-INTERVAL;VALUE=DURATION:PT1H
X-Robots-Tag:noindex
X-PUBLISHED-TTL:PT1H
BEGIN:VTIMEZONE
TZID:America/New_York
BEGIN:DAYLIGHT
TZOFFSETFROM:-0500
TZOFFSETTO:-0400
TZNAME:EDT
DTSTART:20280312T070000
END:DAYLIGHT
BEGIN:STANDARD
TZOFFSETFROM:-0400
TZOFFSETTO:-0500
TZNAME:EST
DTSTART:20281105T060000
END:STANDARD
BEGIN:DAYLIGHT
TZOFFSETFROM:-0500
TZOFFSETTO:-0400
TZNAME:EDT
DTSTART:20290311T070000
END:DAYLIGHT
BEGIN:STANDARD
TZOFFSETFROM:-0400
TZOFFSETTO:-0500
TZNAME:EST
DTSTART:20291104T060000
END:STANDARD
BEGIN:DAYLIGHT
TZOFFSETFROM:-0500
TZOFFSETTO:-0400
TZNAME:EDT
DTSTART:20300310T070000
END:DAYLIGHT
BEGIN:STANDARD
TZOFFSETFROM:-0400
TZOFFSETTO:-0500
TZNAME:EST
DTSTART:20301103T060000
END:STANDARD
END:VTIMEZONE
BEGIN:VEVENT
DTSTART;TZID=America/New_York:20290708T083000
DTEND;TZID=America/New_York:20290708T100000
DTSTAMP:20260423T031954
CREATED:20250827T133907Z
LAST-MODIFIED:20250827T133908Z
UID:10021046-1878193800-1878199200@uucv.org
SUMMARY:Word Weavers Small Group
DESCRIPTION:
URL:https://uucv.org/event/word-weavers-small-group-2/2029-07-08/
LOCATION:Board Room
END:VEVENT
BEGIN:VEVENT
DTSTART;TZID=America/New_York:20290709T193000
DTEND;TZID=America/New_York:20290709T210000
DTSTAMP:20260423T031954
CREATED:20250827T133745Z
LAST-MODIFIED:20250827T133746Z
UID:10020987-1878319800-1878325200@uucv.org
SUMMARY:Finance
DESCRIPTION:
URL:https://uucv.org/event/finance-3-2-2-2/2029-07-09/
LOCATION:Offsite ZOOM
END:VEVENT
BEGIN:VEVENT
DTSTART;TZID=America/New_York:20290713T120000
DTEND;TZID=America/New_York:20290713T140000
DTSTAMP:20260423T031954
CREATED:20251125T191056Z
LAST-MODIFIED:20251125T191057Z
UID:10021821-1878638400-1878645600@uucv.org
SUMMARY:Soup Matters for All
DESCRIPTION:
URL:https://uucv.org/event/soup-matters-for-all-2/2029-07-13/
LOCATION:Dining Room
END:VEVENT
BEGIN:VEVENT
DTSTART;TZID=America/New_York:20290714T090000
DTEND;TZID=America/New_York:20290714T110000
DTSTAMP:20260423T031954
CREATED:20250910T142406Z
LAST-MODIFIED:20250910T172931Z
UID:10021315-1878714000-1878721200@uucv.org
SUMMARY:Caregivers Circle
DESCRIPTION:
URL:https://uucv.org/event/caregivers-circle-8/2029-07-14/
LOCATION:Youuth Room
END:VEVENT
BEGIN:VEVENT
DTSTART;TZID=America/New_York:20290715T120000
DTEND;TZID=America/New_York:20290715T130000
DTSTAMP:20260423T031954
CREATED:20251031T161626Z
LAST-MODIFIED:20251031T161626Z
UID:10021629-1878811200-1878814800@uucv.org
SUMMARY:Outreach and Membership Meeting
DESCRIPTION:
URL:https://uucv.org/event/outreach-and-membership-meeting/2029-07-15/
LOCATION:Welcome Center
END:VEVENT
BEGIN:VEVENT
DTSTART;TZID=America/New_York:20290715T133000
DTEND;TZID=America/New_York:20290715T133000
DTSTAMP:20260423T031955
CREATED:20250318T175647Z
LAST-MODIFIED:20250318T175647Z
UID:10019841-1878816600-1878816600@uucv.org
SUMMARY:Kumquats - Joan's House
DESCRIPTION:
URL:https://uucv.org/event/kumquats-joans-house-2/2029-07-15/
LOCATION:Area Homes
END:VEVENT
BEGIN:VEVENT
DTSTART;TZID=America/New_York:20290717T183000
DTEND;TZID=America/New_York:20290717T203000
DTSTAMP:20260423T031955
CREATED:20250926T182036Z
LAST-MODIFIED:20250926T182037Z
UID:10021381-1879007400-1879014600@uucv.org
SUMMARY:Board of Trustees
DESCRIPTION:
URL:https://uucv.org/event/board-of-trustees-2/2029-07-17/
LOCATION:Board Room and ZOOM https://zoom.us/my/uucvpa
END:VEVENT
BEGIN:VEVENT
DTSTART;TZID=America/New_York:20290718T183000
DTEND;TZID=America/New_York:20290718T200000
DTSTAMP:20260423T031955
CREATED:20250115T174735Z
LAST-MODIFIED:20250626T160726Z
UID:10020809-1879093800-1879099200@uucv.org
SUMMARY:Social Justice Meeting
DESCRIPTION:
URL:https://uucv.org/event/social-justice-meeting-2/2029-07-18/
LOCATION:Board Room and ZOOM https://zoom.us/my/uucvpa
END:VEVENT
BEGIN:VEVENT
DTSTART;TZID=America/New_York:20290718T190000
DTEND;TZID=America/New_York:20290718T210000
DTSTAMP:20260423T031955
CREATED:20250318T175301Z
LAST-MODIFIED:20250318T175301Z
UID:10019765-1879095600-1879102800@uucv.org
SUMMARY:Men's Group
DESCRIPTION:
URL:https://uucv.org/event/mens-group/2029-07-18/
LOCATION:Area Homes
END:VEVENT
BEGIN:VEVENT
DTSTART;TZID=America/New_York:20290719T133000
DTEND;TZID=America/New_York:20290719T150000
DTSTAMP:20260423T031955
CREATED:20250626T161019Z
LAST-MODIFIED:20250626T161019Z
UID:10020867-1879162200-1879167600@uucv.org
SUMMARY:Daytimers
DESCRIPTION:
URL:https://uucv.org/event/daytimers/2029-07-19/
LOCATION:Meeting Room
END:VEVENT
BEGIN:VEVENT
DTSTART;TZID=America/New_York:20290719T140000
DTEND;TZID=America/New_York:20290719T160000
DTSTAMP:20260423T031955
CREATED:20250115T181345Z
LAST-MODIFIED:20250115T181345Z
UID:10018753-1879164000-1879171200@uucv.org
SUMMARY:The Divers Small Group
DESCRIPTION:
URL:https://uucv.org/event/gail-mike-small-group-2/2029-07-19/
LOCATION:Youuth Room
END:VEVENT
BEGIN:VEVENT
DTSTART;TZID=America/New_York:20290719T191500
DTEND;TZID=America/New_York:20290719T203000
DTSTAMP:20260423T031955
CREATED:20250829T170618Z
LAST-MODIFIED:20250829T170618Z
UID:10021253-1879182900-1879187400@uucv.org
SUMMARY:Soul Matters Small Group Open to ALL
DESCRIPTION:
URL:https://uucv.org/event/soul-matters-small-group-open-to-all/2029-07-19/
LOCATION:https://zoom.us/my/uucvpa
END:VEVENT
BEGIN:VEVENT
DTSTART;TZID=America/New_York:20290720T163000
DTEND;TZID=America/New_York:20290720T180000
DTSTAMP:20260423T031955
CREATED:20250318T175806Z
LAST-MODIFIED:20250625T181544Z
UID:10020743-1879259400-1879264800@uucv.org
SUMMARY:Namely Women's Group - Area Homes
DESCRIPTION:
URL:https://uucv.org/event/namely-womens-group-backyards-2/2029-07-20/
LOCATION:Area Homes\, PA
CATEGORIES:SGM
END:VEVENT
END:VCALENDAR